BEGIN:VCALENDAR
VERSION:2.0
PRODID:-//Fine Arts Center - ECPv6.13.0//NONSGML v1.0//EN
CALSCALE:GREGORIAN
METHOD:PUBLISH
X-WR-CALNAME:Fine Arts Center
X-ORIGINAL-URL:https://devfac.coloradocollege.edu
X-WR-CALDESC:Events for Fine Arts Center
REFRESH-INTERVAL;VALUE=DURATION:PT1H
X-Robots-Tag:noindex
X-PUBLISHED-TTL:PT1H
BEGIN:VTIMEZONE
TZID:America/Denver
BEGIN:DAYLIGHT
TZOFFSETFROM:-0700
TZOFFSETTO:-0600
TZNAME:MDT
DTSTART:20230312T090000
END:DAYLIGHT
BEGIN:STANDARD
TZOFFSETFROM:-0600
TZOFFSETTO:-0700
TZNAME:MST
DTSTART:20231105T080000
END:STANDARD
END:VTIMEZONE
BEGIN:VEVENT
DTSTART;TZID=America/Denver:20230609T173000
DTEND;TZID=America/Denver:20230609T193000
DTSTAMP:20260423T203500
CREATED:20230511T182627Z
LAST-MODIFIED:20230605T202639Z
UID:32054-1686331800-1686339000@devfac.coloradocollege.edu
SUMMARY:Brushes & Bubbles
DESCRIPTION:Calling beginner watercolor artists! Do you want to dive into portraiture\, but feel a little nervous? Brushes & Bubbles is for you! Sophia Hanna is a local artist with over ten years of watercolor experience\, and she wants to share that with you in a relaxed environment. We know how it feels to try something new\, that’s why this is a condensed evening workshop\, with drinks! \nSpace is limited. $20 (FAC members $18)\nDrinks available for purchase. Credit card only. \nRegister for BRUSHES & BUBBLES \nBrowse all summer classes and workshops at the FAC’s Bemis School of Art. 
URL:https://devfac.coloradocollege.edu/event/brushes-bubbles/
LOCATION:Fine Arts Center\, 30 W. Dale St.\, Colorado Springs\, CO\, 80903\, United States
CATEGORIES:Art School,Special Event
ATTACH;FMTTYPE=image/jpeg:https://devfac.coloradocollege.edu/wp-content/uploads/2023/05/1080x1080_brushes-bubblesr-e1683927242753.jpg
END:VEVENT
END:VCALENDAR