BEGIN:VCALENDAR
VERSION:2.0
PRODID:-//Fine Arts Center - ECPv6.13.0//NONSGML v1.0//EN
CALSCALE:GREGORIAN
METHOD:PUBLISH
X-WR-CALNAME:Fine Arts Center
X-ORIGINAL-URL:https://devfac.coloradocollege.edu
X-WR-CALDESC:Events for Fine Arts Center
REFRESH-INTERVAL;VALUE=DURATION:PT1H
X-Robots-Tag:noindex
X-PUBLISHED-TTL:PT1H
BEGIN:VTIMEZONE
TZID:America/Denver
BEGIN:DAYLIGHT
TZOFFSETFROM:-0700
TZOFFSETTO:-0600
TZNAME:MDT
DTSTART:20200308T090000
END:DAYLIGHT
BEGIN:STANDARD
TZOFFSETFROM:-0600
TZOFFSETTO:-0700
TZNAME:MST
DTSTART:20201101T080000
END:STANDARD
END:VTIMEZONE
BEGIN:VEVENT
DTSTART;TZID=America/Denver:20200615T090000
DTEND;TZID=America/Denver:20200615T120000
DTSTAMP:20260419T154823
CREATED:20190318T160808Z
LAST-MODIFIED:20200618T141822Z
UID:8310-1592211600-1592222400@devfac.coloradocollege.edu
SUMMARY:Emerging Artists
DESCRIPTION:The Best of Both Worlds — Musical Theatre and Creating Characters. \nThe fundamentals of theatre will be explored in this fun and collaborative virtual class!  No day will be the same as we take a deep dive into different theatrical themes. Acting\, dancing\, design\, playwriting and collaboration are just the tip of the iceberg for this high-energy and interactive class. Registration for this camp includes “FAC imagine packs” that will be delivered right to your door! Ages 8-10
URL:https://devfac.coloradocollege.edu/event/emerging-artists/
LOCATION:Virtual
CATEGORIES:Theatre
ATTACH;FMTTYPE=image/jpeg:https://devfac.coloradocollege.edu/wp-content/uploads/2019/03/emerging-artists_500-2.jpg
END:VEVENT
BEGIN:VEVENT
DTSTART;TZID=America/Denver:20200615T090000
DTEND;TZID=America/Denver:20200615T120000
DTSTAMP:20260419T154823
CREATED:20190318T160827Z
LAST-MODIFIED:20200618T141626Z
UID:8341-1592211600-1592222400@devfac.coloradocollege.edu
SUMMARY:Emerging Artists: Advanced Theatre
DESCRIPTION:Rising theatre stars take note!  This virtual class is designed for students who yearn to further develop their love and skills for the theatrical art form.  Daily theme exploration will allow these students to get a three-dimensional view of performing and creating.  Collaboration will be key to the work that we do. Registration for this camp includes “FAC imagine packs” that will be delivered right to your door! Ages 11-13
URL:https://devfac.coloradocollege.edu/event/emerging-artists-advanced-theatre/
LOCATION:Virtual
CATEGORIES:Theatre
ATTACH;FMTTYPE=image/jpeg:https://devfac.coloradocollege.edu/wp-content/uploads/2019/03/emerging-artists_500.jpg
END:VEVENT
END:VCALENDAR