BEGIN:VCALENDAR
VERSION:2.0
PRODID:-//Fine Arts Center - ECPv6.13.0//NONSGML v1.0//EN
CALSCALE:GREGORIAN
METHOD:PUBLISH
X-WR-CALNAME:Fine Arts Center
X-ORIGINAL-URL:https://devfac.coloradocollege.edu
X-WR-CALDESC:Events for Fine Arts Center
REFRESH-INTERVAL;VALUE=DURATION:PT1H
X-Robots-Tag:noindex
X-PUBLISHED-TTL:PT1H
BEGIN:VTIMEZONE
TZID:America/Denver
BEGIN:DAYLIGHT
TZOFFSETFROM:-0700
TZOFFSETTO:-0600
TZNAME:MDT
DTSTART:20230312T090000
END:DAYLIGHT
BEGIN:STANDARD
TZOFFSETFROM:-0600
TZOFFSETTO:-0700
TZNAME:MST
DTSTART:20231105T080000
END:STANDARD
END:VTIMEZONE
BEGIN:VEVENT
DTSTART;TZID=America/Denver:20231101T160000
DTEND;TZID=America/Denver:20231101T200000
DTSTAMP:20260425T072214
CREATED:20220901T200231Z
LAST-MODIFIED:20231005T190719Z
UID:30063-1698854400-1698868800@devfac.coloradocollege.edu
SUMMARY:Día de Muertos Celebration
DESCRIPTION:Join us for a special community gathering for Día de Muertos\, a celebration of life that demonstrates remembrance\, love\, and respect for those who have gone before us. Contribute to a community ofrenda\, watch live music and performances on the mainstage theatre\, engage with hands-on art activities\, see ofrendas created by local school and community groups\, and more! \nThis event is free and open to the public. \nLearn More About our Día de Muertos celebration \nPhoto: Grupo Folklórico Sabor Latino of Denver perform during a Dia de los Muertos event at the FAC on Tuesday\, November 2\, 2021. Photo by Lonnie Timmons III / Colorado College.
URL:https://devfac.coloradocollege.edu/event/dia-de-muertos-celebration/
LOCATION:Fine Arts Center\, 30 W. Dale St.\, Colorado Springs\, CO\, 80903\, United States
CATEGORIES:Special Event
ATTACH;FMTTYPE=image/jpeg:https://devfac.coloradocollege.edu/wp-content/uploads/2022/09/1080x1080_dia-e1662062393642.jpg
END:VEVENT
END:VCALENDAR