BEGIN:VCALENDAR
VERSION:2.0
PRODID:-//Fine Arts Center - ECPv6.13.0//NONSGML v1.0//EN
CALSCALE:GREGORIAN
METHOD:PUBLISH
X-WR-CALNAME:Fine Arts Center
X-ORIGINAL-URL:https://devfac.coloradocollege.edu
X-WR-CALDESC:Events for Fine Arts Center
REFRESH-INTERVAL;VALUE=DURATION:PT1H
X-Robots-Tag:noindex
X-PUBLISHED-TTL:PT1H
BEGIN:VTIMEZONE
TZID:America/Denver
BEGIN:DAYLIGHT
TZOFFSETFROM:-0700
TZOFFSETTO:-0600
TZNAME:MDT
DTSTART:20230312T090000
END:DAYLIGHT
BEGIN:STANDARD
TZOFFSETFROM:-0600
TZOFFSETTO:-0700
TZNAME:MST
DTSTART:20231105T080000
END:STANDARD
END:VTIMEZONE
BEGIN:VEVENT
DTSTART;TZID=America/Denver:20231006T170000
DTEND;TZID=America/Denver:20231006T200000
DTSTAMP:20260425T072204
CREATED:20230920T155954Z
LAST-MODIFIED:20230920T155954Z
UID:33145-1696611600-1696622400@devfac.coloradocollege.edu
SUMMARY:First Friday Art Party
DESCRIPTION:Join us for our First Friday celebration from 5–8 p.m. Enjoy the stunning ambiance offered by the FAC’s chic\, historic venue. \n\n\n\n\n\nFREE museum admission\nArt in Deco Lounge by Adana Dysart\nMusic by Jeremiah Walter\nDrinks and snacks available for purchase\nFREE downtown shuttle\, THE ZEB\, running along Tejon Street to downtown art galleries\n\n\n\n\n\nJeremiah Walter is a multi-instrumentalist folk musician and songwriter who has been performing for over 25 years as a solo artist and in bands such as The Rogue Spirits\, Buster’s Tangent\, and Intake. He utilizes a collection of instruments from around the world to enhance original and traditional songs\, some of which can be found at jeremiahwalter.bandcamp.com. 
URL:https://devfac.coloradocollege.edu/event/first-friday-art-party-9/
LOCATION:Fine Arts Center\, 30 W. Dale St.\, Colorado Springs\, CO\, 80903\, United States
CATEGORIES:Museum,Special Event
ATTACH;FMTTYPE=image/jpeg:https://devfac.coloradocollege.edu/wp-content/uploads/2023/09/Jeremiah-Walter.jpg
END:VEVENT
END:VCALENDAR