BEGIN:VCALENDAR
VERSION:2.0
PRODID:-//Fine Arts Center - ECPv6.13.0//NONSGML v1.0//EN
CALSCALE:GREGORIAN
METHOD:PUBLISH
X-WR-CALNAME:Fine Arts Center
X-ORIGINAL-URL:https://devfac.coloradocollege.edu
X-WR-CALDESC:Events for Fine Arts Center
REFRESH-INTERVAL;VALUE=DURATION:PT1H
X-Robots-Tag:noindex
X-PUBLISHED-TTL:PT1H
BEGIN:VTIMEZONE
TZID:America/Denver
BEGIN:DAYLIGHT
TZOFFSETFROM:-0700
TZOFFSETTO:-0600
TZNAME:MDT
DTSTART:20230312T090000
END:DAYLIGHT
BEGIN:STANDARD
TZOFFSETFROM:-0600
TZOFFSETTO:-0700
TZNAME:MST
DTSTART:20231105T080000
END:STANDARD
END:VTIMEZONE
BEGIN:VEVENT
DTSTART;TZID=America/Denver:20230804T170000
DTEND;TZID=America/Denver:20230804T200000
DTSTAMP:20260422T155204
CREATED:20230726T233855Z
LAST-MODIFIED:20230731T152521Z
UID:32575-1691168400-1691179200@devfac.coloradocollege.edu
SUMMARY:First Friday Art Party
DESCRIPTION:Join us for our First Friday celebration from 5–8 p.m. Enjoy the stunning ambiance offered by this chic\, historic venue. \n\nFREE museum admission\nNew art in Deco Lounge by Ian Stewart\nMusic by Jevíon Íce and the Íce Cubes (Alternative and Neo soul — four piece band with guitar\, bass\, piano\, and bango drums)\nFREE downtown shuttle\, THE ZEB\, running along Tejon Street to downtown art galleries
URL:https://devfac.coloradocollege.edu/event/first-friday-art-party-7/
LOCATION:Fine Arts Center\, 30 W. Dale St.\, Colorado Springs\, CO\, 80903\, United States
CATEGORIES:Special Event
ATTACH;FMTTYPE=image/jpeg:https://devfac.coloradocollege.edu/wp-content/uploads/2023/07/Jevíon-Íce-and-the-Íce-Cubes_500.jpg
END:VEVENT
BEGIN:VEVENT
DTSTART;TZID=America/Denver:20230805T120000
DTEND;TZID=America/Denver:20230805T130000
DTSTAMP:20260422T155204
CREATED:20230719T161715Z
LAST-MODIFIED:20230727T211422Z
UID:32447-1691236800-1691240400@devfac.coloradocollege.edu
SUMMARY:FAC Member Tour: Krista Franklin
DESCRIPTION:August Member Tour | Saturday August 5\, 12 p.m. \nJoin Katja Rivera\, Curator of Contemporary Art\, for a tour of the exhibition Solo(s): Krista Franklin\, which draws on the artist’s vast range of materials and references\, situated at the intersection of poetics\, popular culture\, and the dynamic histories of the African Diaspora. This exhibition brings together for the first time the artist’s “cover art” collages\, made for books and vinyl records.\nRSVP for tour
URL:https://devfac.coloradocollege.edu/event/fac-member-tour-krista-franklin/
LOCATION:Fine Arts Center\, 30 W. Dale St.\, Colorado Springs\, CO\, 80903\, United States
CATEGORIES:Museum,Special Event
ATTACH;FMTTYPE=image/jpeg:https://devfac.coloradocollege.edu/wp-content/uploads/2023/07/Krista-Franklin_500.jpg
END:VEVENT
BEGIN:VEVENT
DTSTART;TZID=America/Denver:20230811T170000
DTEND;TZID=America/Denver:20230811T193000
DTSTAMP:20260422T155204
CREATED:20230802T171744Z
LAST-MODIFIED:20230803T195835Z
UID:32629-1691773200-1691782200@devfac.coloradocollege.edu
SUMMARY:Collage for Kids at the FAC
DESCRIPTION:At the same time as Crafts & Cocktails or Just the FACts Trivia\, children ages 6 and up are invited to embark on a creative journey\, crafting their very own collage masterpieces. Don’t miss this opportunity for an unforgettable night for the whole family! \nFree\, RSVP required \nCollage for Kids sign up
URL:https://devfac.coloradocollege.edu/event/collage-for-kids-at-the-fac/
LOCATION:Fine Arts Center\, 30 W. Dale St.\, Colorado Springs\, CO\, 80903\, United States
CATEGORIES:Special Event
ATTACH;FMTTYPE=image/jpeg:https://devfac.coloradocollege.edu/wp-content/uploads/2023/08/collage-for-kids_500.jpg
END:VEVENT
BEGIN:VEVENT
DTSTART;TZID=America/Denver:20230513T100000
DTEND;TZID=America/Denver:20230513T170000
DTSTAMP:20260422T155204
CREATED:20190318T160804Z
LAST-MODIFIED:20230426T230541Z
UID:8303-1683972000-1683997200@devfac.coloradocollege.edu
SUMMARY:Museum Free Day
DESCRIPTION:Museum Free Days are offered the second Saturday and third Friday of each month. See what’s on view in the museum
URL:https://devfac.coloradocollege.edu/event/museum-free-day-2/
LOCATION:Fine Arts Center\, 30 W. Dale St.\, Colorado Springs\, CO\, 80903\, United States
CATEGORIES:Museum
ATTACH;FMTTYPE=image/jpeg:https://devfac.coloradocollege.edu/wp-content/uploads/2019/03/museu-free-day_500.jpg
END:VEVENT
BEGIN:VEVENT
DTSTART;TZID=America/Denver:20230519T100000
DTEND;TZID=America/Denver:20230519T200000
DTSTAMP:20260422T155204
CREATED:20240507T211150Z
LAST-MODIFIED:20240507T211150Z
UID:34842-1684490400-1684526400@devfac.coloradocollege.edu
SUMMARY:Museum Free Day
DESCRIPTION:Museum Free Days are offered the second Saturday and third Friday of each month. See what’s on view in the museum
URL:https://devfac.coloradocollege.edu/event/museum-free-day-2/
LOCATION:Fine Arts Center\, 30 W. Dale St.\, Colorado Springs\, CO\, 80903\, United States
CATEGORIES:Museum
ATTACH;FMTTYPE=image/jpeg:https://devfac.coloradocollege.edu/wp-content/uploads/2019/03/museu-free-day_500.jpg
END:VEVENT
END:VCALENDAR