BEGIN:VCALENDAR
VERSION:2.0
PRODID:-//Fine Arts Center - ECPv6.13.0//NONSGML v1.0//EN
CALSCALE:GREGORIAN
METHOD:PUBLISH
X-WR-CALNAME:Fine Arts Center
X-ORIGINAL-URL:https://devfac.coloradocollege.edu
X-WR-CALDESC:Events for Fine Arts Center
REFRESH-INTERVAL;VALUE=DURATION:PT1H
X-Robots-Tag:noindex
X-PUBLISHED-TTL:PT1H
BEGIN:VTIMEZONE
TZID:America/Denver
BEGIN:DAYLIGHT
TZOFFSETFROM:-0700
TZOFFSETTO:-0600
TZNAME:MDT
DTSTART:20230312T090000
END:DAYLIGHT
BEGIN:STANDARD
TZOFFSETFROM:-0600
TZOFFSETTO:-0700
TZNAME:MST
DTSTART:20231105T080000
END:STANDARD
END:VTIMEZONE
BEGIN:VEVENT
DTSTART;TZID=America/Denver:20230303T170000
DTEND;TZID=America/Denver:20230303T200000
DTSTAMP:20260422T162019
CREATED:20230213T155534Z
LAST-MODIFIED:20230217T235400Z
UID:31236-1677862800-1677873600@devfac.coloradocollege.edu
SUMMARY:First Friday Art Party
DESCRIPTION:Join us for First Friday celebration from 5–8 p.m. Enjoy the stunning ambiance offered by this chic\, historic venue. Both the Deco Lounge and Museum Shop participate in First Friday\, featuring art for sale by local and regional artists. \n\nFirst Friday attendees get FREE access to FAC Museum — see what’s on view\nLive music by Ryan Flores\nArt in Deco Lounge by Korri Grossman (Colorado Springs\, CO) will be on display.\nDrinks and snacks are available for purchase in Deco Lounge.\nThe Gift exhibition opening\nThere is a free downtown shuttle\, THE ZEB\, that runs along Tejon Street and can take you to the downtown art galleries.\nFirst Friday attendees receive BOGO tickets to see In The Heights on March 3. Purchase your tickets with code (FFBOGO) or call the box office at (719) 634-5583 (premium or select seats).
URL:https://devfac.coloradocollege.edu/event/first-friday-art-party-2/
LOCATION:Fine Arts Center\, 30 W. Dale St.\, Colorado Springs\, CO\, 80903\, United States
CATEGORIES:Special Event
ATTACH;FMTTYPE=image/jpeg:https://devfac.coloradocollege.edu/wp-content/uploads/2022/12/1080x1080_first-friday2-e1671665160329.jpg
END:VEVENT
BEGIN:VEVENT
DTSTART;VALUE=DATE:20230308
DTEND;VALUE=DATE:20230309
DTSTAMP:20260422T162019
CREATED:20230124T021241Z
LAST-MODIFIED:20230124T021241Z
UID:31082-1678233600-1678319999@devfac.coloradocollege.edu
SUMMARY:International Women’s Day
DESCRIPTION:Museum Free Day for all in celebration of women. 
URL:https://devfac.coloradocollege.edu/event/international-womens-day/
LOCATION:Fine Arts Center\, 30 W. Dale St.\, Colorado Springs\, CO\, 80903\, United States
CATEGORIES:Museum
ATTACH;FMTTYPE=image/jpeg:https://devfac.coloradocollege.edu/wp-content/uploads/2019/03/museu-free-day_500.jpg
END:VEVENT
BEGIN:VEVENT
DTSTART;TZID=America/Denver:20230310T140000
DTEND;TZID=America/Denver:20230310T160000
DTSTAMP:20260422T162019
CREATED:20230309T001444Z
LAST-MODIFIED:20230309T154435Z
UID:31503-1678456800-1678464000@devfac.coloradocollege.edu
SUMMARY:Hip-Hop Concert by: OLMECA
DESCRIPTION:Join us for a hip-hop concert in the Fine Arts Center’s parking lot on the Mobile Arts Truck stage!
URL:https://devfac.coloradocollege.edu/event/hip-hop-concert-by-olmeca/
LOCATION:Fine Arts Center\, 30 W. Dale St.\, Colorado Springs\, CO\, 80903\, United States
CATEGORIES:Special Event
ATTACH;FMTTYPE=image/jpeg:https://devfac.coloradocollege.edu/wp-content/uploads/2023/03/olmeca_500l.jpg
END:VEVENT
END:VCALENDAR