BEGIN:VCALENDAR
VERSION:2.0
PRODID:-//Fine Arts Center - ECPv6.13.0//NONSGML v1.0//EN
CALSCALE:GREGORIAN
METHOD:PUBLISH
X-WR-CALNAME:Fine Arts Center
X-ORIGINAL-URL:https://devfac.coloradocollege.edu
X-WR-CALDESC:Events for Fine Arts Center
REFRESH-INTERVAL;VALUE=DURATION:PT1H
X-Robots-Tag:noindex
X-PUBLISHED-TTL:PT1H
BEGIN:VTIMEZONE
TZID:America/Denver
BEGIN:DAYLIGHT
TZOFFSETFROM:-0700
TZOFFSETTO:-0600
TZNAME:MDT
DTSTART:20230312T090000
END:DAYLIGHT
BEGIN:STANDARD
TZOFFSETFROM:-0600
TZOFFSETTO:-0700
TZNAME:MST
DTSTART:20231105T080000
END:STANDARD
END:VTIMEZONE
BEGIN:VEVENT
DTSTART;TZID=America/Denver:20230106T170000
DTEND;TZID=America/Denver:20230106T200000
DTSTAMP:20260422T162020
CREATED:20221201T231549Z
LAST-MODIFIED:20221221T232531Z
UID:30801-1673024400-1673035200@devfac.coloradocollege.edu
SUMMARY:FAC Action Abstraction Artist Panel + First Friday
DESCRIPTION:As part of First Friday celebrations\, you’re invited to a conversation about Action | Abstraction Redefined from 5-7 p.m. in the FAC Music Room. Don’t miss out on the chance to see the Action | Abstraction Redefined exhibition before it closes on Jan. 8! \nThe conversation features Dr. Lara Evans\, Professor of Art History\, IAIA Research Center for Contemporary Native Arts Director; Tatiana Lomahaftewa-Singer\, curator of collections\, IAIA Museum of Contemporary Native Arts; and Dr. Manuela Well-Off-Man\, chief curator\, IAIA Museum of Contemporary Native Arts.\nFree and open to the Public.  \nPlease RSVP for Artist PAnel\nImage at right: Lloyd Henri “Kiva” New (Cherokee\, 1916–2002)\, Untitled (Squares)\, 1968\, Acrylic on canvas\, MoCNA Collection (CHE-23)\, Gift of the Artist \n\nWe encourage you to also join us 5–8 p.m. \n\nFirst Friday attendees get FREE access to FAC Museum. See what’s on view\nDrinks and snacks (credit card only) are available in Deco Lounge.\nLOOK’EE HERE will be playing 5:30-7:30 p.m.\n“Piedmont to Delta\, to Chicago blues\, ragtime\, old-time jazz\, guitar\, kazoo\, trumpet\, washboard\, slappin’ bass.”
URL:https://devfac.coloradocollege.edu/event/fac-action-abstraction-artist-panel-first-friday/
LOCATION:Fine Arts Center\, 30 W. Dale St.\, Colorado Springs\, CO\, 80903\, United States
CATEGORIES:Museum,Special Event
ATTACH;FMTTYPE=image/jpeg:https://devfac.coloradocollege.edu/wp-content/uploads/2022/12/1080x1080_first-friday2-e1671665160329.jpg
END:VEVENT
BEGIN:VEVENT
DTSTART;TZID=America/Denver:20230109T133000
DTEND;TZID=America/Denver:20230109T141500
DTSTAMP:20260422T162020
CREATED:20221219T214622Z
LAST-MODIFIED:20221219T214718Z
UID:30929-1673271000-1673273700@devfac.coloradocollege.edu
SUMMARY:FAC Executive Director presentations
DESCRIPTION:Please join us to hear from the three finalists for the Fine Arts Center’s Executive Director. The sessions will include a 15-minute presentation from the candidate with time for questions at the end. All in attendance will be asked to complete an evaluation of the candidate at the conclusion. \nSessions will be in the Fine Arts Center’s the mainstage theater.\nMonday\, Jan. 9\, 1:30-2:15 p.m. — Candidate 1\nMonday\, Jan. 16\, 1:30-2:15 p.m. — Candidate 2\nThursday\, Jan. 19\, 1:30-2:15 p.m. — Candidate 3 \nWe look forward to seeing you there!
URL:https://devfac.coloradocollege.edu/event/fac-executive-director-presentations/
LOCATION:Fine Arts Center\, 30 W. Dale St.\, Colorado Springs\, CO\, 80903\, United States
CATEGORIES:Calendar,Special Event
ATTACH;FMTTYPE=image/jpeg:https://devfac.coloradocollege.edu/wp-content/uploads/2021/11/fine-arts-center_500.jpg
END:VEVENT
BEGIN:VEVENT
DTSTART;TZID=America/Denver:20230109T133000
DTEND;TZID=America/Denver:20230109T141500
DTSTAMP:20260422T162020
CREATED:20221219T214622Z
LAST-MODIFIED:20221219T214718Z
UID:30929-1673271000-1673273700@devfac.coloradocollege.edu
SUMMARY:FAC Executive Director presentations
DESCRIPTION:Please join us to hear from the three finalists for the Fine Arts Center’s Executive Director. The sessions will include a 15-minute presentation from the candidate with time for questions at the end. All in attendance will be asked to complete an evaluation of the candidate at the conclusion. \nSessions will be in the Fine Arts Center’s the mainstage theater.\nMonday\, Jan. 9\, 1:30-2:15 p.m. — Candidate 1\nMonday\, Jan. 16\, 1:30-2:15 p.m. — Candidate 2\nThursday\, Jan. 19\, 1:30-2:15 p.m. — Candidate 3 \nWe look forward to seeing you there!
URL:https://devfac.coloradocollege.edu/event/fac-executive-director-presentations/
LOCATION:Fine Arts Center\, 30 W. Dale St.\, Colorado Springs\, CO\, 80903\, United States
CATEGORIES:Calendar,Special Event
ATTACH;FMTTYPE=image/jpeg:https://devfac.coloradocollege.edu/wp-content/uploads/2021/11/fine-arts-center_500.jpg
END:VEVENT
BEGIN:VEVENT
DTSTART;TZID=America/Denver:20230109T133000
DTEND;TZID=America/Denver:20230109T141500
DTSTAMP:20260422T162020
CREATED:20221219T214622Z
LAST-MODIFIED:20221219T214718Z
UID:30929-1673271000-1673273700@devfac.coloradocollege.edu
SUMMARY:FAC Executive Director presentations
DESCRIPTION:Please join us to hear from the three finalists for the Fine Arts Center’s Executive Director. The sessions will include a 15-minute presentation from the candidate with time for questions at the end. All in attendance will be asked to complete an evaluation of the candidate at the conclusion. \nSessions will be in the Fine Arts Center’s the mainstage theater.\nMonday\, Jan. 9\, 1:30-2:15 p.m. — Candidate 1\nMonday\, Jan. 16\, 1:30-2:15 p.m. — Candidate 2\nThursday\, Jan. 19\, 1:30-2:15 p.m. — Candidate 3 \nWe look forward to seeing you there!
URL:https://devfac.coloradocollege.edu/event/fac-executive-director-presentations/
LOCATION:Fine Arts Center\, 30 W. Dale St.\, Colorado Springs\, CO\, 80903\, United States
CATEGORIES:Calendar,Special Event
ATTACH;FMTTYPE=image/jpeg:https://devfac.coloradocollege.edu/wp-content/uploads/2021/11/fine-arts-center_500.jpg
END:VEVENT
END:VCALENDAR