BEGIN:VCALENDAR
VERSION:2.0
PRODID:-//Fine Arts Center - ECPv6.13.0//NONSGML v1.0//EN
CALSCALE:GREGORIAN
METHOD:PUBLISH
X-WR-CALNAME:Fine Arts Center
X-ORIGINAL-URL:https://devfac.coloradocollege.edu
X-WR-CALDESC:Events for Fine Arts Center
REFRESH-INTERVAL;VALUE=DURATION:PT1H
X-Robots-Tag:noindex
X-PUBLISHED-TTL:PT1H
BEGIN:VTIMEZONE
TZID:America/Denver
BEGIN:DAYLIGHT
TZOFFSETFROM:-0700
TZOFFSETTO:-0600
TZNAME:MDT
DTSTART:20190310T090000
END:DAYLIGHT
BEGIN:STANDARD
TZOFFSETFROM:-0600
TZOFFSETTO:-0700
TZNAME:MST
DTSTART:20191103T080000
END:STANDARD
END:VTIMEZONE
BEGIN:VEVENT
DTSTART;TZID=America/Denver:20190914T100000
DTEND;TZID=America/Denver:20190914T110000
DTSTAMP:20260419T065943
CREATED:20190402T155156Z
LAST-MODIFIED:20190802T161532Z
UID:10479-1568455200-1568458800@devfac.coloradocollege.edu
SUMMARY:Busytown: The Musical
DESCRIPTION:Busytown is always buzzing with activity\, but what do people do all day? That’s where Huckle Cat comes in – he’ll take us on a tour of his great neighborhood\, and there is so much to see and do\, and so many wonderful friends to visit. Huckle shows us how Farmer Pig and Grocer Cat work together to bring food to the town. Construction Worker and his crew build new houses\, and Firechief and the gang keep them safe. Isn’t it wonderful how everyone works together to keep Busytown busy?
URL:https://devfac.coloradocollege.edu/event/busytown-the-musical/
LOCATION:Fine Arts Center\, 30 W. Dale St.\, Colorado Springs\, CO\, 80903\, United States
CATEGORIES:Theatre
ATTACH;FMTTYPE=image/jpeg:https://devfac.coloradocollege.edu/wp-content/uploads/2019/03/Busytown_500.jpg
END:VEVENT
BEGIN:VEVENT
DTSTART;TZID=America/Denver:20190914T100000
DTEND;TZID=America/Denver:20190914T110000
DTSTAMP:20260419T065943
CREATED:20190402T155156Z
LAST-MODIFIED:20190802T161532Z
UID:10479-1568455200-1568458800@devfac.coloradocollege.edu
SUMMARY:Busytown: The Musical
DESCRIPTION:Busytown is always buzzing with activity\, but what do people do all day? That’s where Huckle Cat comes in – he’ll take us on a tour of his great neighborhood\, and there is so much to see and do\, and so many wonderful friends to visit. Huckle shows us how Farmer Pig and Grocer Cat work together to bring food to the town. Construction Worker and his crew build new houses\, and Firechief and the gang keep them safe. Isn’t it wonderful how everyone works together to keep Busytown busy?
URL:https://devfac.coloradocollege.edu/event/busytown-the-musical/
LOCATION:Fine Arts Center\, 30 W. Dale St.\, Colorado Springs\, CO\, 80903\, United States
CATEGORIES:Theatre
ATTACH;FMTTYPE=image/jpeg:https://devfac.coloradocollege.edu/wp-content/uploads/2019/03/Busytown_500.jpg
END:VEVENT
BEGIN:VEVENT
DTSTART;TZID=America/Denver:20190915T130000
DTEND;TZID=America/Denver:20190915T140000
DTSTAMP:20260419T065943
CREATED:20240507T211216Z
LAST-MODIFIED:20240507T211216Z
UID:34867-1568552400-1568556000@devfac.coloradocollege.edu
SUMMARY:Busytown: The Musical
DESCRIPTION:Busytown is always buzzing with activity\, but what do people do all day? That’s where Huckle Cat comes in – he’ll take us on a tour of his great neighborhood\, and there is so much to see and do\, and so many wonderful friends to visit. Huckle shows us how Farmer Pig and Grocer Cat work together to bring food to the town. Construction Worker and his crew build new houses\, and Firechief and the gang keep them safe. Isn’t it wonderful how everyone works together to keep Busytown busy?
URL:https://devfac.coloradocollege.edu/event/busytown-the-musical/
LOCATION:Fine Arts Center\, 30 W. Dale St.\, Colorado Springs\, CO\, 80903\, United States
CATEGORIES:Theatre
ATTACH;FMTTYPE=image/jpeg:https://devfac.coloradocollege.edu/wp-content/uploads/2019/03/Busytown_500.jpg
END:VEVENT
BEGIN:VEVENT
DTSTART;TZID=America/Denver:20190920T110000
DTEND;TZID=America/Denver:20190920T130000
DTSTAMP:20260419T065943
CREATED:20190320T231533Z
LAST-MODIFIED:20190528T004849Z
UID:9454-1568977200-1568984400@devfac.coloradocollege.edu
SUMMARY:Figure Drawing & Painting at the FAC
DESCRIPTION:In celebration of the Broadmoor Art Academy’s 100th anniversary join local artist Erin Gillespie in the courtyard or sculpture garden of the Fine Arts Center for drawing and painting the figure directly from a live model through long and short poses\, as well as demonstrations and examples of contemporary and classical figure drawing. Demonstrations will be done in graphite\, charcoal\, and paint from gestures to finished works. Minimal art supplies and easels will be provided for participants. Bring your own box of tools if you wish. Free and all ages welcome! \nPlease check in at the Fine Arts Center’s front desk for event location.
URL:https://devfac.coloradocollege.edu/event/figure-drawing-painting-at-the-fac-4/
LOCATION:Fine Arts Center\, 30 W. Dale St.\, Colorado Springs\, CO\, 80903\, United States
CATEGORIES:Art School
ATTACH;FMTTYPE=image/jpeg:https://devfac.coloradocollege.edu/wp-content/uploads/2019/03/BAA100_500.jpg
END:VEVENT
BEGIN:VEVENT
DTSTART;TZID=America/Denver:20190914T100000
DTEND;TZID=America/Denver:20190914T110000
DTSTAMP:20260419T065943
CREATED:20190402T155156Z
LAST-MODIFIED:20190802T161532Z
UID:10479-1568455200-1568458800@devfac.coloradocollege.edu
SUMMARY:Busytown: The Musical
DESCRIPTION:Busytown is always buzzing with activity\, but what do people do all day? That’s where Huckle Cat comes in – he’ll take us on a tour of his great neighborhood\, and there is so much to see and do\, and so many wonderful friends to visit. Huckle shows us how Farmer Pig and Grocer Cat work together to bring food to the town. Construction Worker and his crew build new houses\, and Firechief and the gang keep them safe. Isn’t it wonderful how everyone works together to keep Busytown busy?
URL:https://devfac.coloradocollege.edu/event/busytown-the-musical/
LOCATION:Fine Arts Center\, 30 W. Dale St.\, Colorado Springs\, CO\, 80903\, United States
CATEGORIES:Theatre
ATTACH;FMTTYPE=image/jpeg:https://devfac.coloradocollege.edu/wp-content/uploads/2019/03/Busytown_500.jpg
END:VEVENT
BEGIN:VEVENT
DTSTART;TZID=America/Denver:20190921T130000
DTEND;TZID=America/Denver:20190921T140000
DTSTAMP:20260419T065943
CREATED:20240507T211216Z
LAST-MODIFIED:20240507T211216Z
UID:34865-1569070800-1569074400@devfac.coloradocollege.edu
SUMMARY:Busytown: The Musical
DESCRIPTION:Busytown is always buzzing with activity\, but what do people do all day? That’s where Huckle Cat comes in – he’ll take us on a tour of his great neighborhood\, and there is so much to see and do\, and so many wonderful friends to visit. Huckle shows us how Farmer Pig and Grocer Cat work together to bring food to the town. Construction Worker and his crew build new houses\, and Firechief and the gang keep them safe. Isn’t it wonderful how everyone works together to keep Busytown busy?
URL:https://devfac.coloradocollege.edu/event/busytown-the-musical/
LOCATION:Fine Arts Center\, 30 W. Dale St.\, Colorado Springs\, CO\, 80903\, United States
CATEGORIES:Theatre
ATTACH;FMTTYPE=image/jpeg:https://devfac.coloradocollege.edu/wp-content/uploads/2019/03/Busytown_500.jpg
END:VEVENT
BEGIN:VEVENT
DTSTART;TZID=America/Denver:20190915T130000
DTEND;TZID=America/Denver:20190915T140000
DTSTAMP:20260419T065943
CREATED:20240507T211216Z
LAST-MODIFIED:20240507T211216Z
UID:34867-1568552400-1568556000@devfac.coloradocollege.edu
SUMMARY:Busytown: The Musical
DESCRIPTION:Busytown is always buzzing with activity\, but what do people do all day? That’s where Huckle Cat comes in – he’ll take us on a tour of his great neighborhood\, and there is so much to see and do\, and so many wonderful friends to visit. Huckle shows us how Farmer Pig and Grocer Cat work together to bring food to the town. Construction Worker and his crew build new houses\, and Firechief and the gang keep them safe. Isn’t it wonderful how everyone works together to keep Busytown busy?
URL:https://devfac.coloradocollege.edu/event/busytown-the-musical/
LOCATION:Fine Arts Center\, 30 W. Dale St.\, Colorado Springs\, CO\, 80903\, United States
CATEGORIES:Theatre
ATTACH;FMTTYPE=image/jpeg:https://devfac.coloradocollege.edu/wp-content/uploads/2019/03/Busytown_500.jpg
END:VEVENT
BEGIN:VEVENT
DTSTART;TZID=America/Denver:20190914T100000
DTEND;TZID=America/Denver:20190914T110000
DTSTAMP:20260419T065943
CREATED:20190402T155156Z
LAST-MODIFIED:20190802T161532Z
UID:10479-1568455200-1568458800@devfac.coloradocollege.edu
SUMMARY:Busytown: The Musical
DESCRIPTION:Busytown is always buzzing with activity\, but what do people do all day? That’s where Huckle Cat comes in – he’ll take us on a tour of his great neighborhood\, and there is so much to see and do\, and so many wonderful friends to visit. Huckle shows us how Farmer Pig and Grocer Cat work together to bring food to the town. Construction Worker and his crew build new houses\, and Firechief and the gang keep them safe. Isn’t it wonderful how everyone works together to keep Busytown busy?
URL:https://devfac.coloradocollege.edu/event/busytown-the-musical/
LOCATION:Fine Arts Center\, 30 W. Dale St.\, Colorado Springs\, CO\, 80903\, United States
CATEGORIES:Theatre
ATTACH;FMTTYPE=image/jpeg:https://devfac.coloradocollege.edu/wp-content/uploads/2019/03/Busytown_500.jpg
END:VEVENT
BEGIN:VEVENT
DTSTART;TZID=America/Denver:20190921T130000
DTEND;TZID=America/Denver:20190921T140000
DTSTAMP:20260419T065943
CREATED:20240507T211216Z
LAST-MODIFIED:20240507T211216Z
UID:34865-1569070800-1569074400@devfac.coloradocollege.edu
SUMMARY:Busytown: The Musical
DESCRIPTION:Busytown is always buzzing with activity\, but what do people do all day? That’s where Huckle Cat comes in – he’ll take us on a tour of his great neighborhood\, and there is so much to see and do\, and so many wonderful friends to visit. Huckle shows us how Farmer Pig and Grocer Cat work together to bring food to the town. Construction Worker and his crew build new houses\, and Firechief and the gang keep them safe. Isn’t it wonderful how everyone works together to keep Busytown busy?
URL:https://devfac.coloradocollege.edu/event/busytown-the-musical/
LOCATION:Fine Arts Center\, 30 W. Dale St.\, Colorado Springs\, CO\, 80903\, United States
CATEGORIES:Theatre
ATTACH;FMTTYPE=image/jpeg:https://devfac.coloradocollege.edu/wp-content/uploads/2019/03/Busytown_500.jpg
END:VEVENT
BEGIN:VEVENT
DTSTART;TZID=America/Denver:20190915T130000
DTEND;TZID=America/Denver:20190915T140000
DTSTAMP:20260419T065943
CREATED:20240507T211216Z
LAST-MODIFIED:20240507T211216Z
UID:34867-1568552400-1568556000@devfac.coloradocollege.edu
SUMMARY:Busytown: The Musical
DESCRIPTION:Busytown is always buzzing with activity\, but what do people do all day? That’s where Huckle Cat comes in – he’ll take us on a tour of his great neighborhood\, and there is so much to see and do\, and so many wonderful friends to visit. Huckle shows us how Farmer Pig and Grocer Cat work together to bring food to the town. Construction Worker and his crew build new houses\, and Firechief and the gang keep them safe. Isn’t it wonderful how everyone works together to keep Busytown busy?
URL:https://devfac.coloradocollege.edu/event/busytown-the-musical/
LOCATION:Fine Arts Center\, 30 W. Dale St.\, Colorado Springs\, CO\, 80903\, United States
CATEGORIES:Theatre
ATTACH;FMTTYPE=image/jpeg:https://devfac.coloradocollege.edu/wp-content/uploads/2019/03/Busytown_500.jpg
END:VEVENT
END:VCALENDAR