BEGIN:VCALENDAR
VERSION:2.0
PRODID:-//Fine Arts Center - ECPv6.13.0//NONSGML v1.0//EN
CALSCALE:GREGORIAN
METHOD:PUBLISH
X-WR-CALNAME:Fine Arts Center
X-ORIGINAL-URL:https://devfac.coloradocollege.edu
X-WR-CALDESC:Events for Fine Arts Center
REFRESH-INTERVAL;VALUE=DURATION:PT1H
X-Robots-Tag:noindex
X-PUBLISHED-TTL:PT1H
BEGIN:VTIMEZONE
TZID:America/Denver
BEGIN:DAYLIGHT
TZOFFSETFROM:-0700
TZOFFSETTO:-0600
TZNAME:MDT
DTSTART:20190310T090000
END:DAYLIGHT
BEGIN:STANDARD
TZOFFSETFROM:-0600
TZOFFSETTO:-0700
TZNAME:MST
DTSTART:20191103T080000
END:STANDARD
END:VTIMEZONE
BEGIN:VEVENT
DTSTART;TZID=America/Denver:20190707T110000
DTEND;TZID=America/Denver:20190707T150000
DTSTAMP:20260419T163200
CREATED:20190318T160833Z
LAST-MODIFIED:20190627T194339Z
UID:8352-1562497200-1562511600@devfac.coloradocollege.edu
SUMMARY:Vegan Market
DESCRIPTION:The Colorado Springs Summer Vegan Market is scheduled for Sunday\, July 7 from 11 a.m. to 3p.m. Eat\, drink\, shop | 100% Vegan | Free Admission
URL:https://devfac.coloradocollege.edu/event/vegan-market/
LOCATION:CO
CATEGORIES:Special Event
ATTACH;FMTTYPE=image/jpeg:https://devfac.coloradocollege.edu/wp-content/uploads/2019/03/Vegan-market_500.jpg
END:VEVENT
BEGIN:VEVENT
DTSTART;TZID=America/Denver:20190719T130000
DTEND;TZID=America/Denver:20190719T150000
DTSTAMP:20260419T163200
CREATED:20190320T231146Z
LAST-MODIFIED:20190528T005055Z
UID:9450-1563541200-1563548400@devfac.coloradocollege.edu
SUMMARY:Figure Drawing & Painting at the FAC
DESCRIPTION:In celebration of the Broadmoor Art Academy’s 100th anniversary join local artist Erin Gillespie in the courtyard or sculpture garden of the Fine Arts Center for drawing and painting the figure directly from a live model through long and short poses\, as well as demonstrations and examples of contemporary and classical figure drawing. Demonstrations will be done in graphite\, charcoal\, and paint from gestures to finished works. Minimal art supplies and easels will be provided for participants. Bring your own box of tools if you wish. Free and all ages welcome! \nPlease check in at the Fine Arts Center’s front desk for event location.
URL:https://devfac.coloradocollege.edu/event/figure-drawing-painting-at-the-fac-2/
LOCATION:Fine Arts Center\, 30 W. Dale St.\, Colorado Springs\, CO\, 80903\, United States
CATEGORIES:Art School,Special Event
ATTACH;FMTTYPE=image/jpeg:https://devfac.coloradocollege.edu/wp-content/uploads/2019/03/BAA100_500.jpg
END:VEVENT
BEGIN:VEVENT
DTSTART;TZID=America/Denver:20190725T190000
DTEND;TZID=America/Denver:20190725T213000
DTSTAMP:20260419T163200
CREATED:20190318T160829Z
LAST-MODIFIED:20190627T133736Z
UID:8345-1564081200-1564090200@devfac.coloradocollege.edu
SUMMARY:Disaster! A Youth Rep Ensemble Production
DESCRIPTION:Audiences and critics are wild for this hilarious homage to the era of bell-bottoms\, platform shoes and the hustle. With larger-than-life characters\, snappy dialogue\, and some of the most recognizable songs of the ’70s (Knock on Wood\, Hooked on a Feeling\, Sky High\, and Hot Stuff\, to name a few)\, Disaster! will have you dancing in your seats and rolling in the aisles. Tickets are only $10!
URL:https://devfac.coloradocollege.edu/event/disaster-a-youth-rep-ensemble-production/
LOCATION:CO
CATEGORIES:Theatre
ATTACH;FMTTYPE=image/jpeg:https://devfac.coloradocollege.edu/wp-content/uploads/2019/02/youth-rep_500.jpg
END:VEVENT
BEGIN:VEVENT
DTSTART;TZID=America/Denver:20190725T190000
DTEND;TZID=America/Denver:20190725T213000
DTSTAMP:20260419T163200
CREATED:20190318T160829Z
LAST-MODIFIED:20190627T133736Z
UID:8345-1564081200-1564090200@devfac.coloradocollege.edu
SUMMARY:Disaster! A Youth Rep Ensemble Production
DESCRIPTION:Audiences and critics are wild for this hilarious homage to the era of bell-bottoms\, platform shoes and the hustle. With larger-than-life characters\, snappy dialogue\, and some of the most recognizable songs of the ’70s (Knock on Wood\, Hooked on a Feeling\, Sky High\, and Hot Stuff\, to name a few)\, Disaster! will have you dancing in your seats and rolling in the aisles. Tickets are only $10!
URL:https://devfac.coloradocollege.edu/event/disaster-a-youth-rep-ensemble-production/
LOCATION:CO
CATEGORIES:Theatre
ATTACH;FMTTYPE=image/jpeg:https://devfac.coloradocollege.edu/wp-content/uploads/2019/02/youth-rep_500.jpg
END:VEVENT
BEGIN:VEVENT
DTSTART;TZID=America/Denver:20190725T190000
DTEND;TZID=America/Denver:20190725T213000
DTSTAMP:20260419T163200
CREATED:20190318T160829Z
LAST-MODIFIED:20190627T133736Z
UID:8345-1564081200-1564090200@devfac.coloradocollege.edu
SUMMARY:Disaster! A Youth Rep Ensemble Production
DESCRIPTION:Audiences and critics are wild for this hilarious homage to the era of bell-bottoms\, platform shoes and the hustle. With larger-than-life characters\, snappy dialogue\, and some of the most recognizable songs of the ’70s (Knock on Wood\, Hooked on a Feeling\, Sky High\, and Hot Stuff\, to name a few)\, Disaster! will have you dancing in your seats and rolling in the aisles. Tickets are only $10!
URL:https://devfac.coloradocollege.edu/event/disaster-a-youth-rep-ensemble-production/
LOCATION:CO
CATEGORIES:Theatre
ATTACH;FMTTYPE=image/jpeg:https://devfac.coloradocollege.edu/wp-content/uploads/2019/02/youth-rep_500.jpg
END:VEVENT
BEGIN:VEVENT
DTSTART;TZID=America/Denver:20190725T190000
DTEND;TZID=America/Denver:20190725T213000
DTSTAMP:20260419T163200
CREATED:20190318T160829Z
LAST-MODIFIED:20190627T133736Z
UID:8345-1564081200-1564090200@devfac.coloradocollege.edu
SUMMARY:Disaster! A Youth Rep Ensemble Production
DESCRIPTION:Audiences and critics are wild for this hilarious homage to the era of bell-bottoms\, platform shoes and the hustle. With larger-than-life characters\, snappy dialogue\, and some of the most recognizable songs of the ’70s (Knock on Wood\, Hooked on a Feeling\, Sky High\, and Hot Stuff\, to name a few)\, Disaster! will have you dancing in your seats and rolling in the aisles. Tickets are only $10!
URL:https://devfac.coloradocollege.edu/event/disaster-a-youth-rep-ensemble-production/
LOCATION:CO
CATEGORIES:Theatre
ATTACH;FMTTYPE=image/jpeg:https://devfac.coloradocollege.edu/wp-content/uploads/2019/02/youth-rep_500.jpg
END:VEVENT
END:VCALENDAR