BEGIN:VCALENDAR
VERSION:2.0
PRODID:-//Fine Arts Center - ECPv6.13.0//NONSGML v1.0//EN
CALSCALE:GREGORIAN
METHOD:PUBLISH
X-WR-CALNAME:Fine Arts Center
X-ORIGINAL-URL:https://devfac.coloradocollege.edu
X-WR-CALDESC:Events for Fine Arts Center
REFRESH-INTERVAL;VALUE=DURATION:PT1H
X-Robots-Tag:noindex
X-PUBLISHED-TTL:PT1H
BEGIN:VTIMEZONE
TZID:America/Denver
BEGIN:DAYLIGHT
TZOFFSETFROM:-0700
TZOFFSETTO:-0600
TZNAME:MDT
DTSTART:20190310T090000
END:DAYLIGHT
BEGIN:STANDARD
TZOFFSETFROM:-0600
TZOFFSETTO:-0700
TZNAME:MST
DTSTART:20191103T080000
END:STANDARD
END:VTIMEZONE
BEGIN:VEVENT
DTSTART;TZID=America/Denver:20190601T140000
DTEND;TZID=America/Denver:20190601T164500
DTSTAMP:20260419T133307
CREATED:20190418T204001Z
LAST-MODIFIED:20190528T012026Z
UID:11531-1559397600-1559407500@devfac.coloradocollege.edu
SUMMARY:Barnum Day Camp
DESCRIPTION:Delight your young emerging artist in a magical experience they won’t soon forget. Our Day Camps offer kids 6-13 a fun\, educational adventure complete with a tour of the theatre\, hands-on experiences with the set\, a personal meet-and-greet with the cast members\, and more! Cost is $30 per child (please bring a sack lunch if you are staying for the show). Performance tickets to Barnum are additional.
URL:https://devfac.coloradocollege.edu/event/barnum-day-camp-3/
LOCATION:Fine Arts Center\, 30 W. Dale St.\, Colorado Springs\, CO\, 80903\, United States
CATEGORIES:Theatre
ATTACH;FMTTYPE=image/jpeg:https://devfac.coloradocollege.edu/wp-content/uploads/2019/04/day-camp_500.jpg
END:VEVENT
BEGIN:VEVENT
DTSTART;TZID=America/Denver:20190523T193000
DTEND;TZID=America/Denver:20190523T220000
DTSTAMP:20260419T133307
CREATED:20190318T160816Z
LAST-MODIFIED:20190418T210256Z
UID:8324-1558639800-1558648800@devfac.coloradocollege.edu
SUMMARY:Barnum
DESCRIPTION:P.T. Barnum\, the Greatest Showman on Earth\, combines razzle-dazzle with charm and brass to sell “humbug” to cheering crowds. A joyful and moving musical portrait of the 19th century’s greatest show-biz legend\, Barnum is a colorful\, dynamic spectacle with heart. Cy Coleman and Michael Stewart’s rousing score includes “There’s a Sucker Born Every Minute\,” “Join the Circus\,” “The Colors of My Life\,” and “Come Follow The Band.”
URL:https://devfac.coloradocollege.edu/event/barnum/
LOCATION:CO
CATEGORIES:Theatre
ATTACH;FMTTYPE=image/jpeg:https://devfac.coloradocollege.edu/wp-content/uploads/2018/03/barnum_500.jpg
END:VEVENT
BEGIN:VEVENT
DTSTART;TZID=America/Denver:20190526T140000
DTEND;TZID=America/Denver:20190526T163000
DTSTAMP:20260419T133307
CREATED:20240507T211159Z
LAST-MODIFIED:20240507T211159Z
UID:34854-1558879200-1558888200@devfac.coloradocollege.edu
SUMMARY:Barnum
DESCRIPTION:P.T. Barnum\, the Greatest Showman on Earth\, combines razzle-dazzle with charm and brass to sell “humbug” to cheering crowds. A joyful and moving musical portrait of the 19th century’s greatest show-biz legend\, Barnum is a colorful\, dynamic spectacle with heart. Cy Coleman and Michael Stewart’s rousing score includes “There’s a Sucker Born Every Minute\,” “Join the Circus\,” “The Colors of My Life\,” and “Come Follow The Band.”
URL:https://devfac.coloradocollege.edu/event/barnum/
LOCATION:CO
CATEGORIES:Theatre
ATTACH;FMTTYPE=image/jpeg:https://devfac.coloradocollege.edu/wp-content/uploads/2018/03/barnum_500.jpg
END:VEVENT
BEGIN:VEVENT
DTSTART;TZID=America/Denver:20190529T190000
DTEND;TZID=America/Denver:20190529T213000
DTSTAMP:20260419T133307
CREATED:20240507T211159Z
LAST-MODIFIED:20240507T211159Z
UID:34855-1559156400-1559165400@devfac.coloradocollege.edu
SUMMARY:Barnum
DESCRIPTION:P.T. Barnum\, the Greatest Showman on Earth\, combines razzle-dazzle with charm and brass to sell “humbug” to cheering crowds. A joyful and moving musical portrait of the 19th century’s greatest show-biz legend\, Barnum is a colorful\, dynamic spectacle with heart. Cy Coleman and Michael Stewart’s rousing score includes “There’s a Sucker Born Every Minute\,” “Join the Circus\,” “The Colors of My Life\,” and “Come Follow The Band.”
URL:https://devfac.coloradocollege.edu/event/barnum/
LOCATION:CO
CATEGORIES:Theatre
ATTACH;FMTTYPE=image/jpeg:https://devfac.coloradocollege.edu/wp-content/uploads/2018/03/barnum_500.jpg
END:VEVENT
BEGIN:VEVENT
DTSTART;TZID=America/Denver:20190523T193000
DTEND;TZID=America/Denver:20190523T220000
DTSTAMP:20260419T133307
CREATED:20190318T160816Z
LAST-MODIFIED:20190418T210256Z
UID:8324-1558639800-1558648800@devfac.coloradocollege.edu
SUMMARY:Barnum
DESCRIPTION:P.T. Barnum\, the Greatest Showman on Earth\, combines razzle-dazzle with charm and brass to sell “humbug” to cheering crowds. A joyful and moving musical portrait of the 19th century’s greatest show-biz legend\, Barnum is a colorful\, dynamic spectacle with heart. Cy Coleman and Michael Stewart’s rousing score includes “There’s a Sucker Born Every Minute\,” “Join the Circus\,” “The Colors of My Life\,” and “Come Follow The Band.”
URL:https://devfac.coloradocollege.edu/event/barnum/
LOCATION:CO
CATEGORIES:Theatre
ATTACH;FMTTYPE=image/jpeg:https://devfac.coloradocollege.edu/wp-content/uploads/2018/03/barnum_500.jpg
END:VEVENT
BEGIN:VEVENT
DTSTART;TZID=America/Denver:20190523T193000
DTEND;TZID=America/Denver:20190523T220000
DTSTAMP:20260419T133307
CREATED:20190318T160816Z
LAST-MODIFIED:20190418T210256Z
UID:8324-1558639800-1558648800@devfac.coloradocollege.edu
SUMMARY:Barnum
DESCRIPTION:P.T. Barnum\, the Greatest Showman on Earth\, combines razzle-dazzle with charm and brass to sell “humbug” to cheering crowds. A joyful and moving musical portrait of the 19th century’s greatest show-biz legend\, Barnum is a colorful\, dynamic spectacle with heart. Cy Coleman and Michael Stewart’s rousing score includes “There’s a Sucker Born Every Minute\,” “Join the Circus\,” “The Colors of My Life\,” and “Come Follow The Band.”
URL:https://devfac.coloradocollege.edu/event/barnum/
LOCATION:CO
CATEGORIES:Theatre
ATTACH;FMTTYPE=image/jpeg:https://devfac.coloradocollege.edu/wp-content/uploads/2018/03/barnum_500.jpg
END:VEVENT
BEGIN:VEVENT
DTSTART;TZID=America/Denver:20190523T193000
DTEND;TZID=America/Denver:20190523T220000
DTSTAMP:20260419T133307
CREATED:20190318T160816Z
LAST-MODIFIED:20190418T210256Z
UID:8324-1558639800-1558648800@devfac.coloradocollege.edu
SUMMARY:Barnum
DESCRIPTION:P.T. Barnum\, the Greatest Showman on Earth\, combines razzle-dazzle with charm and brass to sell “humbug” to cheering crowds. A joyful and moving musical portrait of the 19th century’s greatest show-biz legend\, Barnum is a colorful\, dynamic spectacle with heart. Cy Coleman and Michael Stewart’s rousing score includes “There’s a Sucker Born Every Minute\,” “Join the Circus\,” “The Colors of My Life\,” and “Come Follow The Band.”
URL:https://devfac.coloradocollege.edu/event/barnum/
LOCATION:CO
CATEGORIES:Theatre
ATTACH;FMTTYPE=image/jpeg:https://devfac.coloradocollege.edu/wp-content/uploads/2018/03/barnum_500.jpg
END:VEVENT
BEGIN:VEVENT
DTSTART;TZID=America/Denver:20190526T140000
DTEND;TZID=America/Denver:20190526T163000
DTSTAMP:20260419T133307
CREATED:20240507T211159Z
LAST-MODIFIED:20240507T211159Z
UID:34854-1558879200-1558888200@devfac.coloradocollege.edu
SUMMARY:Barnum
DESCRIPTION:P.T. Barnum\, the Greatest Showman on Earth\, combines razzle-dazzle with charm and brass to sell “humbug” to cheering crowds. A joyful and moving musical portrait of the 19th century’s greatest show-biz legend\, Barnum is a colorful\, dynamic spectacle with heart. Cy Coleman and Michael Stewart’s rousing score includes “There’s a Sucker Born Every Minute\,” “Join the Circus\,” “The Colors of My Life\,” and “Come Follow The Band.”
URL:https://devfac.coloradocollege.edu/event/barnum/
LOCATION:CO
CATEGORIES:Theatre
ATTACH;FMTTYPE=image/jpeg:https://devfac.coloradocollege.edu/wp-content/uploads/2018/03/barnum_500.jpg
END:VEVENT
BEGIN:VEVENT
DTSTART;TZID=America/Denver:20190529T190000
DTEND;TZID=America/Denver:20190529T213000
DTSTAMP:20260419T133307
CREATED:20240507T211159Z
LAST-MODIFIED:20240507T211159Z
UID:34855-1559156400-1559165400@devfac.coloradocollege.edu
SUMMARY:Barnum
DESCRIPTION:P.T. Barnum\, the Greatest Showman on Earth\, combines razzle-dazzle with charm and brass to sell “humbug” to cheering crowds. A joyful and moving musical portrait of the 19th century’s greatest show-biz legend\, Barnum is a colorful\, dynamic spectacle with heart. Cy Coleman and Michael Stewart’s rousing score includes “There’s a Sucker Born Every Minute\,” “Join the Circus\,” “The Colors of My Life\,” and “Come Follow The Band.”
URL:https://devfac.coloradocollege.edu/event/barnum/
LOCATION:CO
CATEGORIES:Theatre
ATTACH;FMTTYPE=image/jpeg:https://devfac.coloradocollege.edu/wp-content/uploads/2018/03/barnum_500.jpg
END:VEVENT
BEGIN:VEVENT
DTSTART;TZID=America/Denver:20190523T193000
DTEND;TZID=America/Denver:20190523T220000
DTSTAMP:20260419T133307
CREATED:20190318T160816Z
LAST-MODIFIED:20190418T210256Z
UID:8324-1558639800-1558648800@devfac.coloradocollege.edu
SUMMARY:Barnum
DESCRIPTION:P.T. Barnum\, the Greatest Showman on Earth\, combines razzle-dazzle with charm and brass to sell “humbug” to cheering crowds. A joyful and moving musical portrait of the 19th century’s greatest show-biz legend\, Barnum is a colorful\, dynamic spectacle with heart. Cy Coleman and Michael Stewart’s rousing score includes “There’s a Sucker Born Every Minute\,” “Join the Circus\,” “The Colors of My Life\,” and “Come Follow The Band.”
URL:https://devfac.coloradocollege.edu/event/barnum/
LOCATION:CO
CATEGORIES:Theatre
ATTACH;FMTTYPE=image/jpeg:https://devfac.coloradocollege.edu/wp-content/uploads/2018/03/barnum_500.jpg
END:VEVENT
BEGIN:VEVENT
DTSTART;TZID=America/Denver:20190523T193000
DTEND;TZID=America/Denver:20190523T220000
DTSTAMP:20260419T133307
CREATED:20190318T160816Z
LAST-MODIFIED:20190418T210256Z
UID:8324-1558639800-1558648800@devfac.coloradocollege.edu
SUMMARY:Barnum
DESCRIPTION:P.T. Barnum\, the Greatest Showman on Earth\, combines razzle-dazzle with charm and brass to sell “humbug” to cheering crowds. A joyful and moving musical portrait of the 19th century’s greatest show-biz legend\, Barnum is a colorful\, dynamic spectacle with heart. Cy Coleman and Michael Stewart’s rousing score includes “There’s a Sucker Born Every Minute\,” “Join the Circus\,” “The Colors of My Life\,” and “Come Follow The Band.”
URL:https://devfac.coloradocollege.edu/event/barnum/
LOCATION:CO
CATEGORIES:Theatre
ATTACH;FMTTYPE=image/jpeg:https://devfac.coloradocollege.edu/wp-content/uploads/2018/03/barnum_500.jpg
END:VEVENT
BEGIN:VEVENT
DTSTART;TZID=America/Denver:20190615T140000
DTEND;TZID=America/Denver:20190615T164500
DTSTAMP:20260419T133307
CREATED:20190418T204140Z
LAST-MODIFIED:20190528T011855Z
UID:11533-1560607200-1560617100@devfac.coloradocollege.edu
SUMMARY:Barnum Day Camp
DESCRIPTION:Delight your young emerging artist in a magical experience they won’t soon forget. Our Day Camps offer kids 6-13 a fun\, educational adventure complete with a tour of the theatre\, hands-on experiences with the set\, a personal meet-and-greet with the cast members\, and more! Cost is $30 per child (please bring a sack lunch if you are staying for the show). Performance tickets to Barnum are additional.
URL:https://devfac.coloradocollege.edu/event/barnum-day-camp-4/
LOCATION:Fine Arts Center\, 30 W. Dale St.\, Colorado Springs\, CO\, 80903\, United States
CATEGORIES:Theatre
ATTACH;FMTTYPE=image/jpeg:https://devfac.coloradocollege.edu/wp-content/uploads/2019/04/day-camp_500.jpg
END:VEVENT
BEGIN:VEVENT
DTSTART;TZID=America/Denver:20190523T193000
DTEND;TZID=America/Denver:20190523T220000
DTSTAMP:20260419T133307
CREATED:20190318T160816Z
LAST-MODIFIED:20190418T210256Z
UID:8324-1558639800-1558648800@devfac.coloradocollege.edu
SUMMARY:Barnum
DESCRIPTION:P.T. Barnum\, the Greatest Showman on Earth\, combines razzle-dazzle with charm and brass to sell “humbug” to cheering crowds. A joyful and moving musical portrait of the 19th century’s greatest show-biz legend\, Barnum is a colorful\, dynamic spectacle with heart. Cy Coleman and Michael Stewart’s rousing score includes “There’s a Sucker Born Every Minute\,” “Join the Circus\,” “The Colors of My Life\,” and “Come Follow The Band.”
URL:https://devfac.coloradocollege.edu/event/barnum/
LOCATION:CO
CATEGORIES:Theatre
ATTACH;FMTTYPE=image/jpeg:https://devfac.coloradocollege.edu/wp-content/uploads/2018/03/barnum_500.jpg
END:VEVENT
BEGIN:VEVENT
DTSTART;TZID=America/Denver:20190526T140000
DTEND;TZID=America/Denver:20190526T163000
DTSTAMP:20260419T133307
CREATED:20240507T211159Z
LAST-MODIFIED:20240507T211159Z
UID:34854-1558879200-1558888200@devfac.coloradocollege.edu
SUMMARY:Barnum
DESCRIPTION:P.T. Barnum\, the Greatest Showman on Earth\, combines razzle-dazzle with charm and brass to sell “humbug” to cheering crowds. A joyful and moving musical portrait of the 19th century’s greatest show-biz legend\, Barnum is a colorful\, dynamic spectacle with heart. Cy Coleman and Michael Stewart’s rousing score includes “There’s a Sucker Born Every Minute\,” “Join the Circus\,” “The Colors of My Life\,” and “Come Follow The Band.”
URL:https://devfac.coloradocollege.edu/event/barnum/
LOCATION:CO
CATEGORIES:Theatre
ATTACH;FMTTYPE=image/jpeg:https://devfac.coloradocollege.edu/wp-content/uploads/2018/03/barnum_500.jpg
END:VEVENT
BEGIN:VEVENT
DTSTART;TZID=America/Denver:20190621T140000
DTEND;TZID=America/Denver:20190621T160000
DTSTAMP:20260419T133307
CREATED:20190320T230356Z
LAST-MODIFIED:20190528T004958Z
UID:9444-1561125600-1561132800@devfac.coloradocollege.edu
SUMMARY:Figure Drawing & Painting at the FAC
DESCRIPTION:In celebration of the Broadmoor Art Academy’s 100th anniversary join local artist Erin Gillespie in the courtyard or sculpture garden of the Fine Arts Center for drawing and painting the figure directly from a live model through long and short poses\, as well as demonstrations and examples of contemporary and classical figure drawing. Demonstrations will be done in graphite\, charcoal\, and paint from gestures to finished works. Minimal art supplies and easels will be provided for participants. Bring your own box of tools if you wish. Free and all ages welcome! \nPlease check in at the Fine Arts Center’s front desk for event location.
URL:https://devfac.coloradocollege.edu/event/figure-drawing-painting-at-the-fac/
LOCATION:Fine Arts Center\, 30 W. Dale St.\, Colorado Springs\, CO\, 80903\, United States
CATEGORIES:Art School,Special Event
ATTACH;FMTTYPE=image/jpeg:https://devfac.coloradocollege.edu/wp-content/uploads/2019/03/BAA100_500.jpg
END:VEVENT
END:VCALENDAR