BEGIN:VCALENDAR
VERSION:2.0
PRODID:-//Fine Arts Center - ECPv6.13.0//NONSGML v1.0//EN
CALSCALE:GREGORIAN
METHOD:PUBLISH
X-WR-CALNAME:Fine Arts Center
X-ORIGINAL-URL:https://devfac.coloradocollege.edu
X-WR-CALDESC:Events for Fine Arts Center
REFRESH-INTERVAL;VALUE=DURATION:PT1H
X-Robots-Tag:noindex
X-PUBLISHED-TTL:PT1H
BEGIN:VTIMEZONE
TZID:America/Denver
BEGIN:DAYLIGHT
TZOFFSETFROM:-0700
TZOFFSETTO:-0600
TZNAME:MDT
DTSTART:20190310T090000
END:DAYLIGHT
BEGIN:STANDARD
TZOFFSETFROM:-0600
TZOFFSETTO:-0700
TZNAME:MST
DTSTART:20191103T080000
END:STANDARD
BEGIN:DAYLIGHT
TZOFFSETFROM:-0700
TZOFFSETTO:-0600
TZNAME:MDT
DTSTART:20200308T090000
END:DAYLIGHT
BEGIN:STANDARD
TZOFFSETFROM:-0600
TZOFFSETTO:-0700
TZNAME:MST
DTSTART:20201101T080000
END:STANDARD
END:VTIMEZONE
BEGIN:VEVENT
DTSTART;VALUE=DATE:20190824
DTEND;VALUE=DATE:20200224
DTSTAMP:20260419T201137
CREATED:20190826T144828Z
LAST-MODIFIED:20190826T144909Z
UID:12995-1566604800-1582502399@devfac.coloradocollege.edu
SUMMARY:Melanie Yazzie: Finding Oneself Again and Again
DESCRIPTION:Melanie Yazzie is informed by the Diné philosophy of hozho — translated as blessings\, beauty\, and harmony. After experiencing illness\, she challenged herself to create artworks that find ways to heal from and to balance the negative effects of settler colonialism that Indigenous people live with on a daily basis. Her earlier works focused on calling attention to the harsh realities of racism\, poverty\, and loss of home territories. She continues to acknowledge these struggles\, but now layers her artworks with recuperative images. As a Mellon Foundation Artist in Residence at the Colorado Springs Fine Arts Center at Colorado College in 2018\, Yazzie began using printing plates recovered from a 1939 book project about Diné healing practices. By layering the fractional images of the color-separation plates with her own iconography formed from memories of people and places\, Yazzie asserts the ongoing significance of Indigenous knowledge. This exhibition presents recent works created during the Mellon Foundation residency and over the course of a very productive time following her experience at Colorado Springs.
URL:https://devfac.coloradocollege.edu/event/melanie-yazzie-finding-oneself-again-and-again/
LOCATION:Fine Arts Center\, 30 W. Dale St.\, Colorado Springs\, CO\, 80903\, United States
CATEGORIES:Museum Exhibition
ATTACH;FMTTYPE=image/jpeg:https://devfac.coloradocollege.edu/wp-content/uploads/2019/04/Melanie-Yazzie_500.jpg
END:VEVENT
END:VCALENDAR