BEGIN:VCALENDAR
VERSION:2.0
PRODID:-//Fine Arts Center - ECPv6.13.0//NONSGML v1.0//EN
CALSCALE:GREGORIAN
METHOD:PUBLISH
X-WR-CALNAME:Fine Arts Center
X-ORIGINAL-URL:https://devfac.coloradocollege.edu
X-WR-CALDESC:Events for Fine Arts Center
REFRESH-INTERVAL;VALUE=DURATION:PT1H
X-Robots-Tag:noindex
X-PUBLISHED-TTL:PT1H
BEGIN:VTIMEZONE
TZID:America/Denver
BEGIN:DAYLIGHT
TZOFFSETFROM:-0700
TZOFFSETTO:-0600
TZNAME:MDT
DTSTART:20190310T090000
END:DAYLIGHT
BEGIN:STANDARD
TZOFFSETFROM:-0600
TZOFFSETTO:-0700
TZNAME:MST
DTSTART:20191103T080000
END:STANDARD
END:VTIMEZONE
BEGIN:VEVENT
DTSTART;TZID=America/Denver:20190323T110000
DTEND;TZID=America/Denver:20190323T124500
DTSTAMP:20260422T050523
CREATED:20190318T160817Z
LAST-MODIFIED:20190320T144140Z
UID:8325-1553338800-1553345100@devfac.coloradocollege.edu
SUMMARY:Ben and the Magic Paintbrush Day Camp
DESCRIPTION:Delight your young emerging artist in a magical experience they won’t soon forget. Our Day Camps offer kids 7-13 a fun\, educational adventure complete with a  personal meet-and-greet with the cast\, theatre games\, and more! Cost is $20 per child. Performance tickets to Ben and the Magic Paintbrush  are additional.
URL:https://devfac.coloradocollege.edu/event/ben-and-the-magic-paintbrush-day-camp/
LOCATION:CO
CATEGORIES:Theatre
ATTACH;FMTTYPE=image/jpeg:https://devfac.coloradocollege.edu/wp-content/uploads/2019/03/ben-and-the-magic-paintbrush_500.jpg
END:VEVENT
END:VCALENDAR