BEGIN:VCALENDAR
VERSION:2.0
PRODID:-//Fine Arts Center - ECPv6.13.0//NONSGML v1.0//EN
CALSCALE:GREGORIAN
METHOD:PUBLISH
X-WR-CALNAME:Fine Arts Center
X-ORIGINAL-URL:https://devfac.coloradocollege.edu
X-WR-CALDESC:Events for Fine Arts Center
REFRESH-INTERVAL;VALUE=DURATION:PT1H
X-Robots-Tag:noindex
X-PUBLISHED-TTL:PT1H
BEGIN:VTIMEZONE
TZID:America/Denver
BEGIN:DAYLIGHT
TZOFFSETFROM:-0700
TZOFFSETTO:-0600
TZNAME:MDT
DTSTART:20240310T090000
END:DAYLIGHT
BEGIN:STANDARD
TZOFFSETFROM:-0600
TZOFFSETTO:-0700
TZNAME:MST
DTSTART:20241103T080000
END:STANDARD
END:VTIMEZONE
BEGIN:VEVENT
DTSTART;TZID=America/Denver:20240302T100000
DTEND;TZID=America/Denver:20240302T110000
DTSTAMP:20260420T003848
CREATED:20230825T212823Z
LAST-MODIFIED:20230825T212823Z
UID:32856-1709373600-1709377200@devfac.coloradocollege.edu
SUMMARY:Don’t Let the Pigeon Drive the Bus! The Musical!
DESCRIPTION:It’s not easy being the Pigeon—you never get to do ANYTHING! But when the Bus Driver has a crisis that threatens to make her passengers (gasp!) late\, maybe that wily bird CAN do something. With a script written by Mo Willems\, the creator of the #1 New York Times best-selling\, Caldecott Honor award-winning Pigeon picture books\, Don’t Let the Pigeon Drive the Bus! The Musical! is sure to get everyone’s wings flapping.
URL:https://devfac.coloradocollege.edu/event/dont-let-the-pigeon-drive-the-bus-the-musical/
LOCATION:Fine Arts Center\, 30 W. Dale St.\, Colorado Springs\, CO\, 80903\, United States
CATEGORIES:Theatre
ATTACH;FMTTYPE=image/jpeg:https://devfac.coloradocollege.edu/wp-content/uploads/2023/02/Dont-let-the-pigeon-drive-the-bus.jpg
END:VEVENT
BEGIN:VEVENT
DTSTART;TZID=America/Denver:20240215T193000
DTEND;TZID=America/Denver:20240215T210000
DTSTAMP:20260420T003848
CREATED:20230828T204037Z
LAST-MODIFIED:20240108T235111Z
UID:32929-1708025400-1708030800@devfac.coloradocollege.edu
SUMMARY:Water by the Spoonful
DESCRIPTION:Somewhere in Philadelphia\, Elliot has returned from Iraq and is struggling to find his place in the world. Somewhere in a chat room\, recovering addicts keep each other alive\, hour by hour\, day by day. The boundaries of family and community are stretched across continents and cyberspace as birth families splinter and online families collide. WATER BY THE SPOONFUL is a heartfelt meditation on lives on the brink of redemption. 
URL:https://devfac.coloradocollege.edu/event/water-by-the-spoonful/
LOCATION:Fine Arts Center\, 30 W. Dale St.\, Colorado Springs\, CO\, 80903\, United States
CATEGORIES:Theatre
ATTACH;FMTTYPE=image/jpeg:https://devfac.coloradocollege.edu/wp-content/uploads/2023/02/FAC-WBTS_500x500.jpg
END:VEVENT
BEGIN:VEVENT
DTSTART;TZID=America/Denver:20240215T193000
DTEND;TZID=America/Denver:20240215T210000
DTSTAMP:20260420T003848
CREATED:20230828T204037Z
LAST-MODIFIED:20240108T235111Z
UID:32929-1708025400-1708030800@devfac.coloradocollege.edu
SUMMARY:Water by the Spoonful
DESCRIPTION:Somewhere in Philadelphia\, Elliot has returned from Iraq and is struggling to find his place in the world. Somewhere in a chat room\, recovering addicts keep each other alive\, hour by hour\, day by day. The boundaries of family and community are stretched across continents and cyberspace as birth families splinter and online families collide. WATER BY THE SPOONFUL is a heartfelt meditation on lives on the brink of redemption. 
URL:https://devfac.coloradocollege.edu/event/water-by-the-spoonful/
LOCATION:Fine Arts Center\, 30 W. Dale St.\, Colorado Springs\, CO\, 80903\, United States
CATEGORIES:Theatre
ATTACH;FMTTYPE=image/jpeg:https://devfac.coloradocollege.edu/wp-content/uploads/2023/02/FAC-WBTS_500x500.jpg
END:VEVENT
END:VCALENDAR