BEGIN:VCALENDAR
VERSION:2.0
PRODID:-//Fine Arts Center - ECPv6.13.0//NONSGML v1.0//EN
CALSCALE:GREGORIAN
METHOD:PUBLISH
X-WR-CALNAME:Fine Arts Center
X-ORIGINAL-URL:https://devfac.coloradocollege.edu
X-WR-CALDESC:Events for Fine Arts Center
REFRESH-INTERVAL;VALUE=DURATION:PT1H
X-Robots-Tag:noindex
X-PUBLISHED-TTL:PT1H
BEGIN:VTIMEZONE
TZID:America/Denver
BEGIN:DAYLIGHT
TZOFFSETFROM:-0700
TZOFFSETTO:-0600
TZNAME:MDT
DTSTART:20240310T090000
END:DAYLIGHT
BEGIN:STANDARD
TZOFFSETFROM:-0600
TZOFFSETTO:-0700
TZNAME:MST
DTSTART:20241103T080000
END:STANDARD
END:VTIMEZONE
BEGIN:VEVENT
DTSTART;TZID=America/Denver:20240218T140000
DTEND;TZID=America/Denver:20240218T153000
DTSTAMP:20260420T003851
CREATED:20240507T211549Z
LAST-MODIFIED:20240507T211549Z
UID:35039-1708264800-1708270200@devfac.coloradocollege.edu
SUMMARY:Water by the Spoonful
DESCRIPTION:Somewhere in Philadelphia\, Elliot has returned from Iraq and is struggling to find his place in the world. Somewhere in a chat room\, recovering addicts keep each other alive\, hour by hour\, day by day. The boundaries of family and community are stretched across continents and cyberspace as birth families splinter and online families collide. WATER BY THE SPOONFUL is a heartfelt meditation on lives on the brink of redemption. 
URL:https://devfac.coloradocollege.edu/event/water-by-the-spoonful/
LOCATION:Fine Arts Center\, 30 W. Dale St.\, Colorado Springs\, CO\, 80903\, United States
CATEGORIES:Theatre
ATTACH;FMTTYPE=image/jpeg:https://devfac.coloradocollege.edu/wp-content/uploads/2023/02/FAC-WBTS_500x500.jpg
END:VEVENT
BEGIN:VEVENT
DTSTART;TZID=America/Denver:20240225T163000
DTEND;TZID=America/Denver:20240225T173000
DTSTAMP:20260420T003851
CREATED:20240117T225816Z
LAST-MODIFIED:20240220T183211Z
UID:33740-1708878600-1708882200@devfac.coloradocollege.edu
SUMMARY:Ask the Actors
DESCRIPTION:Curious about the lifestyle of a theatre professional? What’s it take to slip into a character night after night? Stay in your seats after the show for a curated discussion with the cast and creatives and satiate your curiosity. This event will begin immediately following the Feb. 25\, 2 p.m. performance of Water by the Spoonful. \nThis event is free and open to the public; no reservations required.  \n  \nPhoto by Jeff Kearney.
URL:https://devfac.coloradocollege.edu/event/ask-the-actors-3/
LOCATION:Fine Arts Center\, 30 W. Dale St.\, Colorado Springs\, CO\, 80903\, United States
CATEGORIES:Special Event,Theatre
ATTACH;FMTTYPE=image/jpeg:https://devfac.coloradocollege.edu/wp-content/uploads/2024/01/Water-by-the-spoonful_500.jpg
END:VEVENT
END:VCALENDAR