BEGIN:VCALENDAR
VERSION:2.0
PRODID:-//Fine Arts Center - ECPv6.13.0//NONSGML v1.0//EN
CALSCALE:GREGORIAN
METHOD:PUBLISH
X-WR-CALNAME:Fine Arts Center
X-ORIGINAL-URL:https://devfac.coloradocollege.edu
X-WR-CALDESC:Events for Fine Arts Center
REFRESH-INTERVAL;VALUE=DURATION:PT1H
X-Robots-Tag:noindex
X-PUBLISHED-TTL:PT1H
BEGIN:VTIMEZONE
TZID:America/Denver
BEGIN:DAYLIGHT
TZOFFSETFROM:-0700
TZOFFSETTO:-0600
TZNAME:MDT
DTSTART:20230312T090000
END:DAYLIGHT
BEGIN:STANDARD
TZOFFSETFROM:-0600
TZOFFSETTO:-0700
TZNAME:MST
DTSTART:20231105T080000
END:STANDARD
END:VTIMEZONE
BEGIN:VEVENT
DTSTART;TZID=America/Denver:20231203T140000
DTEND;TZID=America/Denver:20231203T163000
DTSTAMP:20260420T090242
CREATED:20240507T211549Z
LAST-MODIFIED:20240507T211549Z
UID:35036-1701612000-1701621000@devfac.coloradocollege.edu
SUMMARY:Elf the Musical
DESCRIPTION:A title known the world over\, Elf The Musical is a must-produce holiday musical that can easily become an annual tradition for any theatre. Based on the cherished 2003 New Line Cinema hit\, Elf features songs by Tony Award nominees Matthew Sklar (The Wedding Singer) and Chad Beguelin (Disney’s Aladdin on Broadway)\, with a book by Tony Award winners\, Thomas Meehan (Annie\, The Producers\, Hairspray) and Bob Martin (The Drowsy Chaperone). 
URL:https://devfac.coloradocollege.edu/event/elf-the-musical/
LOCATION:Fine Arts Center\, 30 W. Dale St.\, Colorado Springs\, CO\, 80903\, United States
CATEGORIES:Theatre
ATTACH;FMTTYPE=image/jpeg:https://devfac.coloradocollege.edu/wp-content/uploads/2023/06/elf-the-musical.jpg
END:VEVENT
BEGIN:VEVENT
DTSTART;TZID=America/Denver:20231210T170000
DTEND;TZID=America/Denver:20231210T180000
DTSTAMP:20260420T090242
CREATED:20231110T235954Z
LAST-MODIFIED:20231110T235954Z
UID:33431-1702227600-1702231200@devfac.coloradocollege.edu
SUMMARY:Ask the Actors
DESCRIPTION:Curious about the lifestyle of a theatre professional? What’s it take to slip into a character night after night? Stay in your seats after the show for a curated discussion with the cast and creatives and satiate your curiosity. This event will begin immediately following the Dec. 10\, 2 p.m. performance of Elf The Musical. \nThis event is free and open to the public; no reservations required. 
URL:https://devfac.coloradocollege.edu/event/ask-the-actors-2/
LOCATION:Fine Arts Center\, 30 W. Dale St.\, Colorado Springs\, CO\, 80903\, United States
CATEGORIES:Special Event,Theatre
ATTACH;FMTTYPE=image/jpeg:https://devfac.coloradocollege.edu/wp-content/uploads/2023/09/Mainstage-Theatre_500.jpg
END:VEVENT
END:VCALENDAR