BEGIN:VCALENDAR
VERSION:2.0
PRODID:-//Fine Arts Center - ECPv6.13.0//NONSGML v1.0//EN
CALSCALE:GREGORIAN
METHOD:PUBLISH
X-WR-CALNAME:Fine Arts Center
X-ORIGINAL-URL:https://devfac.coloradocollege.edu
X-WR-CALDESC:Events for Fine Arts Center
REFRESH-INTERVAL;VALUE=DURATION:PT1H
X-Robots-Tag:noindex
X-PUBLISHED-TTL:PT1H
BEGIN:VTIMEZONE
TZID:America/Denver
BEGIN:DAYLIGHT
TZOFFSETFROM:-0700
TZOFFSETTO:-0600
TZNAME:MDT
DTSTART:20230312T090000
END:DAYLIGHT
BEGIN:STANDARD
TZOFFSETFROM:-0600
TZOFFSETTO:-0700
TZNAME:MST
DTSTART:20231105T080000
END:STANDARD
END:VTIMEZONE
BEGIN:VEVENT
DTSTART;TZID=America/Denver:20231103T160000
DTEND;TZID=America/Denver:20231103T170000
DTSTAMP:20260420T163549
CREATED:20230906T172405Z
LAST-MODIFIED:20230906T173234Z
UID:33072-1699027200-1699030800@devfac.coloradocollege.edu
SUMMARY:FAC Member Tour: Theatre
DESCRIPTION:Meet Chris Sheley\, the new Producing Artistic Director of the FAC Theatre\, and experience a rare behind the scenes tour of our theater. Visit the prop room\, costume shop\, and backstage. Get a sneak peek of the scenic and costume designs in progress for Elf the Musical\, and see behind the scenes balloon magic for Balloonacy. \nRSVP for tourSpace is limited \nMake a night of it! Stick around after the tour for our First Friday Art Party.
URL:https://devfac.coloradocollege.edu/event/fac-member-tour-theatre/
LOCATION:Fine Arts Center\, 30 W. Dale St.\, Colorado Springs\, CO\, 80903\, United States
CATEGORIES:Special Event,Theatre
ATTACH;FMTTYPE=image/jpeg:https://devfac.coloradocollege.edu/wp-content/uploads/2022/05/theatre-tour2.jpg
END:VEVENT
END:VCALENDAR