BEGIN:VCALENDAR
VERSION:2.0
PRODID:-//Fine Arts Center - ECPv6.13.0//NONSGML v1.0//EN
CALSCALE:GREGORIAN
METHOD:PUBLISH
X-WR-CALNAME:Fine Arts Center
X-ORIGINAL-URL:https://devfac.coloradocollege.edu
X-WR-CALDESC:Events for Fine Arts Center
REFRESH-INTERVAL;VALUE=DURATION:PT1H
X-Robots-Tag:noindex
X-PUBLISHED-TTL:PT1H
BEGIN:VTIMEZONE
TZID:America/Denver
BEGIN:DAYLIGHT
TZOFFSETFROM:-0700
TZOFFSETTO:-0600
TZNAME:MDT
DTSTART:20230312T090000
END:DAYLIGHT
BEGIN:STANDARD
TZOFFSETFROM:-0600
TZOFFSETTO:-0700
TZNAME:MST
DTSTART:20231105T080000
END:STANDARD
END:VTIMEZONE
BEGIN:VEVENT
DTSTART;TZID=America/Denver:20230909T160000
DTEND;TZID=America/Denver:20230909T180000
DTSTAMP:20260420T211132
CREATED:20230814T223421Z
LAST-MODIFIED:20230815T144629Z
UID:32769-1694275200-1694282400@devfac.coloradocollege.edu
SUMMARY:Performance by Su Teatro and Panel Discussion with Artist Carlos Frésquez
DESCRIPTION:Join us for a performance in the FAC Music Room by Denver-based Chicanx theatre group Su Teatro and for a panel discussion with artist Carlos Frésquez. \nFree! RSVP requested \nImage: Carlos Frésquez\, The Obsidian Ranfla Series #3 (detail)\, 1999\, Museum Purchase (Colorado 2000 Purchase Prize)\, FA 2000.4.
URL:https://devfac.coloradocollege.edu/event/performance-by-su-teatro-and-panel-discussion-with-artist-carlos-fresquez/
LOCATION:Fine Arts Center\, 30 W. Dale St.\, Colorado Springs\, CO\, 80903\, United States
CATEGORIES:Museum,Special Event,Theatre
ATTACH;FMTTYPE=image/jpeg:https://devfac.coloradocollege.edu/wp-content/uploads/2023/08/mi-gente_500.jpg
END:VEVENT
END:VCALENDAR