BEGIN:VCALENDAR
VERSION:2.0
PRODID:-//Fine Arts Center - ECPv6.13.0//NONSGML v1.0//EN
CALSCALE:GREGORIAN
METHOD:PUBLISH
X-WR-CALNAME:Fine Arts Center
X-ORIGINAL-URL:https://devfac.coloradocollege.edu
X-WR-CALDESC:Events for Fine Arts Center
REFRESH-INTERVAL;VALUE=DURATION:PT1H
X-Robots-Tag:noindex
X-PUBLISHED-TTL:PT1H
BEGIN:VTIMEZONE
TZID:America/Denver
BEGIN:DAYLIGHT
TZOFFSETFROM:-0700
TZOFFSETTO:-0600
TZNAME:MDT
DTSTART:20220313T090000
END:DAYLIGHT
BEGIN:STANDARD
TZOFFSETFROM:-0600
TZOFFSETTO:-0700
TZNAME:MST
DTSTART:20221106T080000
END:STANDARD
END:VTIMEZONE
BEGIN:VEVENT
DTSTART;TZID=America/Denver:20220314T190000
DTEND;TZID=America/Denver:20220314T200000
DTSTAMP:20260423T114224
CREATED:20220301T171532Z
LAST-MODIFIED:20220301T171532Z
UID:28036-1647284400-1647288000@devfac.coloradocollege.edu
SUMMARY:Building a Better Future with our Artistic Community: Virtual Town Hall
DESCRIPTION:As we begin our commitment to fostering an anti-racist ethos at the FAC Theatre Company\, we want to hear from you\, our local theatre-makers. We hope you’ll join us for a candid conversation with Producing Artistic Director\, Pirronne Yousefzadeh\, about the challenges of the past and present\, and the steps we can take together to make the Theatre Company a welcoming and inclusive space for our dynamic and talented artistic community. Moderated by Betty Hart.
URL:https://devfac.coloradocollege.edu/event/building-a-better-future-with-our-artistic-community-virtual-town-hall/
LOCATION:Virtual
CATEGORIES:Theatre
ATTACH;FMTTYPE=image/jpeg:https://devfac.coloradocollege.edu/wp-content/uploads/2022/03/building-a-better-future_pirronne-betty_500.jpg
END:VEVENT
END:VCALENDAR