BEGIN:VCALENDAR
VERSION:2.0
PRODID:-//Fine Arts Center - ECPv6.13.0//NONSGML v1.0//EN
CALSCALE:GREGORIAN
METHOD:PUBLISH
X-WR-CALNAME:Fine Arts Center
X-ORIGINAL-URL:https://devfac.coloradocollege.edu
X-WR-CALDESC:Events for Fine Arts Center
REFRESH-INTERVAL;VALUE=DURATION:PT1H
X-Robots-Tag:noindex
X-PUBLISHED-TTL:PT1H
BEGIN:VTIMEZONE
TZID:America/Denver
BEGIN:DAYLIGHT
TZOFFSETFROM:-0700
TZOFFSETTO:-0600
TZNAME:MDT
DTSTART:20230312T090000
END:DAYLIGHT
BEGIN:STANDARD
TZOFFSETFROM:-0600
TZOFFSETTO:-0700
TZNAME:MST
DTSTART:20231105T080000
END:STANDARD
END:VTIMEZONE
BEGIN:VEVENT
DTSTART;TZID=America/Denver:20231012T193000
DTEND;TZID=America/Denver:20231012T210000
DTSTAMP:20260420T131312
CREATED:20230518T172253Z
LAST-MODIFIED:20230518T172253Z
UID:32149-1697139000-1697144400@devfac.coloradocollege.edu
SUMMARY:Misery
DESCRIPTION:Misery follows successful romance novelist Paul Sheldon\, who is rescued from a car crash by his “number one fan\,” Annie Wilkes\, and wakes up captive in her secluded home. While Paul is convalescing\, Annie reads his latest book and becomes enraged when she discovers the author has killed off her favorite character\, Misery Chastain. Annie forces Paul to write a new Misery novel\, and he quickly realizes Annie has no intention of letting him go anywhere. The irate Annie has Paul writing as if his life depends on it\, and it does. 
URL:https://devfac.coloradocollege.edu/event/misery/
LOCATION:Fine Arts Center\, 30 W. Dale St.\, Colorado Springs\, CO\, 80903\, United States
CATEGORIES:Theatre
ATTACH;FMTTYPE=image/jpeg:https://devfac.coloradocollege.edu/wp-content/uploads/2023/05/misery_500.jpg
END:VEVENT
BEGIN:VEVENT
DTSTART;TZID=America/Denver:20231012T193000
DTEND;TZID=America/Denver:20231012T210000
DTSTAMP:20260420T131312
CREATED:20230518T172253Z
LAST-MODIFIED:20230518T172253Z
UID:32149-1697139000-1697144400@devfac.coloradocollege.edu
SUMMARY:Misery
DESCRIPTION:Misery follows successful romance novelist Paul Sheldon\, who is rescued from a car crash by his “number one fan\,” Annie Wilkes\, and wakes up captive in her secluded home. While Paul is convalescing\, Annie reads his latest book and becomes enraged when she discovers the author has killed off her favorite character\, Misery Chastain. Annie forces Paul to write a new Misery novel\, and he quickly realizes Annie has no intention of letting him go anywhere. The irate Annie has Paul writing as if his life depends on it\, and it does. 
URL:https://devfac.coloradocollege.edu/event/misery/
LOCATION:Fine Arts Center\, 30 W. Dale St.\, Colorado Springs\, CO\, 80903\, United States
CATEGORIES:Theatre
ATTACH;FMTTYPE=image/jpeg:https://devfac.coloradocollege.edu/wp-content/uploads/2023/05/misery_500.jpg
END:VEVENT
BEGIN:VEVENT
DTSTART;TZID=America/Denver:20231015T140000
DTEND;TZID=America/Denver:20231015T153000
DTSTAMP:20260420T131312
CREATED:20240507T211344Z
LAST-MODIFIED:20240507T211344Z
UID:34972-1697378400-1697383800@devfac.coloradocollege.edu
SUMMARY:Misery
DESCRIPTION:Misery follows successful romance novelist Paul Sheldon\, who is rescued from a car crash by his “number one fan\,” Annie Wilkes\, and wakes up captive in her secluded home. While Paul is convalescing\, Annie reads his latest book and becomes enraged when she discovers the author has killed off her favorite character\, Misery Chastain. Annie forces Paul to write a new Misery novel\, and he quickly realizes Annie has no intention of letting him go anywhere. The irate Annie has Paul writing as if his life depends on it\, and it does. 
URL:https://devfac.coloradocollege.edu/event/misery/
LOCATION:Fine Arts Center\, 30 W. Dale St.\, Colorado Springs\, CO\, 80903\, United States
CATEGORIES:Theatre
ATTACH;FMTTYPE=image/jpeg:https://devfac.coloradocollege.edu/wp-content/uploads/2023/05/misery_500.jpg
END:VEVENT
BEGIN:VEVENT
DTSTART;TZID=America/Denver:20231015T140000
DTEND;TZID=America/Denver:20231015T153000
DTSTAMP:20260420T131312
CREATED:20240507T211344Z
LAST-MODIFIED:20240507T211344Z
UID:34972-1697378400-1697383800@devfac.coloradocollege.edu
SUMMARY:Misery
DESCRIPTION:Misery follows successful romance novelist Paul Sheldon\, who is rescued from a car crash by his “number one fan\,” Annie Wilkes\, and wakes up captive in her secluded home. While Paul is convalescing\, Annie reads his latest book and becomes enraged when she discovers the author has killed off her favorite character\, Misery Chastain. Annie forces Paul to write a new Misery novel\, and he quickly realizes Annie has no intention of letting him go anywhere. The irate Annie has Paul writing as if his life depends on it\, and it does. 
URL:https://devfac.coloradocollege.edu/event/misery/
LOCATION:Fine Arts Center\, 30 W. Dale St.\, Colorado Springs\, CO\, 80903\, United States
CATEGORIES:Theatre
ATTACH;FMTTYPE=image/jpeg:https://devfac.coloradocollege.edu/wp-content/uploads/2023/05/misery_500.jpg
END:VEVENT
BEGIN:VEVENT
DTSTART;TZID=America/Denver:20231015T153000
DTEND;TZID=America/Denver:20231015T163000
DTSTAMP:20260420T131312
CREATED:20230921T200913Z
LAST-MODIFIED:20230921T200913Z
UID:33158-1697383800-1697387400@devfac.coloradocollege.edu
SUMMARY:Behind-the-Scenes Sunday
DESCRIPTION:Ever wonder\, “how’d they do that?”? Well\, unbox your inner theatre nerd with the Fine Arts Center Theatre Company staff for a thorough look at the special effects\, backstage spaces\, costume\, and scene shops. This event will begin immediately following the Oct. 15\, 2 p.m. performance of Misery. \nThis event is free and open to the public; no reservations required. 
URL:https://devfac.coloradocollege.edu/event/behind-the-scenes-sunday/
LOCATION:Fine Arts Center\, 30 W. Dale St.\, Colorado Springs\, CO\, 80903\, United States
CATEGORIES:Special Event,Theatre
ATTACH;FMTTYPE=image/jpeg:https://devfac.coloradocollege.edu/wp-content/uploads/2023/09/Backstage-tour_500.jpg
END:VEVENT
BEGIN:VEVENT
DTSTART;TZID=America/Denver:20231018T190000
DTEND;TZID=America/Denver:20231018T203000
DTSTAMP:20260420T131312
CREATED:20240507T211344Z
LAST-MODIFIED:20240507T211344Z
UID:34974-1697655600-1697661000@devfac.coloradocollege.edu
SUMMARY:Misery
DESCRIPTION:Misery follows successful romance novelist Paul Sheldon\, who is rescued from a car crash by his “number one fan\,” Annie Wilkes\, and wakes up captive in her secluded home. While Paul is convalescing\, Annie reads his latest book and becomes enraged when she discovers the author has killed off her favorite character\, Misery Chastain. Annie forces Paul to write a new Misery novel\, and he quickly realizes Annie has no intention of letting him go anywhere. The irate Annie has Paul writing as if his life depends on it\, and it does. 
URL:https://devfac.coloradocollege.edu/event/misery/
LOCATION:Fine Arts Center\, 30 W. Dale St.\, Colorado Springs\, CO\, 80903\, United States
CATEGORIES:Theatre
ATTACH;FMTTYPE=image/jpeg:https://devfac.coloradocollege.edu/wp-content/uploads/2023/05/misery_500.jpg
END:VEVENT
BEGIN:VEVENT
DTSTART;TZID=America/Denver:20231012T193000
DTEND;TZID=America/Denver:20231012T210000
DTSTAMP:20260420T131312
CREATED:20230518T172253Z
LAST-MODIFIED:20230518T172253Z
UID:32149-1697139000-1697144400@devfac.coloradocollege.edu
SUMMARY:Misery
DESCRIPTION:Misery follows successful romance novelist Paul Sheldon\, who is rescued from a car crash by his “number one fan\,” Annie Wilkes\, and wakes up captive in her secluded home. While Paul is convalescing\, Annie reads his latest book and becomes enraged when she discovers the author has killed off her favorite character\, Misery Chastain. Annie forces Paul to write a new Misery novel\, and he quickly realizes Annie has no intention of letting him go anywhere. The irate Annie has Paul writing as if his life depends on it\, and it does. 
URL:https://devfac.coloradocollege.edu/event/misery/
LOCATION:Fine Arts Center\, 30 W. Dale St.\, Colorado Springs\, CO\, 80903\, United States
CATEGORIES:Theatre
ATTACH;FMTTYPE=image/jpeg:https://devfac.coloradocollege.edu/wp-content/uploads/2023/05/misery_500.jpg
END:VEVENT
BEGIN:VEVENT
DTSTART;TZID=America/Denver:20231012T193000
DTEND;TZID=America/Denver:20231012T210000
DTSTAMP:20260420T131312
CREATED:20230518T172253Z
LAST-MODIFIED:20230518T172253Z
UID:32149-1697139000-1697144400@devfac.coloradocollege.edu
SUMMARY:Misery
DESCRIPTION:Misery follows successful romance novelist Paul Sheldon\, who is rescued from a car crash by his “number one fan\,” Annie Wilkes\, and wakes up captive in her secluded home. While Paul is convalescing\, Annie reads his latest book and becomes enraged when she discovers the author has killed off her favorite character\, Misery Chastain. Annie forces Paul to write a new Misery novel\, and he quickly realizes Annie has no intention of letting him go anywhere. The irate Annie has Paul writing as if his life depends on it\, and it does. 
URL:https://devfac.coloradocollege.edu/event/misery/
LOCATION:Fine Arts Center\, 30 W. Dale St.\, Colorado Springs\, CO\, 80903\, United States
CATEGORIES:Theatre
ATTACH;FMTTYPE=image/jpeg:https://devfac.coloradocollege.edu/wp-content/uploads/2023/05/misery_500.jpg
END:VEVENT
BEGIN:VEVENT
DTSTART;TZID=America/Denver:20231012T193000
DTEND;TZID=America/Denver:20231012T210000
DTSTAMP:20260420T131312
CREATED:20230518T172253Z
LAST-MODIFIED:20230518T172253Z
UID:32149-1697139000-1697144400@devfac.coloradocollege.edu
SUMMARY:Misery
DESCRIPTION:Misery follows successful romance novelist Paul Sheldon\, who is rescued from a car crash by his “number one fan\,” Annie Wilkes\, and wakes up captive in her secluded home. While Paul is convalescing\, Annie reads his latest book and becomes enraged when she discovers the author has killed off her favorite character\, Misery Chastain. Annie forces Paul to write a new Misery novel\, and he quickly realizes Annie has no intention of letting him go anywhere. The irate Annie has Paul writing as if his life depends on it\, and it does. 
URL:https://devfac.coloradocollege.edu/event/misery/
LOCATION:Fine Arts Center\, 30 W. Dale St.\, Colorado Springs\, CO\, 80903\, United States
CATEGORIES:Theatre
ATTACH;FMTTYPE=image/jpeg:https://devfac.coloradocollege.edu/wp-content/uploads/2023/05/misery_500.jpg
END:VEVENT
BEGIN:VEVENT
DTSTART;TZID=America/Denver:20231021T190000
DTEND;TZID=America/Denver:20231021T200000
DTSTAMP:20260420T131312
CREATED:20230804T182022Z
LAST-MODIFIED:20240313T152206Z
UID:32671-1697914800-1697918400@devfac.coloradocollege.edu
SUMMARY:Songs in the Key of J.
DESCRIPTION:Join us all season long in the Deco Lounge as local favorite J. Chang-Tablada sings and shares stories from the piano following 5 p.m. mainstage performances. Donations will be accepted. \nMisery Oct. 21\, 2023\nElf the Musical Dec. 9 & 30\, 2023\nWater by the Spoonful Feb. 24\, 2024\nRent May 11 & 25\, 2024 \nJ. Chang-Tablada is a Korean-Filipino-Irish-American musician\, storyteller\, and photographer. One of Colorado Springs’ most beloved and prolific Music Directors\, J. Chang-Tablada is known for his work with the Colorado Springs Fine Arts Center at Colorado College\, Theatreworks\, and Millibo Art Theatre. An accomplished entertainer in his own right\, J. frequently takes the stage singing and sharing stories from the piano\, with recent performances at 54 Below in New York City\, at the Green Box Arts Festival with his “Sing-a-long with Jerry McCauley and Friends” concerts last summer\, and with his debut holiday album “Naughty & Nice” concerts last December.
URL:https://devfac.coloradocollege.edu/event/songs-in-the-key-of-j-2/
LOCATION:Fine Arts Center\, 30 W. Dale St.\, Colorado Springs\, CO\, 80903\, United States
CATEGORIES:Special Event,Theatre
ATTACH;FMTTYPE=image/jpeg:https://devfac.coloradocollege.edu/wp-content/uploads/2023/08/j-chang-tablada_500.jpg
END:VEVENT
BEGIN:VEVENT
DTSTART;TZID=America/Denver:20231015T140000
DTEND;TZID=America/Denver:20231015T153000
DTSTAMP:20260420T131312
CREATED:20240507T211344Z
LAST-MODIFIED:20240507T211344Z
UID:34972-1697378400-1697383800@devfac.coloradocollege.edu
SUMMARY:Misery
DESCRIPTION:Misery follows successful romance novelist Paul Sheldon\, who is rescued from a car crash by his “number one fan\,” Annie Wilkes\, and wakes up captive in her secluded home. While Paul is convalescing\, Annie reads his latest book and becomes enraged when she discovers the author has killed off her favorite character\, Misery Chastain. Annie forces Paul to write a new Misery novel\, and he quickly realizes Annie has no intention of letting him go anywhere. The irate Annie has Paul writing as if his life depends on it\, and it does. 
URL:https://devfac.coloradocollege.edu/event/misery/
LOCATION:Fine Arts Center\, 30 W. Dale St.\, Colorado Springs\, CO\, 80903\, United States
CATEGORIES:Theatre
ATTACH;FMTTYPE=image/jpeg:https://devfac.coloradocollege.edu/wp-content/uploads/2023/05/misery_500.jpg
END:VEVENT
BEGIN:VEVENT
DTSTART;TZID=America/Denver:20231022T153000
DTEND;TZID=America/Denver:20231022T163000
DTSTAMP:20260420T131312
CREATED:20230921T201931Z
LAST-MODIFIED:20230921T201932Z
UID:33161-1697988600-1697992200@devfac.coloradocollege.edu
SUMMARY:Ask the Actors
DESCRIPTION:Curious about the lifestyle of a theatre professional? What’s it take to slip into a character night after night? Stay in your seats after the show for a curated discussion with the cast and creatives and satiate your curiosity. This event will begin immediately following the Oct. 22\, 2 p.m. performance of Misery. \nThis event is free and open to the public; no reservations required. 
URL:https://devfac.coloradocollege.edu/event/ask-the-actors/
LOCATION:Fine Arts Center\, 30 W. Dale St.\, Colorado Springs\, CO\, 80903\, United States
CATEGORIES:Special Event,Theatre
ATTACH;FMTTYPE=image/jpeg:https://devfac.coloradocollege.edu/wp-content/uploads/2023/09/Mainstage-Theatre_500.jpg
END:VEVENT
BEGIN:VEVENT
DTSTART;TZID=America/Denver:20231018T190000
DTEND;TZID=America/Denver:20231018T203000
DTSTAMP:20260420T131312
CREATED:20240507T211344Z
LAST-MODIFIED:20240507T211344Z
UID:34974-1697655600-1697661000@devfac.coloradocollege.edu
SUMMARY:Misery
DESCRIPTION:Misery follows successful romance novelist Paul Sheldon\, who is rescued from a car crash by his “number one fan\,” Annie Wilkes\, and wakes up captive in her secluded home. While Paul is convalescing\, Annie reads his latest book and becomes enraged when she discovers the author has killed off her favorite character\, Misery Chastain. Annie forces Paul to write a new Misery novel\, and he quickly realizes Annie has no intention of letting him go anywhere. The irate Annie has Paul writing as if his life depends on it\, and it does. 
URL:https://devfac.coloradocollege.edu/event/misery/
LOCATION:Fine Arts Center\, 30 W. Dale St.\, Colorado Springs\, CO\, 80903\, United States
CATEGORIES:Theatre
ATTACH;FMTTYPE=image/jpeg:https://devfac.coloradocollege.edu/wp-content/uploads/2023/05/misery_500.jpg
END:VEVENT
BEGIN:VEVENT
DTSTART;TZID=America/Denver:20231012T193000
DTEND;TZID=America/Denver:20231012T210000
DTSTAMP:20260420T131312
CREATED:20230518T172253Z
LAST-MODIFIED:20230518T172253Z
UID:32149-1697139000-1697144400@devfac.coloradocollege.edu
SUMMARY:Misery
DESCRIPTION:Misery follows successful romance novelist Paul Sheldon\, who is rescued from a car crash by his “number one fan\,” Annie Wilkes\, and wakes up captive in her secluded home. While Paul is convalescing\, Annie reads his latest book and becomes enraged when she discovers the author has killed off her favorite character\, Misery Chastain. Annie forces Paul to write a new Misery novel\, and he quickly realizes Annie has no intention of letting him go anywhere. The irate Annie has Paul writing as if his life depends on it\, and it does. 
URL:https://devfac.coloradocollege.edu/event/misery/
LOCATION:Fine Arts Center\, 30 W. Dale St.\, Colorado Springs\, CO\, 80903\, United States
CATEGORIES:Theatre
ATTACH;FMTTYPE=image/jpeg:https://devfac.coloradocollege.edu/wp-content/uploads/2023/05/misery_500.jpg
END:VEVENT
BEGIN:VEVENT
DTSTART;TZID=America/Denver:20231012T193000
DTEND;TZID=America/Denver:20231012T210000
DTSTAMP:20260420T131312
CREATED:20230518T172253Z
LAST-MODIFIED:20230518T172253Z
UID:32149-1697139000-1697144400@devfac.coloradocollege.edu
SUMMARY:Misery
DESCRIPTION:Misery follows successful romance novelist Paul Sheldon\, who is rescued from a car crash by his “number one fan\,” Annie Wilkes\, and wakes up captive in her secluded home. While Paul is convalescing\, Annie reads his latest book and becomes enraged when she discovers the author has killed off her favorite character\, Misery Chastain. Annie forces Paul to write a new Misery novel\, and he quickly realizes Annie has no intention of letting him go anywhere. The irate Annie has Paul writing as if his life depends on it\, and it does. 
URL:https://devfac.coloradocollege.edu/event/misery/
LOCATION:Fine Arts Center\, 30 W. Dale St.\, Colorado Springs\, CO\, 80903\, United States
CATEGORIES:Theatre
ATTACH;FMTTYPE=image/jpeg:https://devfac.coloradocollege.edu/wp-content/uploads/2023/05/misery_500.jpg
END:VEVENT
BEGIN:VEVENT
DTSTART;TZID=America/Denver:20231028T100000
DTEND;TZID=America/Denver:20231028T110000
DTSTAMP:20260420T131312
CREATED:20210621T185401Z
LAST-MODIFIED:20230828T223034Z
UID:24283-1698487200-1698490800@devfac.coloradocollege.edu
SUMMARY:Balloonacy
DESCRIPTION:Imagine a single balloon changing one person’s life forever. Balloonacy is tender\, uplifting show for the little ones (and the big ones\, too). Sweet\, inventive and packed with physical comedy\, this play explores the power of friendship and shows how\, with a little imagination and acceptance\, companionship is everywhere.  \nPerformed on Saturdays at 10 a.m. & 2 p.m. and Sundays at 12 p.m. & 4 p.m.
URL:https://devfac.coloradocollege.edu/event/balloonacy/
LOCATION:Fine Arts Center\, 30 W. Dale St.\, Colorado Springs\, CO\, 80903\, United States
CATEGORIES:Theatre
ATTACH;FMTTYPE=image/jpeg:https://devfac.coloradocollege.edu/wp-content/uploads/2023/05/balloonacy_500.jpg
END:VEVENT
BEGIN:VEVENT
DTSTART;TZID=America/Denver:20231012T193000
DTEND;TZID=America/Denver:20231012T210000
DTSTAMP:20260420T131312
CREATED:20230518T172253Z
LAST-MODIFIED:20230518T172253Z
UID:32149-1697139000-1697144400@devfac.coloradocollege.edu
SUMMARY:Misery
DESCRIPTION:Misery follows successful romance novelist Paul Sheldon\, who is rescued from a car crash by his “number one fan\,” Annie Wilkes\, and wakes up captive in her secluded home. While Paul is convalescing\, Annie reads his latest book and becomes enraged when she discovers the author has killed off her favorite character\, Misery Chastain. Annie forces Paul to write a new Misery novel\, and he quickly realizes Annie has no intention of letting him go anywhere. The irate Annie has Paul writing as if his life depends on it\, and it does. 
URL:https://devfac.coloradocollege.edu/event/misery/
LOCATION:Fine Arts Center\, 30 W. Dale St.\, Colorado Springs\, CO\, 80903\, United States
CATEGORIES:Theatre
ATTACH;FMTTYPE=image/jpeg:https://devfac.coloradocollege.edu/wp-content/uploads/2023/05/misery_500.jpg
END:VEVENT
BEGIN:VEVENT
DTSTART;TZID=America/Denver:20231012T193000
DTEND;TZID=America/Denver:20231012T210000
DTSTAMP:20260420T131312
CREATED:20230518T172253Z
LAST-MODIFIED:20230518T172253Z
UID:32149-1697139000-1697144400@devfac.coloradocollege.edu
SUMMARY:Misery
DESCRIPTION:Misery follows successful romance novelist Paul Sheldon\, who is rescued from a car crash by his “number one fan\,” Annie Wilkes\, and wakes up captive in her secluded home. While Paul is convalescing\, Annie reads his latest book and becomes enraged when she discovers the author has killed off her favorite character\, Misery Chastain. Annie forces Paul to write a new Misery novel\, and he quickly realizes Annie has no intention of letting him go anywhere. The irate Annie has Paul writing as if his life depends on it\, and it does. 
URL:https://devfac.coloradocollege.edu/event/misery/
LOCATION:Fine Arts Center\, 30 W. Dale St.\, Colorado Springs\, CO\, 80903\, United States
CATEGORIES:Theatre
ATTACH;FMTTYPE=image/jpeg:https://devfac.coloradocollege.edu/wp-content/uploads/2023/05/misery_500.jpg
END:VEVENT
BEGIN:VEVENT
DTSTART;TZID=America/Denver:20231029T120000
DTEND;TZID=America/Denver:20231029T130000
DTSTAMP:20260420T131312
CREATED:20240507T211230Z
LAST-MODIFIED:20240507T211230Z
UID:34890-1698580800-1698584400@devfac.coloradocollege.edu
SUMMARY:Balloonacy
DESCRIPTION:Imagine a single balloon changing one person’s life forever. Balloonacy is tender\, uplifting show for the little ones (and the big ones\, too). Sweet\, inventive and packed with physical comedy\, this play explores the power of friendship and shows how\, with a little imagination and acceptance\, companionship is everywhere.  \nPerformed on Saturdays at 10 a.m. & 2 p.m. and Sundays at 12 p.m. & 4 p.m.
URL:https://devfac.coloradocollege.edu/event/balloonacy/
LOCATION:Fine Arts Center\, 30 W. Dale St.\, Colorado Springs\, CO\, 80903\, United States
CATEGORIES:Theatre
ATTACH;FMTTYPE=image/jpeg:https://devfac.coloradocollege.edu/wp-content/uploads/2023/05/balloonacy_500.jpg
END:VEVENT
BEGIN:VEVENT
DTSTART;TZID=America/Denver:20231015T140000
DTEND;TZID=America/Denver:20231015T153000
DTSTAMP:20260420T131312
CREATED:20240507T211344Z
LAST-MODIFIED:20240507T211344Z
UID:34972-1697378400-1697383800@devfac.coloradocollege.edu
SUMMARY:Misery
DESCRIPTION:Misery follows successful romance novelist Paul Sheldon\, who is rescued from a car crash by his “number one fan\,” Annie Wilkes\, and wakes up captive in her secluded home. While Paul is convalescing\, Annie reads his latest book and becomes enraged when she discovers the author has killed off her favorite character\, Misery Chastain. Annie forces Paul to write a new Misery novel\, and he quickly realizes Annie has no intention of letting him go anywhere. The irate Annie has Paul writing as if his life depends on it\, and it does. 
URL:https://devfac.coloradocollege.edu/event/misery/
LOCATION:Fine Arts Center\, 30 W. Dale St.\, Colorado Springs\, CO\, 80903\, United States
CATEGORIES:Theatre
ATTACH;FMTTYPE=image/jpeg:https://devfac.coloradocollege.edu/wp-content/uploads/2023/05/misery_500.jpg
END:VEVENT
BEGIN:VEVENT
DTSTART;TZID=America/Denver:20231029T160000
DTEND;TZID=America/Denver:20231029T170000
DTSTAMP:20260420T131312
CREATED:20240507T211231Z
LAST-MODIFIED:20240507T211231Z
UID:34892-1698595200-1698598800@devfac.coloradocollege.edu
SUMMARY:Balloonacy
DESCRIPTION:Imagine a single balloon changing one person’s life forever. Balloonacy is tender\, uplifting show for the little ones (and the big ones\, too). Sweet\, inventive and packed with physical comedy\, this play explores the power of friendship and shows how\, with a little imagination and acceptance\, companionship is everywhere.  \nPerformed on Saturdays at 10 a.m. & 2 p.m. and Sundays at 12 p.m. & 4 p.m.
URL:https://devfac.coloradocollege.edu/event/balloonacy/
LOCATION:Fine Arts Center\, 30 W. Dale St.\, Colorado Springs\, CO\, 80903\, United States
CATEGORIES:Theatre
ATTACH;FMTTYPE=image/jpeg:https://devfac.coloradocollege.edu/wp-content/uploads/2023/05/balloonacy_500.jpg
END:VEVENT
END:VCALENDAR