BEGIN:VCALENDAR
VERSION:2.0
PRODID:-//Fine Arts Center - ECPv6.13.0//NONSGML v1.0//EN
CALSCALE:GREGORIAN
METHOD:PUBLISH
X-WR-CALNAME:Fine Arts Center
X-ORIGINAL-URL:https://devfac.coloradocollege.edu
X-WR-CALDESC:Events for Fine Arts Center
REFRESH-INTERVAL;VALUE=DURATION:PT1H
X-Robots-Tag:noindex
X-PUBLISHED-TTL:PT1H
BEGIN:VTIMEZONE
TZID:America/Denver
BEGIN:DAYLIGHT
TZOFFSETFROM:-0700
TZOFFSETTO:-0600
TZNAME:MDT
DTSTART:20230312T090000
END:DAYLIGHT
BEGIN:STANDARD
TZOFFSETFROM:-0600
TZOFFSETTO:-0700
TZNAME:MST
DTSTART:20231105T080000
END:STANDARD
END:VTIMEZONE
BEGIN:VEVENT
DTSTART;TZID=America/Denver:20230909T160000
DTEND;TZID=America/Denver:20230909T180000
DTSTAMP:20260420T192611
CREATED:20230814T223421Z
LAST-MODIFIED:20230815T144629Z
UID:32769-1694275200-1694282400@devfac.coloradocollege.edu
SUMMARY:Performance by Su Teatro and Panel Discussion with Artist Carlos Frésquez
DESCRIPTION:Join us for a performance in the FAC Music Room by Denver-based Chicanx theatre group Su Teatro and for a panel discussion with artist Carlos Frésquez. \nFree! RSVP requested \nImage: Carlos Frésquez\, The Obsidian Ranfla Series #3 (detail)\, 1999\, Museum Purchase (Colorado 2000 Purchase Prize)\, FA 2000.4.
URL:https://devfac.coloradocollege.edu/event/performance-by-su-teatro-and-panel-discussion-with-artist-carlos-fresquez/
LOCATION:Fine Arts Center\, 30 W. Dale St.\, Colorado Springs\, CO\, 80903\, United States
CATEGORIES:Museum,Special Event,Theatre
ATTACH;FMTTYPE=image/jpeg:https://devfac.coloradocollege.edu/wp-content/uploads/2023/08/mi-gente_500.jpg
END:VEVENT
BEGIN:VEVENT
DTSTART;TZID=America/Denver:20230915T193000
DTEND;TZID=America/Denver:20230915T213000
DTSTAMP:20260420T192611
CREATED:20230602T182952Z
LAST-MODIFIED:20230626T155704Z
UID:32225-1694806200-1694813400@devfac.coloradocollege.edu
SUMMARY:Night of Indigenous Comedy: Adrianne Chalepah
DESCRIPTION:From Nexflix and Amazon comedy specials to NBC Peacock’s “Rutherford Falls\,” Chalepah now brings her unique Native take on the world back to the FAC.
URL:https://devfac.coloradocollege.edu/event/adrianne-chalepah/
LOCATION:Fine Arts Center\, 30 W. Dale St.\, Colorado Springs\, CO\, 80903\, United States
CATEGORIES:Special Event,Theatre
ATTACH;FMTTYPE=image/jpeg:https://devfac.coloradocollege.edu/wp-content/uploads/2023/06/Adrianne-Chalepah_500.jpg
END:VEVENT
BEGIN:VEVENT
DTSTART;TZID=America/Denver:20230916T193000
DTEND;TZID=America/Denver:20230916T213000
DTSTAMP:20260420T192611
CREATED:20230601T201819Z
LAST-MODIFIED:20230719T194648Z
UID:32213-1694892600-1694899800@devfac.coloradocollege.edu
SUMMARY:Sasha Colby
DESCRIPTION:This goddess is making history. She’s the first drag queen to win both Drag Race and Miss Continental. Sasha’s signature\, sensual modern drag is sure to entertain.
URL:https://devfac.coloradocollege.edu/event/sasha-colby/
LOCATION:Fine Arts Center\, 30 W. Dale St.\, Colorado Springs\, CO\, 80903\, United States
CATEGORIES:Special Event,Theatre
ATTACH;FMTTYPE=image/jpeg:https://devfac.coloradocollege.edu/wp-content/uploads/2023/06/Sasha-Colby_500.jpg
END:VEVENT
END:VCALENDAR