BEGIN:VCALENDAR
VERSION:2.0
PRODID:-//Fine Arts Center - ECPv6.13.0//NONSGML v1.0//EN
CALSCALE:GREGORIAN
METHOD:PUBLISH
X-WR-CALNAME:Fine Arts Center
X-ORIGINAL-URL:https://devfac.coloradocollege.edu
X-WR-CALDESC:Events for Fine Arts Center
REFRESH-INTERVAL;VALUE=DURATION:PT1H
X-Robots-Tag:noindex
X-PUBLISHED-TTL:PT1H
BEGIN:VTIMEZONE
TZID:America/Denver
BEGIN:DAYLIGHT
TZOFFSETFROM:-0700
TZOFFSETTO:-0600
TZNAME:MDT
DTSTART:20220313T090000
END:DAYLIGHT
BEGIN:STANDARD
TZOFFSETFROM:-0600
TZOFFSETTO:-0700
TZNAME:MST
DTSTART:20221106T080000
END:STANDARD
END:VTIMEZONE
BEGIN:VEVENT
DTSTART;TZID=America/Denver:20220302T190000
DTEND;TZID=America/Denver:20220302T210000
DTSTAMP:20260423T083942
CREATED:20240507T211233Z
LAST-MODIFIED:20240507T211233Z
UID:34896-1646247600-1646254800@devfac.coloradocollege.edu
SUMMARY:By the Way\, Meet Vera Stark
DESCRIPTION:A new comedy from Pulitzer Prize-winning playwright Lynn Nottage (Intimate Apparel) draws on the screwball films of the 1930s to take a funny and irreverent look at racial stereotypes in Hollywood. By the Way\, Meet Vera Stark is a seventy-year journey through the life of Vera Stark\, a headstrong Black maid and budding actress\, and her tangled relationship with her boss\, a white Hollywood star desperately trying to hold on to her career. When circumstances collide and both women land roles in the same Southern epic\, the story behind the cameras leaves Vera with a surprising and controversial legacy scholars will debate for years to come. \nWed at 7 p.m.\, Thurs & Fri at 7:30 p.m.\, Sat at 5 or 7:30 p.m.\, Sun Matinées at 2 p.m. \n“The first act\, in which Vera angles for a role\, is in the style of a screwball comedy…. The second act\, which shifts between a 2003 symposium\, steeped in academese\, and a 1973 talk show\, steeped in gin\, is more like a screwball tragedy” —The New York Times \n“A satisfying screwball comedy in which Nottage uses stereotypes to expose them\, tapping into a current of rueful emotion beneath the surface.” —Vogue
URL:https://devfac.coloradocollege.edu/event/by-the-way-meet-vera-stark/
LOCATION:Fine Arts Center\, 30 W. Dale St.\, Colorado Springs\, CO\, 80903\, United States
CATEGORIES:Theatre
ATTACH;FMTTYPE=image/jpeg:https://devfac.coloradocollege.edu/wp-content/uploads/2022/01/vera-stark_500.jpg
END:VEVENT
BEGIN:VEVENT
DTSTART;TZID=America/Denver:20220224T193000
DTEND;TZID=America/Denver:20220224T213000
DTSTAMP:20260423T083942
CREATED:20210621T204357Z
LAST-MODIFIED:20220117T162156Z
UID:24454-1645731000-1645738200@devfac.coloradocollege.edu
SUMMARY:By the Way\, Meet Vera Stark
DESCRIPTION:A new comedy from Pulitzer Prize-winning playwright Lynn Nottage (Intimate Apparel) draws on the screwball films of the 1930s to take a funny and irreverent look at racial stereotypes in Hollywood. By the Way\, Meet Vera Stark is a seventy-year journey through the life of Vera Stark\, a headstrong Black maid and budding actress\, and her tangled relationship with her boss\, a white Hollywood star desperately trying to hold on to her career. When circumstances collide and both women land roles in the same Southern epic\, the story behind the cameras leaves Vera with a surprising and controversial legacy scholars will debate for years to come. \nWed at 7 p.m.\, Thurs & Fri at 7:30 p.m.\, Sat at 5 or 7:30 p.m.\, Sun Matinées at 2 p.m. \n“The first act\, in which Vera angles for a role\, is in the style of a screwball comedy…. The second act\, which shifts between a 2003 symposium\, steeped in academese\, and a 1973 talk show\, steeped in gin\, is more like a screwball tragedy” —The New York Times \n“A satisfying screwball comedy in which Nottage uses stereotypes to expose them\, tapping into a current of rueful emotion beneath the surface.” —Vogue
URL:https://devfac.coloradocollege.edu/event/by-the-way-meet-vera-stark/
LOCATION:Fine Arts Center\, 30 W. Dale St.\, Colorado Springs\, CO\, 80903\, United States
CATEGORIES:Theatre
ATTACH;FMTTYPE=image/jpeg:https://devfac.coloradocollege.edu/wp-content/uploads/2022/01/vera-stark_500.jpg
END:VEVENT
BEGIN:VEVENT
DTSTART;TZID=America/Denver:20220224T193000
DTEND;TZID=America/Denver:20220224T213000
DTSTAMP:20260423T083942
CREATED:20210621T204357Z
LAST-MODIFIED:20220117T162156Z
UID:24454-1645731000-1645738200@devfac.coloradocollege.edu
SUMMARY:By the Way\, Meet Vera Stark
DESCRIPTION:A new comedy from Pulitzer Prize-winning playwright Lynn Nottage (Intimate Apparel) draws on the screwball films of the 1930s to take a funny and irreverent look at racial stereotypes in Hollywood. By the Way\, Meet Vera Stark is a seventy-year journey through the life of Vera Stark\, a headstrong Black maid and budding actress\, and her tangled relationship with her boss\, a white Hollywood star desperately trying to hold on to her career. When circumstances collide and both women land roles in the same Southern epic\, the story behind the cameras leaves Vera with a surprising and controversial legacy scholars will debate for years to come. \nWed at 7 p.m.\, Thurs & Fri at 7:30 p.m.\, Sat at 5 or 7:30 p.m.\, Sun Matinées at 2 p.m. \n“The first act\, in which Vera angles for a role\, is in the style of a screwball comedy…. The second act\, which shifts between a 2003 symposium\, steeped in academese\, and a 1973 talk show\, steeped in gin\, is more like a screwball tragedy” —The New York Times \n“A satisfying screwball comedy in which Nottage uses stereotypes to expose them\, tapping into a current of rueful emotion beneath the surface.” —Vogue
URL:https://devfac.coloradocollege.edu/event/by-the-way-meet-vera-stark/
LOCATION:Fine Arts Center\, 30 W. Dale St.\, Colorado Springs\, CO\, 80903\, United States
CATEGORIES:Theatre
ATTACH;FMTTYPE=image/jpeg:https://devfac.coloradocollege.edu/wp-content/uploads/2022/01/vera-stark_500.jpg
END:VEVENT
BEGIN:VEVENT
DTSTART;TZID=America/Denver:20220224T193000
DTEND;TZID=America/Denver:20220224T213000
DTSTAMP:20260423T083942
CREATED:20210621T204357Z
LAST-MODIFIED:20220117T162156Z
UID:24454-1645731000-1645738200@devfac.coloradocollege.edu
SUMMARY:By the Way\, Meet Vera Stark
DESCRIPTION:A new comedy from Pulitzer Prize-winning playwright Lynn Nottage (Intimate Apparel) draws on the screwball films of the 1930s to take a funny and irreverent look at racial stereotypes in Hollywood. By the Way\, Meet Vera Stark is a seventy-year journey through the life of Vera Stark\, a headstrong Black maid and budding actress\, and her tangled relationship with her boss\, a white Hollywood star desperately trying to hold on to her career. When circumstances collide and both women land roles in the same Southern epic\, the story behind the cameras leaves Vera with a surprising and controversial legacy scholars will debate for years to come. \nWed at 7 p.m.\, Thurs & Fri at 7:30 p.m.\, Sat at 5 or 7:30 p.m.\, Sun Matinées at 2 p.m. \n“The first act\, in which Vera angles for a role\, is in the style of a screwball comedy…. The second act\, which shifts between a 2003 symposium\, steeped in academese\, and a 1973 talk show\, steeped in gin\, is more like a screwball tragedy” —The New York Times \n“A satisfying screwball comedy in which Nottage uses stereotypes to expose them\, tapping into a current of rueful emotion beneath the surface.” —Vogue
URL:https://devfac.coloradocollege.edu/event/by-the-way-meet-vera-stark/
LOCATION:Fine Arts Center\, 30 W. Dale St.\, Colorado Springs\, CO\, 80903\, United States
CATEGORIES:Theatre
ATTACH;FMTTYPE=image/jpeg:https://devfac.coloradocollege.edu/wp-content/uploads/2022/01/vera-stark_500.jpg
END:VEVENT
BEGIN:VEVENT
DTSTART;TZID=America/Denver:20220227T140000
DTEND;TZID=America/Denver:20220227T160000
DTSTAMP:20260423T083942
CREATED:20240507T211233Z
LAST-MODIFIED:20240507T211233Z
UID:34897-1645970400-1645977600@devfac.coloradocollege.edu
SUMMARY:By the Way\, Meet Vera Stark
DESCRIPTION:A new comedy from Pulitzer Prize-winning playwright Lynn Nottage (Intimate Apparel) draws on the screwball films of the 1930s to take a funny and irreverent look at racial stereotypes in Hollywood. By the Way\, Meet Vera Stark is a seventy-year journey through the life of Vera Stark\, a headstrong Black maid and budding actress\, and her tangled relationship with her boss\, a white Hollywood star desperately trying to hold on to her career. When circumstances collide and both women land roles in the same Southern epic\, the story behind the cameras leaves Vera with a surprising and controversial legacy scholars will debate for years to come. \nWed at 7 p.m.\, Thurs & Fri at 7:30 p.m.\, Sat at 5 or 7:30 p.m.\, Sun Matinées at 2 p.m. \n“The first act\, in which Vera angles for a role\, is in the style of a screwball comedy…. The second act\, which shifts between a 2003 symposium\, steeped in academese\, and a 1973 talk show\, steeped in gin\, is more like a screwball tragedy” —The New York Times \n“A satisfying screwball comedy in which Nottage uses stereotypes to expose them\, tapping into a current of rueful emotion beneath the surface.” —Vogue
URL:https://devfac.coloradocollege.edu/event/by-the-way-meet-vera-stark/
LOCATION:Fine Arts Center\, 30 W. Dale St.\, Colorado Springs\, CO\, 80903\, United States
CATEGORIES:Theatre
ATTACH;FMTTYPE=image/jpeg:https://devfac.coloradocollege.edu/wp-content/uploads/2022/01/vera-stark_500.jpg
END:VEVENT
BEGIN:VEVENT
DTSTART;TZID=America/Denver:20220309T153000
DTEND;TZID=America/Denver:20220309T163000
DTSTAMP:20260423T083942
CREATED:20220301T204001Z
LAST-MODIFIED:20220304T155210Z
UID:28039-1646839800-1646843400@devfac.coloradocollege.edu
SUMMARY:Action Words Virtual Discussion: By the Way\, Meet Vera Stark
DESCRIPTION:Live virtual discussion. Dive deeper into By the Way\, Meet Vera Stark with our next action words virtual discussion. Join Colorado College’s Director and Associate Professor of Feminist & Gender Studies Dr. Heidi R. Lewis in a discussion with students of her Feminist Theory course on how various feminist theoretical frameworks might influence interpretations of the show.
URL:https://devfac.coloradocollege.edu/event/action-words-by-the-way-meet-vera-stark/
LOCATION:Virtual
CATEGORIES:Special Event,Theatre
ATTACH;FMTTYPE=image/jpeg:https://devfac.coloradocollege.edu/wp-content/uploads/2022/03/1080x1080_vera-stark_photos7-e1646167078994.jpg
END:VEVENT
BEGIN:VEVENT
DTSTART;TZID=America/Denver:20220302T190000
DTEND;TZID=America/Denver:20220302T210000
DTSTAMP:20260423T083942
CREATED:20240507T211233Z
LAST-MODIFIED:20240507T211233Z
UID:34896-1646247600-1646254800@devfac.coloradocollege.edu
SUMMARY:By the Way\, Meet Vera Stark
DESCRIPTION:A new comedy from Pulitzer Prize-winning playwright Lynn Nottage (Intimate Apparel) draws on the screwball films of the 1930s to take a funny and irreverent look at racial stereotypes in Hollywood. By the Way\, Meet Vera Stark is a seventy-year journey through the life of Vera Stark\, a headstrong Black maid and budding actress\, and her tangled relationship with her boss\, a white Hollywood star desperately trying to hold on to her career. When circumstances collide and both women land roles in the same Southern epic\, the story behind the cameras leaves Vera with a surprising and controversial legacy scholars will debate for years to come. \nWed at 7 p.m.\, Thurs & Fri at 7:30 p.m.\, Sat at 5 or 7:30 p.m.\, Sun Matinées at 2 p.m. \n“The first act\, in which Vera angles for a role\, is in the style of a screwball comedy…. The second act\, which shifts between a 2003 symposium\, steeped in academese\, and a 1973 talk show\, steeped in gin\, is more like a screwball tragedy” —The New York Times \n“A satisfying screwball comedy in which Nottage uses stereotypes to expose them\, tapping into a current of rueful emotion beneath the surface.” —Vogue
URL:https://devfac.coloradocollege.edu/event/by-the-way-meet-vera-stark/
LOCATION:Fine Arts Center\, 30 W. Dale St.\, Colorado Springs\, CO\, 80903\, United States
CATEGORIES:Theatre
ATTACH;FMTTYPE=image/jpeg:https://devfac.coloradocollege.edu/wp-content/uploads/2022/01/vera-stark_500.jpg
END:VEVENT
BEGIN:VEVENT
DTSTART;TZID=America/Denver:20220224T193000
DTEND;TZID=America/Denver:20220224T213000
DTSTAMP:20260423T083942
CREATED:20210621T204357Z
LAST-MODIFIED:20220117T162156Z
UID:24454-1645731000-1645738200@devfac.coloradocollege.edu
SUMMARY:By the Way\, Meet Vera Stark
DESCRIPTION:A new comedy from Pulitzer Prize-winning playwright Lynn Nottage (Intimate Apparel) draws on the screwball films of the 1930s to take a funny and irreverent look at racial stereotypes in Hollywood. By the Way\, Meet Vera Stark is a seventy-year journey through the life of Vera Stark\, a headstrong Black maid and budding actress\, and her tangled relationship with her boss\, a white Hollywood star desperately trying to hold on to her career. When circumstances collide and both women land roles in the same Southern epic\, the story behind the cameras leaves Vera with a surprising and controversial legacy scholars will debate for years to come. \nWed at 7 p.m.\, Thurs & Fri at 7:30 p.m.\, Sat at 5 or 7:30 p.m.\, Sun Matinées at 2 p.m. \n“The first act\, in which Vera angles for a role\, is in the style of a screwball comedy…. The second act\, which shifts between a 2003 symposium\, steeped in academese\, and a 1973 talk show\, steeped in gin\, is more like a screwball tragedy” —The New York Times \n“A satisfying screwball comedy in which Nottage uses stereotypes to expose them\, tapping into a current of rueful emotion beneath the surface.” —Vogue
URL:https://devfac.coloradocollege.edu/event/by-the-way-meet-vera-stark/
LOCATION:Fine Arts Center\, 30 W. Dale St.\, Colorado Springs\, CO\, 80903\, United States
CATEGORIES:Theatre
ATTACH;FMTTYPE=image/jpeg:https://devfac.coloradocollege.edu/wp-content/uploads/2022/01/vera-stark_500.jpg
END:VEVENT
BEGIN:VEVENT
DTSTART;TZID=America/Denver:20220224T193000
DTEND;TZID=America/Denver:20220224T213000
DTSTAMP:20260423T083942
CREATED:20210621T204357Z
LAST-MODIFIED:20220117T162156Z
UID:24454-1645731000-1645738200@devfac.coloradocollege.edu
SUMMARY:By the Way\, Meet Vera Stark
DESCRIPTION:A new comedy from Pulitzer Prize-winning playwright Lynn Nottage (Intimate Apparel) draws on the screwball films of the 1930s to take a funny and irreverent look at racial stereotypes in Hollywood. By the Way\, Meet Vera Stark is a seventy-year journey through the life of Vera Stark\, a headstrong Black maid and budding actress\, and her tangled relationship with her boss\, a white Hollywood star desperately trying to hold on to her career. When circumstances collide and both women land roles in the same Southern epic\, the story behind the cameras leaves Vera with a surprising and controversial legacy scholars will debate for years to come. \nWed at 7 p.m.\, Thurs & Fri at 7:30 p.m.\, Sat at 5 or 7:30 p.m.\, Sun Matinées at 2 p.m. \n“The first act\, in which Vera angles for a role\, is in the style of a screwball comedy…. The second act\, which shifts between a 2003 symposium\, steeped in academese\, and a 1973 talk show\, steeped in gin\, is more like a screwball tragedy” —The New York Times \n“A satisfying screwball comedy in which Nottage uses stereotypes to expose them\, tapping into a current of rueful emotion beneath the surface.” —Vogue
URL:https://devfac.coloradocollege.edu/event/by-the-way-meet-vera-stark/
LOCATION:Fine Arts Center\, 30 W. Dale St.\, Colorado Springs\, CO\, 80903\, United States
CATEGORIES:Theatre
ATTACH;FMTTYPE=image/jpeg:https://devfac.coloradocollege.edu/wp-content/uploads/2022/01/vera-stark_500.jpg
END:VEVENT
BEGIN:VEVENT
DTSTART;TZID=America/Denver:20220224T193000
DTEND;TZID=America/Denver:20220224T213000
DTSTAMP:20260423T083942
CREATED:20210621T204357Z
LAST-MODIFIED:20220117T162156Z
UID:24454-1645731000-1645738200@devfac.coloradocollege.edu
SUMMARY:By the Way\, Meet Vera Stark
DESCRIPTION:A new comedy from Pulitzer Prize-winning playwright Lynn Nottage (Intimate Apparel) draws on the screwball films of the 1930s to take a funny and irreverent look at racial stereotypes in Hollywood. By the Way\, Meet Vera Stark is a seventy-year journey through the life of Vera Stark\, a headstrong Black maid and budding actress\, and her tangled relationship with her boss\, a white Hollywood star desperately trying to hold on to her career. When circumstances collide and both women land roles in the same Southern epic\, the story behind the cameras leaves Vera with a surprising and controversial legacy scholars will debate for years to come. \nWed at 7 p.m.\, Thurs & Fri at 7:30 p.m.\, Sat at 5 or 7:30 p.m.\, Sun Matinées at 2 p.m. \n“The first act\, in which Vera angles for a role\, is in the style of a screwball comedy…. The second act\, which shifts between a 2003 symposium\, steeped in academese\, and a 1973 talk show\, steeped in gin\, is more like a screwball tragedy” —The New York Times \n“A satisfying screwball comedy in which Nottage uses stereotypes to expose them\, tapping into a current of rueful emotion beneath the surface.” —Vogue
URL:https://devfac.coloradocollege.edu/event/by-the-way-meet-vera-stark/
LOCATION:Fine Arts Center\, 30 W. Dale St.\, Colorado Springs\, CO\, 80903\, United States
CATEGORIES:Theatre
ATTACH;FMTTYPE=image/jpeg:https://devfac.coloradocollege.edu/wp-content/uploads/2022/01/vera-stark_500.jpg
END:VEVENT
BEGIN:VEVENT
DTSTART;TZID=America/Denver:20220227T140000
DTEND;TZID=America/Denver:20220227T160000
DTSTAMP:20260423T083942
CREATED:20240507T211233Z
LAST-MODIFIED:20240507T211233Z
UID:34897-1645970400-1645977600@devfac.coloradocollege.edu
SUMMARY:By the Way\, Meet Vera Stark
DESCRIPTION:A new comedy from Pulitzer Prize-winning playwright Lynn Nottage (Intimate Apparel) draws on the screwball films of the 1930s to take a funny and irreverent look at racial stereotypes in Hollywood. By the Way\, Meet Vera Stark is a seventy-year journey through the life of Vera Stark\, a headstrong Black maid and budding actress\, and her tangled relationship with her boss\, a white Hollywood star desperately trying to hold on to her career. When circumstances collide and both women land roles in the same Southern epic\, the story behind the cameras leaves Vera with a surprising and controversial legacy scholars will debate for years to come. \nWed at 7 p.m.\, Thurs & Fri at 7:30 p.m.\, Sat at 5 or 7:30 p.m.\, Sun Matinées at 2 p.m. \n“The first act\, in which Vera angles for a role\, is in the style of a screwball comedy…. The second act\, which shifts between a 2003 symposium\, steeped in academese\, and a 1973 talk show\, steeped in gin\, is more like a screwball tragedy” —The New York Times \n“A satisfying screwball comedy in which Nottage uses stereotypes to expose them\, tapping into a current of rueful emotion beneath the surface.” —Vogue
URL:https://devfac.coloradocollege.edu/event/by-the-way-meet-vera-stark/
LOCATION:Fine Arts Center\, 30 W. Dale St.\, Colorado Springs\, CO\, 80903\, United States
CATEGORIES:Theatre
ATTACH;FMTTYPE=image/jpeg:https://devfac.coloradocollege.edu/wp-content/uploads/2022/01/vera-stark_500.jpg
END:VEVENT
BEGIN:VEVENT
DTSTART;TZID=America/Denver:20220314T190000
DTEND;TZID=America/Denver:20220314T200000
DTSTAMP:20260423T083942
CREATED:20220301T171532Z
LAST-MODIFIED:20220301T171532Z
UID:28036-1647284400-1647288000@devfac.coloradocollege.edu
SUMMARY:Building a Better Future with our Artistic Community: Virtual Town Hall
DESCRIPTION:As we begin our commitment to fostering an anti-racist ethos at the FAC Theatre Company\, we want to hear from you\, our local theatre-makers. We hope you’ll join us for a candid conversation with Producing Artistic Director\, Pirronne Yousefzadeh\, about the challenges of the past and present\, and the steps we can take together to make the Theatre Company a welcoming and inclusive space for our dynamic and talented artistic community. Moderated by Betty Hart.
URL:https://devfac.coloradocollege.edu/event/building-a-better-future-with-our-artistic-community-virtual-town-hall/
LOCATION:Virtual
CATEGORIES:Theatre
ATTACH;FMTTYPE=image/jpeg:https://devfac.coloradocollege.edu/wp-content/uploads/2022/03/building-a-better-future_pirronne-betty_500.jpg
END:VEVENT
BEGIN:VEVENT
DTSTART;TZID=America/Denver:20220302T190000
DTEND;TZID=America/Denver:20220302T210000
DTSTAMP:20260423T083942
CREATED:20240507T211233Z
LAST-MODIFIED:20240507T211233Z
UID:34896-1646247600-1646254800@devfac.coloradocollege.edu
SUMMARY:By the Way\, Meet Vera Stark
DESCRIPTION:A new comedy from Pulitzer Prize-winning playwright Lynn Nottage (Intimate Apparel) draws on the screwball films of the 1930s to take a funny and irreverent look at racial stereotypes in Hollywood. By the Way\, Meet Vera Stark is a seventy-year journey through the life of Vera Stark\, a headstrong Black maid and budding actress\, and her tangled relationship with her boss\, a white Hollywood star desperately trying to hold on to her career. When circumstances collide and both women land roles in the same Southern epic\, the story behind the cameras leaves Vera with a surprising and controversial legacy scholars will debate for years to come. \nWed at 7 p.m.\, Thurs & Fri at 7:30 p.m.\, Sat at 5 or 7:30 p.m.\, Sun Matinées at 2 p.m. \n“The first act\, in which Vera angles for a role\, is in the style of a screwball comedy…. The second act\, which shifts between a 2003 symposium\, steeped in academese\, and a 1973 talk show\, steeped in gin\, is more like a screwball tragedy” —The New York Times \n“A satisfying screwball comedy in which Nottage uses stereotypes to expose them\, tapping into a current of rueful emotion beneath the surface.” —Vogue
URL:https://devfac.coloradocollege.edu/event/by-the-way-meet-vera-stark/
LOCATION:Fine Arts Center\, 30 W. Dale St.\, Colorado Springs\, CO\, 80903\, United States
CATEGORIES:Theatre
ATTACH;FMTTYPE=image/jpeg:https://devfac.coloradocollege.edu/wp-content/uploads/2022/01/vera-stark_500.jpg
END:VEVENT
BEGIN:VEVENT
DTSTART;TZID=America/Denver:20220224T193000
DTEND;TZID=America/Denver:20220224T213000
DTSTAMP:20260423T083942
CREATED:20210621T204357Z
LAST-MODIFIED:20220117T162156Z
UID:24454-1645731000-1645738200@devfac.coloradocollege.edu
SUMMARY:By the Way\, Meet Vera Stark
DESCRIPTION:A new comedy from Pulitzer Prize-winning playwright Lynn Nottage (Intimate Apparel) draws on the screwball films of the 1930s to take a funny and irreverent look at racial stereotypes in Hollywood. By the Way\, Meet Vera Stark is a seventy-year journey through the life of Vera Stark\, a headstrong Black maid and budding actress\, and her tangled relationship with her boss\, a white Hollywood star desperately trying to hold on to her career. When circumstances collide and both women land roles in the same Southern epic\, the story behind the cameras leaves Vera with a surprising and controversial legacy scholars will debate for years to come. \nWed at 7 p.m.\, Thurs & Fri at 7:30 p.m.\, Sat at 5 or 7:30 p.m.\, Sun Matinées at 2 p.m. \n“The first act\, in which Vera angles for a role\, is in the style of a screwball comedy…. The second act\, which shifts between a 2003 symposium\, steeped in academese\, and a 1973 talk show\, steeped in gin\, is more like a screwball tragedy” —The New York Times \n“A satisfying screwball comedy in which Nottage uses stereotypes to expose them\, tapping into a current of rueful emotion beneath the surface.” —Vogue
URL:https://devfac.coloradocollege.edu/event/by-the-way-meet-vera-stark/
LOCATION:Fine Arts Center\, 30 W. Dale St.\, Colorado Springs\, CO\, 80903\, United States
CATEGORIES:Theatre
ATTACH;FMTTYPE=image/jpeg:https://devfac.coloradocollege.edu/wp-content/uploads/2022/01/vera-stark_500.jpg
END:VEVENT
BEGIN:VEVENT
DTSTART;TZID=America/Denver:20220224T193000
DTEND;TZID=America/Denver:20220224T213000
DTSTAMP:20260423T083942
CREATED:20210621T204357Z
LAST-MODIFIED:20220117T162156Z
UID:24454-1645731000-1645738200@devfac.coloradocollege.edu
SUMMARY:By the Way\, Meet Vera Stark
DESCRIPTION:A new comedy from Pulitzer Prize-winning playwright Lynn Nottage (Intimate Apparel) draws on the screwball films of the 1930s to take a funny and irreverent look at racial stereotypes in Hollywood. By the Way\, Meet Vera Stark is a seventy-year journey through the life of Vera Stark\, a headstrong Black maid and budding actress\, and her tangled relationship with her boss\, a white Hollywood star desperately trying to hold on to her career. When circumstances collide and both women land roles in the same Southern epic\, the story behind the cameras leaves Vera with a surprising and controversial legacy scholars will debate for years to come. \nWed at 7 p.m.\, Thurs & Fri at 7:30 p.m.\, Sat at 5 or 7:30 p.m.\, Sun Matinées at 2 p.m. \n“The first act\, in which Vera angles for a role\, is in the style of a screwball comedy…. The second act\, which shifts between a 2003 symposium\, steeped in academese\, and a 1973 talk show\, steeped in gin\, is more like a screwball tragedy” —The New York Times \n“A satisfying screwball comedy in which Nottage uses stereotypes to expose them\, tapping into a current of rueful emotion beneath the surface.” —Vogue
URL:https://devfac.coloradocollege.edu/event/by-the-way-meet-vera-stark/
LOCATION:Fine Arts Center\, 30 W. Dale St.\, Colorado Springs\, CO\, 80903\, United States
CATEGORIES:Theatre
ATTACH;FMTTYPE=image/jpeg:https://devfac.coloradocollege.edu/wp-content/uploads/2022/01/vera-stark_500.jpg
END:VEVENT
BEGIN:VEVENT
DTSTART;TZID=America/Denver:20220224T193000
DTEND;TZID=America/Denver:20220224T213000
DTSTAMP:20260423T083942
CREATED:20210621T204357Z
LAST-MODIFIED:20220117T162156Z
UID:24454-1645731000-1645738200@devfac.coloradocollege.edu
SUMMARY:By the Way\, Meet Vera Stark
DESCRIPTION:A new comedy from Pulitzer Prize-winning playwright Lynn Nottage (Intimate Apparel) draws on the screwball films of the 1930s to take a funny and irreverent look at racial stereotypes in Hollywood. By the Way\, Meet Vera Stark is a seventy-year journey through the life of Vera Stark\, a headstrong Black maid and budding actress\, and her tangled relationship with her boss\, a white Hollywood star desperately trying to hold on to her career. When circumstances collide and both women land roles in the same Southern epic\, the story behind the cameras leaves Vera with a surprising and controversial legacy scholars will debate for years to come. \nWed at 7 p.m.\, Thurs & Fri at 7:30 p.m.\, Sat at 5 or 7:30 p.m.\, Sun Matinées at 2 p.m. \n“The first act\, in which Vera angles for a role\, is in the style of a screwball comedy…. The second act\, which shifts between a 2003 symposium\, steeped in academese\, and a 1973 talk show\, steeped in gin\, is more like a screwball tragedy” —The New York Times \n“A satisfying screwball comedy in which Nottage uses stereotypes to expose them\, tapping into a current of rueful emotion beneath the surface.” —Vogue
URL:https://devfac.coloradocollege.edu/event/by-the-way-meet-vera-stark/
LOCATION:Fine Arts Center\, 30 W. Dale St.\, Colorado Springs\, CO\, 80903\, United States
CATEGORIES:Theatre
ATTACH;FMTTYPE=image/jpeg:https://devfac.coloradocollege.edu/wp-content/uploads/2022/01/vera-stark_500.jpg
END:VEVENT
BEGIN:VEVENT
DTSTART;TZID=America/Denver:20220227T140000
DTEND;TZID=America/Denver:20220227T160000
DTSTAMP:20260423T083942
CREATED:20240507T211233Z
LAST-MODIFIED:20240507T211233Z
UID:34897-1645970400-1645977600@devfac.coloradocollege.edu
SUMMARY:By the Way\, Meet Vera Stark
DESCRIPTION:A new comedy from Pulitzer Prize-winning playwright Lynn Nottage (Intimate Apparel) draws on the screwball films of the 1930s to take a funny and irreverent look at racial stereotypes in Hollywood. By the Way\, Meet Vera Stark is a seventy-year journey through the life of Vera Stark\, a headstrong Black maid and budding actress\, and her tangled relationship with her boss\, a white Hollywood star desperately trying to hold on to her career. When circumstances collide and both women land roles in the same Southern epic\, the story behind the cameras leaves Vera with a surprising and controversial legacy scholars will debate for years to come. \nWed at 7 p.m.\, Thurs & Fri at 7:30 p.m.\, Sat at 5 or 7:30 p.m.\, Sun Matinées at 2 p.m. \n“The first act\, in which Vera angles for a role\, is in the style of a screwball comedy…. The second act\, which shifts between a 2003 symposium\, steeped in academese\, and a 1973 talk show\, steeped in gin\, is more like a screwball tragedy” —The New York Times \n“A satisfying screwball comedy in which Nottage uses stereotypes to expose them\, tapping into a current of rueful emotion beneath the surface.” —Vogue
URL:https://devfac.coloradocollege.edu/event/by-the-way-meet-vera-stark/
LOCATION:Fine Arts Center\, 30 W. Dale St.\, Colorado Springs\, CO\, 80903\, United States
CATEGORIES:Theatre
ATTACH;FMTTYPE=image/jpeg:https://devfac.coloradocollege.edu/wp-content/uploads/2022/01/vera-stark_500.jpg
END:VEVENT
BEGIN:VEVENT
DTSTART;TZID=America/Denver:20220320T164500
DTEND;TZID=America/Denver:20220320T174500
DTSTAMP:20260423T083942
CREATED:20220224T220428Z
LAST-MODIFIED:20220301T202646Z
UID:28006-1647794700-1647798300@devfac.coloradocollege.edu
SUMMARY:By the Way\, Meet Vera Stark: Talkback
DESCRIPTION:Join us for a FREE talkback session following the final Sunday performance of By the Way\, Meet Vera Stark.
URL:https://devfac.coloradocollege.edu/event/by-the-way-meet-vera-stark-talkback/
LOCATION:Fine Arts Center\, 30 W. Dale St.\, Colorado Springs\, CO\, 80903\, United States
CATEGORIES:Theatre
ATTACH;FMTTYPE=image/jpeg:https://devfac.coloradocollege.edu/wp-content/uploads/2021/06/by-the-way-meet-vera-stark2.jpg
END:VEVENT
END:VCALENDAR