BEGIN:VCALENDAR
VERSION:2.0
PRODID:-//Fine Arts Center - ECPv6.13.0//NONSGML v1.0//EN
CALSCALE:GREGORIAN
METHOD:PUBLISH
X-WR-CALNAME:Fine Arts Center
X-ORIGINAL-URL:https://devfac.coloradocollege.edu
X-WR-CALDESC:Events for Fine Arts Center
REFRESH-INTERVAL;VALUE=DURATION:PT1H
X-Robots-Tag:noindex
X-PUBLISHED-TTL:PT1H
BEGIN:VTIMEZONE
TZID:America/Denver
BEGIN:DAYLIGHT
TZOFFSETFROM:-0700
TZOFFSETTO:-0600
TZNAME:MDT
DTSTART:20230312T090000
END:DAYLIGHT
BEGIN:STANDARD
TZOFFSETFROM:-0600
TZOFFSETTO:-0700
TZNAME:MST
DTSTART:20231105T080000
END:STANDARD
END:VTIMEZONE
BEGIN:VEVENT
DTSTART;TZID=America/Denver:20230901T170000
DTEND;TZID=America/Denver:20230901T200000
DTSTAMP:20260419T221347
CREATED:20230807T202335Z
LAST-MODIFIED:20230830T200429Z
UID:32716-1693587600-1693598400@devfac.coloradocollege.edu
SUMMARY:First Friday Art Party
DESCRIPTION:Join us for our First Friday celebration from 5–8 p.m. Enjoy the stunning ambiance offered by the FAC’s chic\, historic venue. \n\n\n\n\n\nFREE museum admission\, including the newest exhibition Mi Gente: Manifestations of Community in the Southwest\nArt in Deco Lounge by Ian Stewart\nMusic by Mariachi Lobos\, a Mexican folk music band\nSee three lowrider cars as a preview for the Sept. 2 Lowrider Show & Mi Gente Opening Celebration\nDrinks and snacks available for purchase\nFrom Source to Mouth: a creative survey of Monument Creek exhibition opening\nFREE downtown shuttle\, THE ZEB\, running along Tejon Street to downtown art galleries
URL:https://devfac.coloradocollege.edu/event/first-friday-art-party-8/
LOCATION:Fine Arts Center\, 30 W. Dale St.\, Colorado Springs\, CO\, 80903\, United States
CATEGORIES:Museum,Special Event
ATTACH;FMTTYPE=image/jpeg:https://devfac.coloradocollege.edu/wp-content/uploads/2023/08/first-friday-music_sept2023-e1691439407530.jpg
END:VEVENT
END:VCALENDAR