BEGIN:VCALENDAR
VERSION:2.0
PRODID:-//Fine Arts Center - ECPv6.13.0//NONSGML v1.0//EN
CALSCALE:GREGORIAN
METHOD:PUBLISH
X-WR-CALNAME:Fine Arts Center
X-ORIGINAL-URL:https://devfac.coloradocollege.edu
X-WR-CALDESC:Events for Fine Arts Center
REFRESH-INTERVAL;VALUE=DURATION:PT1H
X-Robots-Tag:noindex
X-PUBLISHED-TTL:PT1H
BEGIN:VTIMEZONE
TZID:America/Denver
BEGIN:DAYLIGHT
TZOFFSETFROM:-0700
TZOFFSETTO:-0600
TZNAME:MDT
DTSTART:20220313T090000
END:DAYLIGHT
BEGIN:STANDARD
TZOFFSETFROM:-0600
TZOFFSETTO:-0700
TZNAME:MST
DTSTART:20221106T080000
END:STANDARD
END:VTIMEZONE
BEGIN:VEVENT
DTSTART;TZID=America/Denver:20220603T173000
DTEND;TZID=America/Denver:20220603T190000
DTSTAMP:20260420T123936
CREATED:20220523T175424Z
LAST-MODIFIED:20220523T180703Z
UID:29156-1654277400-1654282800@devfac.coloradocollege.edu
SUMMARY:Where the Saint Lives opening celebration
DESCRIPTION:Join us in celebrating the opening of the exhibition Where the Saint Lives with a Matachines and ballet folklórico performance by Grupo Folklórico del Pueblo! The performance begins in FAC lobby and moves to Music Room and will last about 30 minutes. \nImage courtesy Grupo Folklórico del Pueblo
URL:https://devfac.coloradocollege.edu/event/where-the-saint-lives-opening-celebration/
LOCATION:Fine Arts Center\, 30 W. Dale St.\, Colorado Springs\, CO\, 80903\, United States
CATEGORIES:Museum,Special Event
ATTACH;FMTTYPE=image/jpeg:https://devfac.coloradocollege.edu/wp-content/uploads/2022/05/Grupo-Folklórico-del-Pueblo.jpg
END:VEVENT
END:VCALENDAR