BEGIN:VCALENDAR
VERSION:2.0
PRODID:-//Fine Arts Center - ECPv6.13.0//NONSGML v1.0//EN
CALSCALE:GREGORIAN
METHOD:PUBLISH
X-WR-CALNAME:Fine Arts Center
X-ORIGINAL-URL:https://devfac.coloradocollege.edu
X-WR-CALDESC:Events for Fine Arts Center
REFRESH-INTERVAL;VALUE=DURATION:PT1H
X-Robots-Tag:noindex
X-PUBLISHED-TTL:PT1H
BEGIN:VTIMEZONE
TZID:America/Denver
BEGIN:DAYLIGHT
TZOFFSETFROM:-0700
TZOFFSETTO:-0600
TZNAME:MDT
DTSTART:20220313T090000
END:DAYLIGHT
BEGIN:STANDARD
TZOFFSETFROM:-0600
TZOFFSETTO:-0700
TZNAME:MST
DTSTART:20221106T080000
END:STANDARD
END:VTIMEZONE
BEGIN:VEVENT
DTSTART;TZID=America/Denver:20220312T100000
DTEND;TZID=America/Denver:20220312T160000
DTSTAMP:20260420T231230
CREATED:20220214T180424Z
LAST-MODIFIED:20220310T214715Z
UID:27877-1647079200-1647100800@devfac.coloradocollege.edu
SUMMARY:Kukuli Velarde: CORPUS Celebration
DESCRIPTION:Celebrate the Kukuli Velarde: CORPUS at the Colorado Springs Fine Arts Center at Colorado College! Join in on hands-on art making activities (10 a.m.–4 p.m.) and a tour of the exhibition with the artist (2–3 p.m.). Masks are required for the artist tour. \nFREE and open to the public. 
URL:https://devfac.coloradocollege.edu/event/kukuli-velarde-corpus-celebration/
LOCATION:Fine Arts Center\, 30 W. Dale St.\, Colorado Springs\, CO\, 80903\, United States
CATEGORIES:Museum
ATTACH;FMTTYPE=image/jpeg:https://devfac.coloradocollege.edu/wp-content/uploads/2022/02/kukuli-tour_500-1.jpg
END:VEVENT
END:VCALENDAR