BEGIN:VCALENDAR
VERSION:2.0
PRODID:-//Fine Arts Center - ECPv6.13.0//NONSGML v1.0//EN
CALSCALE:GREGORIAN
METHOD:PUBLISH
X-WR-CALNAME:Fine Arts Center
X-ORIGINAL-URL:https://devfac.coloradocollege.edu
X-WR-CALDESC:Events for Fine Arts Center
REFRESH-INTERVAL;VALUE=DURATION:PT1H
X-Robots-Tag:noindex
X-PUBLISHED-TTL:PT1H
BEGIN:VTIMEZONE
TZID:America/Denver
BEGIN:DAYLIGHT
TZOFFSETFROM:-0700
TZOFFSETTO:-0600
TZNAME:MDT
DTSTART:20230312T090000
END:DAYLIGHT
BEGIN:STANDARD
TZOFFSETFROM:-0600
TZOFFSETTO:-0700
TZNAME:MST
DTSTART:20231105T080000
END:STANDARD
END:VTIMEZONE
BEGIN:VEVENT
DTSTART;TZID=America/Denver:20230901T170000
DTEND;TZID=America/Denver:20230901T200000
DTSTAMP:20260419T184352
CREATED:20230807T202335Z
LAST-MODIFIED:20230830T200429Z
UID:32716-1693587600-1693598400@devfac.coloradocollege.edu
SUMMARY:First Friday Art Party
DESCRIPTION:Join us for our First Friday celebration from 5–8 p.m. Enjoy the stunning ambiance offered by the FAC’s chic\, historic venue. \n\n\n\n\n\nFREE museum admission\, including the newest exhibition Mi Gente: Manifestations of Community in the Southwest\nArt in Deco Lounge by Ian Stewart\nMusic by Mariachi Lobos\, a Mexican folk music band\nSee three lowrider cars as a preview for the Sept. 2 Lowrider Show & Mi Gente Opening Celebration\nDrinks and snacks available for purchase\nFrom Source to Mouth: a creative survey of Monument Creek exhibition opening\nFREE downtown shuttle\, THE ZEB\, running along Tejon Street to downtown art galleries
URL:https://devfac.coloradocollege.edu/event/first-friday-art-party-8/
LOCATION:Fine Arts Center\, 30 W. Dale St.\, Colorado Springs\, CO\, 80903\, United States
CATEGORIES:Museum,Special Event
ATTACH;FMTTYPE=image/jpeg:https://devfac.coloradocollege.edu/wp-content/uploads/2023/08/first-friday-music_sept2023-e1691439407530.jpg
END:VEVENT
BEGIN:VEVENT
DTSTART;TZID=America/Denver:20230902T120000
DTEND;TZID=America/Denver:20230902T160000
DTSTAMP:20260419T184352
CREATED:20230721T162036Z
LAST-MODIFIED:20230831T185601Z
UID:32546-1693656000-1693670400@devfac.coloradocollege.edu
SUMMARY:Lowrider Show & Mi Gente Opening Celebration
DESCRIPTION:Join us for a lowrider car show and opening celebration of Mi Gente: Manifestations of Community in the Southwest! This event is free and will include kid-friendly art activities\, live music\, a performance by Ballet Folklórico de Barajas\, and food for purchase from local businesses. \nAttendees also will be invited to visit the Museum’s newest exhibition\, Mi Gente: Manifestations of Community in the Southwest. Drawing from works in the collection stewarded by the Colorado Springs Fine Arts Center\, Mi Gente considers community within a landscape that has been shaped by colonization and migration. Focusing primarily on works by Chicanx/a/o\, Hispanic\, and Mexican American artists based in New Mexico and Colorado\, Mi Gente considers the politics and complexities of community\, including those who are perceived as outsiders.  \nJoin collections staff in the Agents of Care Gallery to learn about the work that went into preparing the collections for display. \nReservations to the opening celebration encouraged  \nPlease note that parking for this event will be located in the Ed Robson Arena parking garage at 114 E Dale St\, 80903. Shuttles will run regularly between the parking garage and the event\, including an ADA accessible van. Otherwise\, you may walk to the event\, which will be located at 30 W Dale St. \nPerformance Schedule\n12:10-12:40 p.m. – Presentation by Grupo Folklórico Sabor Latino\n12:55-1:25 p.m. – Performance by Ballet Folklórico de Barajas\n1:35-1:50 p.m. – Performance of Somos Gente de Aztlán by Amaury PerezPulido\n2:10-2:55 p.m. – Soy Celesté\n3:15-4 p.m. – Cipriano
URL:https://devfac.coloradocollege.edu/event/lowrider-show-opening-celebration/
LOCATION:Fine Arts Center\, 30 W. Dale St.\, Colorado Springs\, CO\, 80903\, United States
CATEGORIES:Museum,Special Event
ATTACH;FMTTYPE=image/jpeg:https://devfac.coloradocollege.edu/wp-content/uploads/2023/07/mi-gente-opening_500.jpg
END:VEVENT
BEGIN:VEVENT
DTSTART;TZID=America/Denver:20230907T100000
DTEND;TZID=America/Denver:20230907T120000
DTSTAMP:20260419T184352
CREATED:20230828T214306Z
LAST-MODIFIED:20230906T163147Z
UID:32990-1694080800-1694088000@devfac.coloradocollege.edu
SUMMARY:Mural Conservation & Care
DESCRIPTION:As part of Agents of Care: A Collections Transparency Project\, join museum staff for a morning chat about mural care and conservation. Artist Emanuel Martinez will speak about restoration currently underway of Arte Mestiza\, Martinez’s seminal Chicano Mural Movement work painted on 2\,000 square feet of concrete wall in the Fine Art Center’s parking lot. Visitors will also be invited to observe conservators from the Western Center for the Conservation of Fine Arts as they repair Frank Mechau’s 60-foot fresco Wild Horses in the Fine Arts Center courtyard. Meet in the FAC lobby.\n\nThis event is free and open to the public.
URL:https://devfac.coloradocollege.edu/event/mural-conservation-care/
LOCATION:Fine Arts Center\, 30 W. Dale St.\, Colorado Springs\, CO\, 80903\, United States
CATEGORIES:Museum
ATTACH;FMTTYPE=image/jpeg:https://devfac.coloradocollege.edu/wp-content/uploads/2023/08/art-mestiza-restored_500.jpg
END:VEVENT
BEGIN:VEVENT
DTSTART;TZID=America/Denver:20230513T100000
DTEND;TZID=America/Denver:20230513T170000
DTSTAMP:20260419T184352
CREATED:20190318T160804Z
LAST-MODIFIED:20230426T230541Z
UID:8303-1683972000-1683997200@devfac.coloradocollege.edu
SUMMARY:Museum Free Day
DESCRIPTION:Museum Free Days are offered the second Saturday and third Friday of each month. See what’s on view in the museum
URL:https://devfac.coloradocollege.edu/event/museum-free-day-2/
LOCATION:Fine Arts Center\, 30 W. Dale St.\, Colorado Springs\, CO\, 80903\, United States
CATEGORIES:Museum
ATTACH;FMTTYPE=image/jpeg:https://devfac.coloradocollege.edu/wp-content/uploads/2019/03/museu-free-day_500.jpg
END:VEVENT
BEGIN:VEVENT
DTSTART;TZID=America/Denver:20230909T160000
DTEND;TZID=America/Denver:20230909T180000
DTSTAMP:20260419T184352
CREATED:20230814T223421Z
LAST-MODIFIED:20230815T144629Z
UID:32769-1694275200-1694282400@devfac.coloradocollege.edu
SUMMARY:Performance by Su Teatro and Panel Discussion with Artist Carlos Frésquez
DESCRIPTION:Join us for a performance in the FAC Music Room by Denver-based Chicanx theatre group Su Teatro and for a panel discussion with artist Carlos Frésquez. \nFree! RSVP requested \nImage: Carlos Frésquez\, The Obsidian Ranfla Series #3 (detail)\, 1999\, Museum Purchase (Colorado 2000 Purchase Prize)\, FA 2000.4.
URL:https://devfac.coloradocollege.edu/event/performance-by-su-teatro-and-panel-discussion-with-artist-carlos-fresquez/
LOCATION:Fine Arts Center\, 30 W. Dale St.\, Colorado Springs\, CO\, 80903\, United States
CATEGORIES:Museum,Special Event,Theatre
ATTACH;FMTTYPE=image/jpeg:https://devfac.coloradocollege.edu/wp-content/uploads/2023/08/mi-gente_500.jpg
END:VEVENT
BEGIN:VEVENT
DTSTART;TZID=America/Denver:20230913T100000
DTEND;TZID=America/Denver:20230913T120000
DTSTAMP:20260419T184352
CREATED:20230828T220339Z
LAST-MODIFIED:20230906T164208Z
UID:32995-1694599200-1694606400@devfac.coloradocollege.edu
SUMMARY:Bronze Sculpture Care
DESCRIPTION:As part of Agents of Care: A Collections Transparency Project\, join Fine Arts Center Museum staff to learn how it cares for its bronze sculptures. Watch staff in action throughout the day as they clean\, wax\, and buff each work.\n\nMeet in the FAC lobby. This event is free and open to the public.
URL:https://devfac.coloradocollege.edu/event/bronze-sculpture-care/
LOCATION:Fine Arts Center\, 30 W. Dale St.\, Colorado Springs\, CO\, 80903\, United States
CATEGORIES:Museum
ATTACH;FMTTYPE=image/jpeg:https://devfac.coloradocollege.edu/wp-content/uploads/2023/08/bronze-sculpture-conservation.jpg
END:VEVENT
BEGIN:VEVENT
DTSTART;TZID=America/Denver:20230519T100000
DTEND;TZID=America/Denver:20230519T200000
DTSTAMP:20260419T184352
CREATED:20240507T211150Z
LAST-MODIFIED:20240507T211150Z
UID:34842-1684490400-1684526400@devfac.coloradocollege.edu
SUMMARY:Museum Free Day
DESCRIPTION:Museum Free Days are offered the second Saturday and third Friday of each month. See what’s on view in the museum
URL:https://devfac.coloradocollege.edu/event/museum-free-day-2/
LOCATION:Fine Arts Center\, 30 W. Dale St.\, Colorado Springs\, CO\, 80903\, United States
CATEGORIES:Museum
ATTACH;FMTTYPE=image/jpeg:https://devfac.coloradocollege.edu/wp-content/uploads/2019/03/museu-free-day_500.jpg
END:VEVENT
END:VCALENDAR