BEGIN:VCALENDAR
VERSION:2.0
PRODID:-//Fine Arts Center - ECPv6.13.0//NONSGML v1.0//EN
CALSCALE:GREGORIAN
METHOD:PUBLISH
X-WR-CALNAME:Fine Arts Center
X-ORIGINAL-URL:https://devfac.coloradocollege.edu
X-WR-CALDESC:Events for Fine Arts Center
REFRESH-INTERVAL;VALUE=DURATION:PT1H
X-Robots-Tag:noindex
X-PUBLISHED-TTL:PT1H
BEGIN:VTIMEZONE
TZID:America/Denver
BEGIN:DAYLIGHT
TZOFFSETFROM:-0700
TZOFFSETTO:-0600
TZNAME:MDT
DTSTART:20230312T090000
END:DAYLIGHT
BEGIN:STANDARD
TZOFFSETFROM:-0600
TZOFFSETTO:-0700
TZNAME:MST
DTSTART:20231105T080000
END:STANDARD
END:VTIMEZONE
BEGIN:VEVENT
DTSTART;VALUE=DATE:20230123
DTEND;VALUE=DATE:20230501
DTSTAMP:20260419T084744
CREATED:20211214T145930Z
LAST-MODIFIED:20221212T221610Z
UID:26848-1674432000-1682899199@devfac.coloradocollege.edu
SUMMARY:Winter/Spring 2023 Art Classes
DESCRIPTION:Pursue new art skills or perfect old ones in 2023! We have art classes for all ages\, interests\, and skill levels
URL:https://devfac.coloradocollege.edu/event/winter-spring-2023-art-classes/
LOCATION:Bemis School of Art\, 818 Pelham Pl\, Colorado Springs\, CO\, 80903\, United States
CATEGORIES:Art School
ATTACH;FMTTYPE=image/jpeg:https://devfac.coloradocollege.edu/wp-content/uploads/2018/01/Bemis_600_4-e1682092751982.jpg
END:VEVENT
BEGIN:VEVENT
DTSTART;TZID=America/Denver:20230303T170000
DTEND;TZID=America/Denver:20230303T200000
DTSTAMP:20260419T084744
CREATED:20230213T155534Z
LAST-MODIFIED:20230217T235400Z
UID:31236-1677862800-1677873600@devfac.coloradocollege.edu
SUMMARY:First Friday Art Party
DESCRIPTION:Join us for First Friday celebration from 5–8 p.m. Enjoy the stunning ambiance offered by this chic\, historic venue. Both the Deco Lounge and Museum Shop participate in First Friday\, featuring art for sale by local and regional artists. \n\nFirst Friday attendees get FREE access to FAC Museum — see what’s on view\nLive music by Ryan Flores\nArt in Deco Lounge by Korri Grossman (Colorado Springs\, CO) will be on display.\nDrinks and snacks are available for purchase in Deco Lounge.\nThe Gift exhibition opening\nThere is a free downtown shuttle\, THE ZEB\, that runs along Tejon Street and can take you to the downtown art galleries.\nFirst Friday attendees receive BOGO tickets to see In The Heights on March 3. Purchase your tickets with code (FFBOGO) or call the box office at (719) 634-5583 (premium or select seats).
URL:https://devfac.coloradocollege.edu/event/first-friday-art-party-2/
LOCATION:Fine Arts Center\, 30 W. Dale St.\, Colorado Springs\, CO\, 80903\, United States
CATEGORIES:Special Event
ATTACH;FMTTYPE=image/jpeg:https://devfac.coloradocollege.edu/wp-content/uploads/2022/12/1080x1080_first-friday2-e1671665160329.jpg
END:VEVENT
BEGIN:VEVENT
DTSTART;TZID=America/Denver:20230302T193000
DTEND;TZID=America/Denver:20230302T220000
DTSTAMP:20260419T084744
CREATED:20220915T204224Z
LAST-MODIFIED:20230124T174201Z
UID:30267-1677785400-1677794400@devfac.coloradocollege.edu
SUMMARY:In the Heights
DESCRIPTION:From the creator and star of Hamilton comes Lin-Manuel Miranda’s first Tony Award-winning musical\, a love-letter to the community in upper Manhattan where he still lives. In The Heights tells the universal story of a vibrant community in New York’s Washington Heights neighborhood — a place where the coffee from the corner bodega is light and sweet\, the windows are always open\, and the breeze carries the rhythm of three generations of music. It’s a community on the brink of change\, full of hopes\, dreams\, and pressures\, where the biggest struggles can be deciding which traditions you take with you\, and which ones you leave behind. A Hip Hop musical with a Salsa beat\, In The Heights is the winner of the 2008 Tony Awards for Best Musical\, Best Score\, Best Choreography and Best Orchestrations.
URL:https://devfac.coloradocollege.edu/event/in-the-heights/
LOCATION:Fine Arts Center\, 30 W. Dale St.\, Colorado Springs\, CO\, 80903\, United States
CATEGORIES:Theatre
ATTACH;FMTTYPE=image/jpeg:https://devfac.coloradocollege.edu/wp-content/uploads/2019/03/in-the-heights-1.jpg
END:VEVENT
END:VCALENDAR