BEGIN:VCALENDAR
VERSION:2.0
PRODID:-//Fine Arts Center - ECPv6.13.0//NONSGML v1.0//EN
CALSCALE:GREGORIAN
METHOD:PUBLISH
X-WR-CALNAME:Fine Arts Center
X-ORIGINAL-URL:https://devfac.coloradocollege.edu
X-WR-CALDESC:Events for Fine Arts Center
REFRESH-INTERVAL;VALUE=DURATION:PT1H
X-Robots-Tag:noindex
X-PUBLISHED-TTL:PT1H
BEGIN:VTIMEZONE
TZID:America/Denver
BEGIN:DAYLIGHT
TZOFFSETFROM:-0700
TZOFFSETTO:-0600
TZNAME:MDT
DTSTART:20220313T090000
END:DAYLIGHT
BEGIN:STANDARD
TZOFFSETFROM:-0600
TZOFFSETTO:-0700
TZNAME:MST
DTSTART:20221106T080000
END:STANDARD
END:VTIMEZONE
BEGIN:VEVENT
DTSTART;TZID=America/Denver:20221001T120000
DTEND;TZID=America/Denver:20221001T130000
DTSTAMP:20260419T084727
CREATED:20220916T152333Z
LAST-MODIFIED:20220916T152333Z
UID:30306-1664625600-1664629200@devfac.coloradocollege.edu
SUMMARY:FAC Member Tour: Breathe into the Past: Crosscurrents in the Caribbean
DESCRIPTION:Join Katja Rivera\, Curator of Contemporary Art\, for a tour of our newest exhibition\, Breathe into the Past: Crosscurrents in the Caribbean. The twelve featured artists in this exhibition hail from the Dominican Republic\, Jamaica\, Cuba\, Haiti\, Puerto Rico\, Guyana\, Trinidad and Tobago\, coastal Colombia\, and beyond. Their artworks offer insights into the complex histories that have influenced the present—sometimes on grand scales\, at other times in subtler yet still undeniable ways. \nNot a member? Sign up now for as little as $5 a month! \nRegister for OCT. member Tour \nWe ask for your precaution when visiting this exhibition. Many of the works are fragile and some contain explicit material\, including references to violence\, sounds of gunfire\, nudity\, and images of self-harm. Please be mindful of your needs when entering the space. A printed list of mental health and other related resources will be available.  
URL:https://devfac.coloradocollege.edu/event/fac-member-tour-breathe-into-the-past-crosscurrents-in-the-caribbean/
LOCATION:Fine Arts Center\, 30 W. Dale St.\, Colorado Springs\, CO\, 80903\, United States
CATEGORIES:Museum,Special Event
ATTACH;FMTTYPE=image/jpeg:https://devfac.coloradocollege.edu/wp-content/uploads/2019/03/member-tour2_500.jpg
END:VEVENT
BEGIN:VEVENT
DTSTART;TZID=America/Denver:20220924T150000
DTEND;TZID=America/Denver:20220924T163000
DTSTAMP:20260419T084727
CREATED:20220831T211926Z
LAST-MODIFIED:20220831T211926Z
UID:30035-1664031600-1664037000@devfac.coloradocollege.edu
SUMMARY:Landscapes in Oil Pastels
DESCRIPTION:Ages 9-12. Enjoy creating your favorite landscapes with oil pastels. Learn to draw the various elements found in landscapes while discovering the importance of the direction of strokes and blending of colors. Study the concept of background and foreground\, as well as light and shadow effects to create vibrant landscapes. Supplies will be provided. 
URL:https://devfac.coloradocollege.edu/event/landscapes-in-oil-pastels/
LOCATION:Bemis School of Art\, 818 Pelham Pl\, Colorado Springs\, CO\, 80903\, United States
CATEGORIES:Art School
ATTACH;FMTTYPE=image/jpeg:https://devfac.coloradocollege.edu/wp-content/uploads/2022/08/1080x1080_landscapes-oil-pastels-e1661980755881.jpg
END:VEVENT
END:VCALENDAR