BEGIN:VCALENDAR
VERSION:2.0
PRODID:-//Fine Arts Center - ECPv6.13.0//NONSGML v1.0//EN
CALSCALE:GREGORIAN
METHOD:PUBLISH
X-WR-CALNAME:Fine Arts Center
X-ORIGINAL-URL:https://devfac.coloradocollege.edu
X-WR-CALDESC:Events for Fine Arts Center
REFRESH-INTERVAL;VALUE=DURATION:PT1H
X-Robots-Tag:noindex
X-PUBLISHED-TTL:PT1H
BEGIN:VTIMEZONE
TZID:America/Denver
BEGIN:DAYLIGHT
TZOFFSETFROM:-0700
TZOFFSETTO:-0600
TZNAME:MDT
DTSTART:20220313T090000
END:DAYLIGHT
BEGIN:STANDARD
TZOFFSETFROM:-0600
TZOFFSETTO:-0700
TZNAME:MST
DTSTART:20221106T080000
END:STANDARD
END:VTIMEZONE
BEGIN:VEVENT
DTSTART;TZID=America/Denver:20220923T090000
DTEND;TZID=America/Denver:20220923T120000
DTSTAMP:20260419T093807
CREATED:20220831T213449Z
LAST-MODIFIED:20220831T213449Z
UID:30048-1663923600-1663934400@devfac.coloradocollege.edu
SUMMARY:Square Plates and Mugs
DESCRIPTION:Classes for ages 16-adult. Get square! Explore the exciting possibilities of building square plates and mugs. Learn to handbuild with soft pre-textured clay slabs using flat patterns that fold up into 3-dimensional forms to create dynamic and self-expressive plate and mug sets. Glazing for textured surfaces will be taught. Supplies will be provided.
URL:https://devfac.coloradocollege.edu/event/square-plates-and-mugs/
LOCATION:Bemis School of Art\, 818 Pelham Pl\, Colorado Springs\, CO\, 80903\, United States
CATEGORIES:Art School
ATTACH;FMTTYPE=image/jpeg:https://devfac.coloradocollege.edu/wp-content/uploads/2022/08/1080x1080_square-plates-mugs-e1661981648813.jpg
END:VEVENT
END:VCALENDAR