BEGIN:VCALENDAR
VERSION:2.0
PRODID:-//Fine Arts Center - ECPv6.13.0//NONSGML v1.0//EN
CALSCALE:GREGORIAN
METHOD:PUBLISH
X-WR-CALNAME:Fine Arts Center
X-ORIGINAL-URL:https://devfac.coloradocollege.edu
X-WR-CALDESC:Events for Fine Arts Center
REFRESH-INTERVAL;VALUE=DURATION:PT1H
X-Robots-Tag:noindex
X-PUBLISHED-TTL:PT1H
BEGIN:VTIMEZONE
TZID:America/Denver
BEGIN:DAYLIGHT
TZOFFSETFROM:-0700
TZOFFSETTO:-0600
TZNAME:MDT
DTSTART:20220313T090000
END:DAYLIGHT
BEGIN:STANDARD
TZOFFSETFROM:-0600
TZOFFSETTO:-0700
TZNAME:MST
DTSTART:20221106T080000
END:STANDARD
END:VTIMEZONE
BEGIN:VEVENT
DTSTART;TZID=America/Denver:20220914T170000
DTEND;TZID=America/Denver:20220914T190000
DTSTAMP:20260419T114820
CREATED:20220812T222647Z
LAST-MODIFIED:20220825T164021Z
UID:29845-1663174800-1663182000@devfac.coloradocollege.edu
SUMMARY:FAC Happy Hour at Rico's Cafe & Wine Bar
DESCRIPTION:Join us for the next stop in our new FAC happy hour series celebrating the “liquid arts.” No formal programming involved\, just a casual gathering of FAC supporters getting out to socialize in new and different venues across our beautiful city. Highlighting local bars and restaurants in town\, we hope to see you at Rico’s Cafe and Wine Bar located at Poor Richard’s downtown. \nFAC members and theatre subscribers will receive special tapas menu and happy hour deals during the event. \nNo RSVP needed. Event location: 322 N Tejon St. We’ll also be handing out museum admission passes\, so bring a friend! Stop by the FAC table to say hi!
URL:https://devfac.coloradocollege.edu/event/fac-happy-hour-at-ricos-cafe-wine-bar/
LOCATION:Rico’s Cafe & Wine Bar\, 322 N Tejon St\, Colorado Springs\, CO\, 80903\, United States
CATEGORIES:Special Event
ATTACH;FMTTYPE=image/jpeg:https://devfac.coloradocollege.edu/wp-content/uploads/2022/08/ricos.jpg
END:VEVENT
END:VCALENDAR