BEGIN:VCALENDAR
VERSION:2.0
PRODID:-//Fine Arts Center - ECPv6.13.0//NONSGML v1.0//EN
CALSCALE:GREGORIAN
METHOD:PUBLISH
X-WR-CALNAME:Fine Arts Center
X-ORIGINAL-URL:https://devfac.coloradocollege.edu
X-WR-CALDESC:Events for Fine Arts Center
REFRESH-INTERVAL;VALUE=DURATION:PT1H
X-Robots-Tag:noindex
X-PUBLISHED-TTL:PT1H
BEGIN:VTIMEZONE
TZID:America/Denver
BEGIN:DAYLIGHT
TZOFFSETFROM:-0700
TZOFFSETTO:-0600
TZNAME:MDT
DTSTART:20220313T090000
END:DAYLIGHT
BEGIN:STANDARD
TZOFFSETFROM:-0600
TZOFFSETTO:-0700
TZNAME:MST
DTSTART:20221106T080000
END:STANDARD
END:VTIMEZONE
BEGIN:VEVENT
DTSTART;TZID=America/Denver:20220909T170000
DTEND;TZID=America/Denver:20220909T190000
DTSTAMP:20260419T084808
CREATED:20220818T193843Z
LAST-MODIFIED:20220902T143104Z
UID:29904-1662742800-1662750000@devfac.coloradocollege.edu
SUMMARY:Breathe into the past: Crosscurrents in the Caribbean Opening Performance
DESCRIPTION:Experience an Afro-Cuban dance performance by Yesenia Selier accompanied by the Cuban Bata drummer Miguelo Valdés to celebrate the opening of Breathe into the past: Crosscurrents in the Caribbean.  \nPerformance begins at 5:30 p.m. \nEvent is free\, please RSVP \nPhoto: Yesenia Selier
URL:https://devfac.coloradocollege.edu/event/breathe-into-the-past-crosscurrents-in-the-caribbean-opening-performance/
LOCATION:Fine Arts Center\, 30 W. Dale St.\, Colorado Springs\, CO\, 80903\, United States
CATEGORIES:Museum
ATTACH;FMTTYPE=image/jpeg:https://devfac.coloradocollege.edu/wp-content/uploads/2022/08/Yesenia-Selier_breathe-opening_500-e1661374785268.jpg
END:VEVENT
END:VCALENDAR