BEGIN:VCALENDAR
VERSION:2.0
PRODID:-//Fine Arts Center - ECPv6.13.0//NONSGML v1.0//EN
CALSCALE:GREGORIAN
METHOD:PUBLISH
X-WR-CALNAME:Fine Arts Center
X-ORIGINAL-URL:https://devfac.coloradocollege.edu
X-WR-CALDESC:Events for Fine Arts Center
REFRESH-INTERVAL;VALUE=DURATION:PT1H
X-Robots-Tag:noindex
X-PUBLISHED-TTL:PT1H
BEGIN:VTIMEZONE
TZID:America/Denver
BEGIN:DAYLIGHT
TZOFFSETFROM:-0700
TZOFFSETTO:-0600
TZNAME:MDT
DTSTART:20220313T090000
END:DAYLIGHT
BEGIN:STANDARD
TZOFFSETFROM:-0600
TZOFFSETTO:-0700
TZNAME:MST
DTSTART:20221106T080000
END:STANDARD
END:VTIMEZONE
BEGIN:VEVENT
DTSTART;VALUE=DATE:20220601
DTEND;VALUE=DATE:20220806
DTSTAMP:20260419T201016
CREATED:20210602T170047Z
LAST-MODIFIED:20220701T211913Z
UID:24212-1654041600-1659743999@devfac.coloradocollege.edu
SUMMARY:City as a Venue
DESCRIPTION:We’re excited to bring back City as a Venue\, a summer-long celebration presenting a robust calendar of arts experiences to the community. Join us for theatre\, music\, site-specific experiences\, pop-up events\, and more. From the Colorado College campus to neighborhood parks and community centers\, we’re bringing this great city of ours together through the arts.
URL:https://devfac.coloradocollege.edu/event/city-as-a-venue/
LOCATION:Colorado
CATEGORIES:Special Event,Theatre
ATTACH;FMTTYPE=image/jpeg:https://devfac.coloradocollege.edu/wp-content/uploads/2021/05/City-as-a-venue_500.jpg
END:VEVENT
BEGIN:VEVENT
DTSTART;TZID=America/Denver:20220627T090000
DTEND;TZID=America/Denver:20220627T170000
DTSTAMP:20260419T201016
CREATED:20220401T203057Z
LAST-MODIFIED:20220401T203057Z
UID:28427-1656320400-1656349200@devfac.coloradocollege.edu
SUMMARY:Youth Rep Ensemble
DESCRIPTION:Five-week intensive (Ages 14-18) \nDetails on performance track\, design/technical track\, and auditions\nThe FAC’s Youth Repertory Theatre program is the only professional training program for student actors and design technicians in the Pikes Peak region. \nThe Fine Arts Center Theatre Company offers students interested in pursuing careers in performance and/or design & technical theatre a five-week intensive training program. Youth Repertory Ensemble is an inclusive\, safe and supportive space for students looking to explore and experiment with the theatrical form through a carefully designed combination of rehearsals and class work. The performance and technical tracks of the program have been designed for both new and returning students in order to develop basic skills as well as foster continual learning and growth. \nSee Collaborative Projects from Youth Repertory Ensemble Students in 2020 on FAC Connect
URL:https://devfac.coloradocollege.edu/event/youth-rep-ensemble-2/
LOCATION:Fine Arts Center\, 30 W. Dale St.\, Colorado Springs\, CO\, 80903\, United States
CATEGORIES:Theatre
ATTACH;FMTTYPE=image/jpeg:https://devfac.coloradocollege.edu/wp-content/uploads/2022/03/yrt-FACTS-dance_500.jpg
END:VEVENT
BEGIN:VEVENT
DTSTART;TZID=America/Denver:20220630T173000
DTEND;TZID=America/Denver:20220630T183000
DTSTAMP:20260419T201016
CREATED:20220616T205754Z
LAST-MODIFIED:20220616T205754Z
UID:29446-1656610200-1656613800@devfac.coloradocollege.edu
SUMMARY:Libation Lecture: The Divine Within
DESCRIPTION:The Divine Within: La Virgen de Guadalupe\, Spirituality\, and Panocha Politics\nThursday\, June 30\, 5:30-6:30 p.m. (bar opens at 5 p.m.) \nCoinciding with Where the Saint Lives\, an exhibition currently on view at the Fine Arts Center\, join us for our first Libation Lecture of 2022. La Virgen de Guadalupe\, the patron saint of Mexico and goddess of the Americas\, has generated reflection on the question of our divine and corporeal being for over 500 years. Learn why and how artists and writers continually invoke the image of La Virgen de Guadalupe in their work. Who is she? Why is she revered? Why is that she is depicted everywhere from churches\, museums\, and murals\, to t-shirts\, coffee mugs\, and tattoos? \nDuring the lecture\, we’ll also be playing Lotería\, a bingo-like game that uses culturally significant images and has been played throughout Mexico for hundreds of years. You might even win a prize! \nThemed drink: Paloma\nLecturer: Nancy Rios\, PhD; Program Director\, CC Mobile Arts \nTickets: $10 for FAC Members\, $15 for non-members\, includes your first drink (FAC members must login to receive the discount) \nRegister for the Libation Lecture \nImage: The Arroyo Hondo Painter\, Nuestra Señora de los Dolores (Our Lady of Sorrows)\, ca.\, 1825-1840\, Museum Purchase Fund\, TM 1407
URL:https://devfac.coloradocollege.edu/event/libation-lecture-the-divine-within/
LOCATION:Fine Arts Center\, 30 W. Dale St.\, Colorado Springs\, CO\, 80903\, United States
CATEGORIES:Museum,Special Event
ATTACH;FMTTYPE=image/jpeg:https://devfac.coloradocollege.edu/wp-content/uploads/2022/04/where-the-saint-lives2.jpg
END:VEVENT
END:VCALENDAR