BEGIN:VCALENDAR
VERSION:2.0
PRODID:-//Fine Arts Center - ECPv6.13.0//NONSGML v1.0//EN
CALSCALE:GREGORIAN
METHOD:PUBLISH
X-WR-CALNAME:Fine Arts Center
X-ORIGINAL-URL:https://devfac.coloradocollege.edu
X-WR-CALDESC:Events for Fine Arts Center
REFRESH-INTERVAL;VALUE=DURATION:PT1H
X-Robots-Tag:noindex
X-PUBLISHED-TTL:PT1H
BEGIN:VTIMEZONE
TZID:America/Denver
BEGIN:DAYLIGHT
TZOFFSETFROM:-0700
TZOFFSETTO:-0600
TZNAME:MDT
DTSTART:20220313T090000
END:DAYLIGHT
BEGIN:STANDARD
TZOFFSETFROM:-0600
TZOFFSETTO:-0700
TZNAME:MST
DTSTART:20221106T080000
END:STANDARD
END:VTIMEZONE
BEGIN:VEVENT
DTSTART;VALUE=DATE:20220601
DTEND;VALUE=DATE:20220806
DTSTAMP:20260419T225522
CREATED:20210602T170047Z
LAST-MODIFIED:20220701T211913Z
UID:24212-1654041600-1659743999@devfac.coloradocollege.edu
SUMMARY:City as a Venue
DESCRIPTION:We’re excited to bring back City as a Venue\, a summer-long celebration presenting a robust calendar of arts experiences to the community. Join us for theatre\, music\, site-specific experiences\, pop-up events\, and more. From the Colorado College campus to neighborhood parks and community centers\, we’re bringing this great city of ours together through the arts.
URL:https://devfac.coloradocollege.edu/event/city-as-a-venue/
LOCATION:Colorado
CATEGORIES:Special Event,Theatre
ATTACH;FMTTYPE=image/jpeg:https://devfac.coloradocollege.edu/wp-content/uploads/2021/05/City-as-a-venue_500.jpg
END:VEVENT
BEGIN:VEVENT
DTSTART;TZID=America/Denver:20220611T110000
DTEND;TZID=America/Denver:20220611T150000
DTSTAMP:20260419T225522
CREATED:20220317T142134Z
LAST-MODIFIED:20220513T194411Z
UID:28196-1654945200-1654959600@devfac.coloradocollege.edu
SUMMARY:Print Day at the FAC
DESCRIPTION:A day of hands-on printmaking activities and in gallery experiences for the whole family in celebration of the Robert Blackburn exhibition. The event is free and open to the public. \nSchedule of Events\n11 a.m.–12:30 p.m.\n\nWashable Marker Prints with Sophia Hanna\, Bemis School of Art Instructor\nWax Paper Monoprints with Zandra Zieman-Foster\, Bemis School of Art Instructor\nAbstract Prints with Turner Black\, Bemis School of Art Instructor\nMake Your Own Letterpress Print with The Press at CC\n\n12:30–2 p.m.\n\nScreen printing with Ladyfingers Letterpress and CC Mobile Arts\n\n1:30–3 p.m.\n\nWashable Marker Prints with Sophia Hanna\, Bemis School of Art Instructor\nWax Paper Monoprints with Zandra Zieman-Foster\, Bemis School of Art Instructor\nAbstract Prints with Turner Black\, Bemis School of Art Instructor\nMake Your Own Letterpress Print with The Press at CC\n\n2 p.m.\n\nGallery walk in Robert Blackburn & Modern American Printmaking with artists Jean Gumpper and Aaron Cohick\n\nActivity Details\nBemis School of Art Activities\nWashable Marker Prints with Sophia Hanna\nThe process of block printing involves carving a design into wood\, linoleum\, foam\, or another material and then printing it onto a surface such as paper or fabric. The artist carves their composition on a reusable plate (or block)\, then prints the images by adding ink to the plate and pressing it against paper. In this project we’re using simple methods to create printing plates out of Styrofoam. We’ll carve grooves into our printing plate using safe objects (pencil or pen!) and use washable markers as our “ink.” \nWax Paper Monoprints with Zandra Zieman-Foster\nMono printing is a print making process that makes one unique print at a time. There is no stamp or printing plate that allows you to make multiples. One is all you get. They are simple and fun. Basically\, painting with acrylic paint onto wax paper. Then you flip over the wax paper onto your art paper (watercolor\, newsprint\, cardboard\, anything…) and rub it with your hand or a brayer. \nAbstract Prints with Turner Black\n‘Found Object Printing’ loosely falls into the bracket of Collagraph. A collagraph is a simple and very effective form of printmaking that is created by using various types of collage as the plate that you then take a print from. Create works of art using a variety of shapes\, found objects and stamps using your choices of color\, repetition\, placement and more to create your own abstract work of art. \nThe Press at CC \nMake Your Own Letterpress Print with The Press at CC\nSet and print a word or short phrase of your choice using antique wood type and a tabletop printing press. \nLadyfingers Letterpress and CC Mobile Arts\nBring your own T-shirt\, fabric tote\, sweatshirt\, or surface you might want to screen print on with Ladyfingers Letterpress and CC Mobile Arts! Some T-shirts\, bags\, and other items will be available for purchase\, and free paper will be provided. \nEvent Partners: FAC’s Bemis School of Art | Ladyfingers Letterpress | The Press at CC | CC Mobile Arts\nImage by Arley Torsone\, Ladyfingers
URL:https://devfac.coloradocollege.edu/event/robert-blackburn-print-day/
LOCATION:Fine Arts Center\, 30 W. Dale St.\, Colorado Springs\, CO\, 80903\, United States
CATEGORIES:Special Event
ATTACH;FMTTYPE=image/jpeg:https://devfac.coloradocollege.edu/wp-content/uploads/2022/03/print-day.jpg
END:VEVENT
BEGIN:VEVENT
DTSTART;TZID=America/Denver:20220601T193000
DTEND;TZID=America/Denver:20220601T210000
DTSTAMP:20260419T225522
CREATED:20210621T210932Z
LAST-MODIFIED:20220626T203413Z
UID:24522-1654111800-1654117200@devfac.coloradocollege.edu
SUMMARY:The Wolves
DESCRIPTION:Left quad. Right quad. Lunge. A girls indoor soccer team warms up. From the safety of their suburban stretch circle\, the team navigates big questions and wages tiny battles with all the vim and vigor of a pack of adolescent warriors. A portrait of life\, liberty\, and the pursuit of happiness for nine American girls who just want to score some goals. \nPerformed outside in the courtyard of the Fine Arts Center \nFinalist! 2017 Pulitzer Prize for Drama\nWinner! 2015 Relentless Award for Playwriting \n“The scary\, exhilarating brightness of raw adolescence emanates from every scene of this uncannily assured first play by Sarah DeLappe.” —The New York Times \nContent Advisory: The Wolves contains strong language\, discussion of sex\, and adult themes.
URL:https://devfac.coloradocollege.edu/event/the-wolves/
LOCATION:Fine Arts Center\, 30 W. Dale St.\, Colorado Springs\, CO\, 80903\, United States
CATEGORIES:Theatre
ATTACH;FMTTYPE=image/jpeg:https://devfac.coloradocollege.edu/wp-content/uploads/2022/05/the_wolves_500.jpg
END:VEVENT
END:VCALENDAR