BEGIN:VCALENDAR
VERSION:2.0
PRODID:-//Fine Arts Center - ECPv6.13.0//NONSGML v1.0//EN
CALSCALE:GREGORIAN
METHOD:PUBLISH
X-WR-CALNAME:Fine Arts Center
X-ORIGINAL-URL:https://devfac.coloradocollege.edu
X-WR-CALDESC:Events for Fine Arts Center
REFRESH-INTERVAL;VALUE=DURATION:PT1H
X-Robots-Tag:noindex
X-PUBLISHED-TTL:PT1H
BEGIN:VTIMEZONE
TZID:America/Denver
BEGIN:DAYLIGHT
TZOFFSETFROM:-0700
TZOFFSETTO:-0600
TZNAME:MDT
DTSTART:20220313T090000
END:DAYLIGHT
BEGIN:STANDARD
TZOFFSETFROM:-0600
TZOFFSETTO:-0700
TZNAME:MST
DTSTART:20221106T080000
END:STANDARD
END:VTIMEZONE
BEGIN:VEVENT
DTSTART;TZID=America/Denver:20220514T140000
DTEND;TZID=America/Denver:20220514T160000
DTSTAMP:20260420T003624
CREATED:20220428T195016Z
LAST-MODIFIED:20220428T195306Z
UID:28895-1652536800-1652544000@devfac.coloradocollege.edu
SUMMARY:Robert Blackburn & Modern American Printmaking FAC Member Exhibition Opening
DESCRIPTION:You’re Invited to a Member Exhibition Opening for Robert Blackburn & Modern American Printmaking\nJoin us for a celebration of artist and visionary Robert Blackburn. \n\nPrintmaking demo and hands-on activity\nEnjoy live music\, light refreshments\, and cash bar\nBrief remarks at 3:30 p.m.\n\nRSVP by May 9 \nNot a Fine Arts Center member? Join now! \nMake a night of it! \nAfter the event\, stay for the music-filled comedy The Legend of Georgia McBride.
URL:https://devfac.coloradocollege.edu/event/robert-blackburn-modern-american-printmaking-fac-member-exhibition-opening/
LOCATION:Fine Arts Center\, 30 W. Dale St.\, Colorado Springs\, CO\, 80903\, United States
CATEGORIES:Museum,Special Event
ATTACH;FMTTYPE=image/jpeg:https://devfac.coloradocollege.edu/wp-content/uploads/2022/03/Blackburn-Red-Inside.jpg
END:VEVENT
BEGIN:VEVENT
DTSTART;TZID=America/Denver:20220421T193000
DTEND;TZID=America/Denver:20220421T213000
DTSTAMP:20260420T003624
CREATED:20210621T210126Z
LAST-MODIFIED:20220315T140344Z
UID:24498-1650569400-1650576600@devfac.coloradocollege.edu
SUMMARY:The Legend of Georgia McBride
DESCRIPTION:He’s young\, he’s late with the rent\, and he just found out that he’s going to be a dad. And when his boss at a small-town Florida dive bar axes his Elvis act\, replacing it with a flashy drag show\, Casey decides to step out of the blue suede shoes of his comfort zone and into a pair of size 11 heels. From creating his persona to embracing his femininity\, Casey has a lot to learn. But most of all\, this sequin-filled story is a celebration of individuality and a reminder to all of us to live in our truths.
URL:https://devfac.coloradocollege.edu/event/the-legend-of-georgia-mcbride/
LOCATION:Fine Arts Center\, 30 W. Dale St.\, Colorado Springs\, CO\, 80903\, United States
CATEGORIES:Theatre
ATTACH;FMTTYPE=image/jpeg:https://devfac.coloradocollege.edu/wp-content/uploads/2022/03/georgia-mcbride_500.jpg
END:VEVENT
END:VCALENDAR