BEGIN:VCALENDAR
VERSION:2.0
PRODID:-//Fine Arts Center - ECPv6.13.0//NONSGML v1.0//EN
CALSCALE:GREGORIAN
METHOD:PUBLISH
X-WR-CALNAME:Fine Arts Center
X-ORIGINAL-URL:https://devfac.coloradocollege.edu
X-WR-CALDESC:Events for Fine Arts Center
REFRESH-INTERVAL;VALUE=DURATION:PT1H
X-Robots-Tag:noindex
X-PUBLISHED-TTL:PT1H
BEGIN:VTIMEZONE
TZID:America/Denver
BEGIN:DAYLIGHT
TZOFFSETFROM:-0700
TZOFFSETTO:-0600
TZNAME:MDT
DTSTART:20220313T090000
END:DAYLIGHT
BEGIN:STANDARD
TZOFFSETFROM:-0600
TZOFFSETTO:-0700
TZNAME:MST
DTSTART:20221106T080000
END:STANDARD
END:VTIMEZONE
BEGIN:VEVENT
DTSTART;TZID=America/Denver:20220302T160000
DTEND;TZID=America/Denver:20220302T180000
DTSTAMP:20260420T162758
CREATED:20220110T191731Z
LAST-MODIFIED:20220110T191731Z
UID:27325-1646236800-1646244000@devfac.coloradocollege.edu
SUMMARY:The Story of Me. Told by Me!
DESCRIPTION:We are the protagonists of our own stories. We see and interact with the world from our own point of view. By using cameras to show others how we interact with what we see\, we can tell stories that allow us to foster a greater human connection with ourselves and the other people in our communities. Supplies will be provided. \n\nAges 9-12
URL:https://devfac.coloradocollege.edu/event/the-story-of-me-told-by-me/
LOCATION:Bemis School of Art\, 818 Pelham Pl\, Colorado Springs\, CO\, 80903\, United States
CATEGORIES:Art School
ATTACH;FMTTYPE=image/jpeg:https://devfac.coloradocollege.edu/wp-content/uploads/2022/01/Y17-The-Story-of-Me.-Told-by-Me-e1641842176834.jpg
END:VEVENT
BEGIN:VEVENT
DTSTART;TZID=America/Denver:20220302T180000
DTEND;TZID=America/Denver:20220302T210000
DTSTAMP:20260420T162758
CREATED:20220110T192147Z
LAST-MODIFIED:20220120T221122Z
UID:27333-1646244000-1646254800@devfac.coloradocollege.edu
SUMMARY:Thrown and Altered Ceramics
DESCRIPTION:Throwing on the potter’s wheel and handbuilding combined into one fun class to make unique work! Use the pottery wheel to make while learning new techniques to alter your work with molds\, sprigs\, texturing\, and hand forming\, along with other methods. \nLevel 0 – This class is for the true beginner with no prior experience in the medium.
URL:https://devfac.coloradocollege.edu/event/thrown-and-altered-ceramics/
LOCATION:Bemis School of Art\, 818 Pelham Pl\, Colorado Springs\, CO\, 80903\, United States
CATEGORIES:Art School
ATTACH;FMTTYPE=image/jpeg:https://devfac.coloradocollege.edu/wp-content/uploads/2022/01/Thrown-and-Altered-Ceramics.jpg
END:VEVENT
END:VCALENDAR