BEGIN:VCALENDAR
VERSION:2.0
PRODID:-//Fine Arts Center - ECPv6.13.0//NONSGML v1.0//EN
CALSCALE:GREGORIAN
METHOD:PUBLISH
X-WR-CALNAME:Fine Arts Center
X-ORIGINAL-URL:https://devfac.coloradocollege.edu
X-WR-CALDESC:Events for Fine Arts Center
REFRESH-INTERVAL;VALUE=DURATION:PT1H
X-Robots-Tag:noindex
X-PUBLISHED-TTL:PT1H
BEGIN:VTIMEZONE
TZID:America/Denver
BEGIN:DAYLIGHT
TZOFFSETFROM:-0700
TZOFFSETTO:-0600
TZNAME:MDT
DTSTART:20220313T090000
END:DAYLIGHT
BEGIN:STANDARD
TZOFFSETFROM:-0600
TZOFFSETTO:-0700
TZNAME:MST
DTSTART:20221106T080000
END:STANDARD
END:VTIMEZONE
BEGIN:VEVENT
DTSTART;TZID=America/Denver:20220311T100000
DTEND;TZID=America/Denver:20220311T130000
DTSTAMP:20260420T084236
CREATED:20220110T192711Z
LAST-MODIFIED:20220110T192711Z
UID:27347-1646992800-1647003600@devfac.coloradocollege.edu
SUMMARY:Tantalizing Textured Mugs
DESCRIPTION:Practice slab construction to hand build tantalizing mugs from textured clay slabs. Build mugs that have three or four feet\, or build four-sided full-bodied forms using fold-up flat patterns. You will not be able to resist filling your mugs with your favorite beverage! \nLevel 0 – This class is for the true beginner with no prior experience in the medium \nSemi-private – limit 5 students
URL:https://devfac.coloradocollege.edu/event/tantalizing-textured-mugs-2/
LOCATION:Bemis School of Art\, 818 Pelham Pl\, Colorado Springs\, CO\, 80903\, United States
CATEGORIES:Art School
ATTACH;FMTTYPE=image/jpeg:https://devfac.coloradocollege.edu/wp-content/uploads/2021/08/Image-Tantalizing-Textured-Mugs500.jpeg
END:VEVENT
BEGIN:VEVENT
DTSTART;TZID=America/Denver:20220224T193000
DTEND;TZID=America/Denver:20220224T213000
DTSTAMP:20260420T084236
CREATED:20210621T204357Z
LAST-MODIFIED:20220117T162156Z
UID:24454-1645731000-1645738200@devfac.coloradocollege.edu
SUMMARY:By the Way\, Meet Vera Stark
DESCRIPTION:A new comedy from Pulitzer Prize-winning playwright Lynn Nottage (Intimate Apparel) draws on the screwball films of the 1930s to take a funny and irreverent look at racial stereotypes in Hollywood. By the Way\, Meet Vera Stark is a seventy-year journey through the life of Vera Stark\, a headstrong Black maid and budding actress\, and her tangled relationship with her boss\, a white Hollywood star desperately trying to hold on to her career. When circumstances collide and both women land roles in the same Southern epic\, the story behind the cameras leaves Vera with a surprising and controversial legacy scholars will debate for years to come. \nWed at 7 p.m.\, Thurs & Fri at 7:30 p.m.\, Sat at 5 or 7:30 p.m.\, Sun Matinées at 2 p.m. \n“The first act\, in which Vera angles for a role\, is in the style of a screwball comedy…. The second act\, which shifts between a 2003 symposium\, steeped in academese\, and a 1973 talk show\, steeped in gin\, is more like a screwball tragedy” —The New York Times \n“A satisfying screwball comedy in which Nottage uses stereotypes to expose them\, tapping into a current of rueful emotion beneath the surface.” —Vogue
URL:https://devfac.coloradocollege.edu/event/by-the-way-meet-vera-stark/
LOCATION:Fine Arts Center\, 30 W. Dale St.\, Colorado Springs\, CO\, 80903\, United States
CATEGORIES:Theatre
ATTACH;FMTTYPE=image/jpeg:https://devfac.coloradocollege.edu/wp-content/uploads/2022/01/vera-stark_500.jpg
END:VEVENT
END:VCALENDAR