BEGIN:VCALENDAR
VERSION:2.0
PRODID:-//Fine Arts Center - ECPv6.13.0//NONSGML v1.0//EN
CALSCALE:GREGORIAN
METHOD:PUBLISH
X-WR-CALNAME:Fine Arts Center
X-ORIGINAL-URL:https://devfac.coloradocollege.edu
X-WR-CALDESC:Events for Fine Arts Center
REFRESH-INTERVAL;VALUE=DURATION:PT1H
X-Robots-Tag:noindex
X-PUBLISHED-TTL:PT1H
BEGIN:VTIMEZONE
TZID:America/Denver
BEGIN:DAYLIGHT
TZOFFSETFROM:-0700
TZOFFSETTO:-0600
TZNAME:MDT
DTSTART:20220313T090000
END:DAYLIGHT
BEGIN:STANDARD
TZOFFSETFROM:-0600
TZOFFSETTO:-0700
TZNAME:MST
DTSTART:20221106T080000
END:STANDARD
END:VTIMEZONE
BEGIN:VEVENT
DTSTART;TZID=America/Denver:20220124T173000
DTEND;TZID=America/Denver:20220124T190000
DTSTAMP:20260420T084242
CREATED:20211220T045128Z
LAST-MODIFIED:20211220T045128Z
UID:26934-1643045400-1643050800@devfac.coloradocollege.edu
SUMMARY:Military Artistic Healing
DESCRIPTION:Discover techniques to inspire creative skills and gain greater self–awareness. Explore possibilities\, develop your creativity\, and gain personal insight through working with a variety of controllable mediums. There are many benefits to using art to express emotions: art can furnish a healthy outlet and an alternate way to communicate something that one cannot always put into words. The art can provide safe containment for emotions that are expressed and reflecting on the art can give new understanding and insight about feelings. Visual thinking strategies will be used to increase group cohesion. Supplies will be provided. \nLevel A – All levels welcome.
URL:https://devfac.coloradocollege.edu/event/military-artistic-healing/
LOCATION:Bemis School of Art\, 818 Pelham Pl\, Colorado Springs\, CO\, 80903\, United States
CATEGORIES:Art School
ATTACH;FMTTYPE=image/jpeg:https://devfac.coloradocollege.edu/wp-content/uploads/2021/08/Image-Military-Artistic-Healing500.jpg
END:VEVENT
END:VCALENDAR