BEGIN:VCALENDAR
VERSION:2.0
PRODID:-//Fine Arts Center - ECPv6.13.0//NONSGML v1.0//EN
CALSCALE:GREGORIAN
METHOD:PUBLISH
X-WR-CALNAME:Fine Arts Center
X-ORIGINAL-URL:https://devfac.coloradocollege.edu
X-WR-CALDESC:Events for Fine Arts Center
REFRESH-INTERVAL;VALUE=DURATION:PT1H
X-Robots-Tag:noindex
X-PUBLISHED-TTL:PT1H
BEGIN:VTIMEZONE
TZID:America/Denver
BEGIN:DAYLIGHT
TZOFFSETFROM:-0700
TZOFFSETTO:-0600
TZNAME:MDT
DTSTART:20220313T090000
END:DAYLIGHT
BEGIN:STANDARD
TZOFFSETFROM:-0600
TZOFFSETTO:-0700
TZNAME:MST
DTSTART:20221106T080000
END:STANDARD
END:VTIMEZONE
BEGIN:VEVENT
DTSTART;VALUE=DATE:20220117
DTEND;VALUE=DATE:20220122
DTSTAMP:20260420T191440
CREATED:20220114T223639Z
LAST-MODIFIED:20220114T223639Z
UID:27459-1642377600-1642809599@devfac.coloradocollege.edu
SUMMARY:CLEO PARKER ROBINSON DANCE ENSEMBLE
DESCRIPTION:In honor of the 2022 Martin Luther King Day Celebrations\nCHECK CASHING DAY and STANDING ON THE SHOULDERS\nJazz speaks for life. The Blues tell the story of life’s difficulties\, and if you think for a moment\, you will realize that they take the hardest realities of life and put them into music\, only to come out with some new hope or sense of triumph. –Dr. Martin Luther King\, Jr. \nThis event is part of a week-long celebration of the legacy of Dr. King organized by Colorado College. View full event list on the Colorado College website.
URL:https://devfac.coloradocollege.edu/event/cleo-parker-robinson-dance-ensemble/
LOCATION:FAC Digital\, CO\, United States
CATEGORIES:Special Event
ATTACH;FMTTYPE=image/jpeg:https://devfac.coloradocollege.edu/wp-content/uploads/2022/01/Cleo-Parker-Robinson-Dance_video2.jpg
END:VEVENT
END:VCALENDAR