BEGIN:VCALENDAR
VERSION:2.0
PRODID:-//Fine Arts Center - ECPv6.13.0//NONSGML v1.0//EN
CALSCALE:GREGORIAN
METHOD:PUBLISH
X-WR-CALNAME:Fine Arts Center
X-ORIGINAL-URL:https://devfac.coloradocollege.edu
X-WR-CALDESC:Events for Fine Arts Center
REFRESH-INTERVAL;VALUE=DURATION:PT1H
X-Robots-Tag:noindex
X-PUBLISHED-TTL:PT1H
BEGIN:VTIMEZONE
TZID:America/Denver
BEGIN:DAYLIGHT
TZOFFSETFROM:-0700
TZOFFSETTO:-0600
TZNAME:MDT
DTSTART:20210314T090000
END:DAYLIGHT
BEGIN:STANDARD
TZOFFSETFROM:-0600
TZOFFSETTO:-0700
TZNAME:MST
DTSTART:20211107T080000
END:STANDARD
END:VTIMEZONE
BEGIN:VEVENT
DTSTART;TZID=America/Denver:20210805T090000
DTEND;TZID=America/Denver:20210805T120000
DTSTAMP:20260421T091705
CREATED:20210510T203155Z
LAST-MODIFIED:20210617T230905Z
UID:23691-1628154000-1628164800@devfac.coloradocollege.edu
SUMMARY:Refine Your Black and White Darkroom Printing Skills
DESCRIPTION:Spend three hours learning to refine your black and white darkroom printing skills with private instruction in contrast filters\, split-filter printing\, cropping\, and positioning for artful presentations. This darkroom experience will help you bring your printing skills to the next level and encourage you to produce prints that you will be excited to enter in local photography exhibitions. Supply list online. Maximum number of students from the same household: 2. Adult \nInstructor: Angela Crews
URL:https://devfac.coloradocollege.edu/event/refine-your-black-and-white-darkroom-printing-skills/
LOCATION:Bemis School of Art\, 818 Pelham Pl\, Colorado Springs\, CO\, 80903\, United States
CATEGORIES:Art School
ATTACH;FMTTYPE=image/jpeg:https://devfac.coloradocollege.edu/wp-content/uploads/2021/05/Refine-Your-BW-Darkroom-Printing-Skills-Crews-Angela500.jpg
END:VEVENT
END:VCALENDAR