BEGIN:VCALENDAR
VERSION:2.0
PRODID:-//Fine Arts Center - ECPv6.13.0//NONSGML v1.0//EN
CALSCALE:GREGORIAN
METHOD:PUBLISH
X-WR-CALNAME:Fine Arts Center
X-ORIGINAL-URL:https://devfac.coloradocollege.edu
X-WR-CALDESC:Events for Fine Arts Center
REFRESH-INTERVAL;VALUE=DURATION:PT1H
X-Robots-Tag:noindex
X-PUBLISHED-TTL:PT1H
BEGIN:VTIMEZONE
TZID:America/Denver
BEGIN:DAYLIGHT
TZOFFSETFROM:-0700
TZOFFSETTO:-0600
TZNAME:MDT
DTSTART:20210314T090000
END:DAYLIGHT
BEGIN:STANDARD
TZOFFSETFROM:-0600
TZOFFSETTO:-0700
TZNAME:MST
DTSTART:20211107T080000
END:STANDARD
END:VTIMEZONE
BEGIN:VEVENT
DTSTART;TZID=America/Denver:20210724T100000
DTEND;TZID=America/Denver:20210724T130000
DTSTAMP:20260421T091708
CREATED:20210510T204220Z
LAST-MODIFIED:20210625T201954Z
UID:23736-1627120800-1627131600@devfac.coloradocollege.edu
SUMMARY:Ceramic Serving Set
DESCRIPTION:Dive into this crash course in ceramics\, using handbuilding techniques to create your own tableware. You will be presented with project ideas from which you will design\, create\, and glaze a small set of unique utilitarian ware based on the slab\, coil\, strap\, and molding techniques demonstrated. Supply list online. Maximum number of students from the same household: 5. Adults \nInstructor: Cara McKinley
URL:https://devfac.coloradocollege.edu/event/ceramic-serving-set/
LOCATION:Bemis School of Art\, 818 Pelham Pl\, Colorado Springs\, CO\, 80903\, United States
CATEGORIES:Art School
ATTACH;FMTTYPE=image/jpeg:https://devfac.coloradocollege.edu/wp-content/uploads/2021/05/Ceramic-Serving-Set-McKinley-Cara500.jpg
END:VEVENT
BEGIN:VEVENT
DTSTART;TZID=America/Denver:20210626T100000
DTEND;TZID=America/Denver:20210626T140000
DTSTAMP:20260421T091708
CREATED:20210524T231840Z
LAST-MODIFIED:20210710T002526Z
UID:24007-1624701600-1624716000@devfac.coloradocollege.edu
SUMMARY:City as a Venue: Front Range Fables
DESCRIPTION:Three fantastical fairy tales based on historic events in the Pike’s Peak region\, to entertain\, educate\, and foster empathy. By filtering these stories through the lens of Fairy Tale and Fable\, we invite students to experience history in a very approachable manner. These plays are written by three local playwrights and will be cast with 15 local actors. Each play will be performed 3 times allowing for many families to socially distance view the productions in each location. June 26 FAC Outdoor Stage | July 3 | Hillside Community Center | July 10 | Meadows Park | July 17 | Acacia Park Bandshell | July 24 | Deerfield Hills Community Center | Aug. 7 | Concrete Coyote \nPre-registration encouraged
URL:https://devfac.coloradocollege.edu/event/front-range-fables/
LOCATION:Colorado
CATEGORIES:Theatre
ATTACH;FMTTYPE=image/jpeg:https://devfac.coloradocollege.edu/wp-content/uploads/2021/05/front-range-fables_500.jpg
END:VEVENT
BEGIN:VEVENT
DTSTART;TZID=America/Denver:20210724T130000
DTEND;TZID=America/Denver:20210724T160000
DTSTAMP:20260421T091708
CREATED:20210602T152347Z
LAST-MODIFIED:20210714T210112Z
UID:24184-1627131600-1627142400@devfac.coloradocollege.edu
SUMMARY:City as a Venue: Musical Theatre Concert
DESCRIPTION:Saturdays in the Park with the FAC\nFREE – pre-registration recommended | Acacia Park Bandshell \nFine Arts Center Pit Orchestra\nREgister for 1 p.m. performance \nJoin the Fine Arts Center Pit Orchestra for a special outdoor performance downtown. Big Band\, swing and musical theatre are all part of this joyful walk down memory lane. With special guest vocalists and FAC favorites Jennifer DeDominici and Nathan Halvorson joining in to bring back fond memories of the musical theatre history of the FAC! \nJerry McCauley and Friends\nRegister for 2:30 p.m. performance\nJoin Jerry McCauley and Friends (Kelli Dodd\, Rebecca Myers\, Cheerish Martin\, Aria McCauley\, Miranda McCauley\, Miriam Roth) for an afternoon of songs and storytelling! Classical\, R&B\, pop\, musical theatre — you’ll be pulled into the rich narrative of Jerry’s four decades as a pianist\, singer\, and music director. Making music and telling stories from behind the piano has always been where Jerry feels most alive\, and he wants to share that joy with you!
URL:https://devfac.coloradocollege.edu/event/saturdays-in-the-park-with-the-fac-musical-theatre-concert/
LOCATION:Colorado
CATEGORIES:Special Event
ATTACH;FMTTYPE=image/jpeg:https://devfac.coloradocollege.edu/wp-content/uploads/2021/06/fac-pit-orchestra_500.jpg
END:VEVENT
END:VCALENDAR