BEGIN:VCALENDAR
VERSION:2.0
PRODID:-//Fine Arts Center - ECPv6.13.0//NONSGML v1.0//EN
CALSCALE:GREGORIAN
METHOD:PUBLISH
X-WR-CALNAME:Fine Arts Center
X-ORIGINAL-URL:https://devfac.coloradocollege.edu
X-WR-CALDESC:Events for Fine Arts Center
REFRESH-INTERVAL;VALUE=DURATION:PT1H
X-Robots-Tag:noindex
X-PUBLISHED-TTL:PT1H
BEGIN:VTIMEZONE
TZID:America/Denver
BEGIN:DAYLIGHT
TZOFFSETFROM:-0700
TZOFFSETTO:-0600
TZNAME:MDT
DTSTART:20210314T090000
END:DAYLIGHT
BEGIN:STANDARD
TZOFFSETFROM:-0600
TZOFFSETTO:-0700
TZNAME:MST
DTSTART:20211107T080000
END:STANDARD
END:VTIMEZONE
BEGIN:VEVENT
DTSTART;TZID=America/Denver:20210626T100000
DTEND;TZID=America/Denver:20210626T140000
DTSTAMP:20260421T091713
CREATED:20210524T231840Z
LAST-MODIFIED:20210710T002526Z
UID:24007-1624701600-1624716000@devfac.coloradocollege.edu
SUMMARY:City as a Venue: Front Range Fables
DESCRIPTION:Three fantastical fairy tales based on historic events in the Pike’s Peak region\, to entertain\, educate\, and foster empathy. By filtering these stories through the lens of Fairy Tale and Fable\, we invite students to experience history in a very approachable manner. These plays are written by three local playwrights and will be cast with 15 local actors. Each play will be performed 3 times allowing for many families to socially distance view the productions in each location. June 26 FAC Outdoor Stage | July 3 | Hillside Community Center | July 10 | Meadows Park | July 17 | Acacia Park Bandshell | July 24 | Deerfield Hills Community Center | Aug. 7 | Concrete Coyote \nPre-registration encouraged
URL:https://devfac.coloradocollege.edu/event/front-range-fables/
LOCATION:Colorado
CATEGORIES:Theatre
ATTACH;FMTTYPE=image/jpeg:https://devfac.coloradocollege.edu/wp-content/uploads/2021/05/front-range-fables_500.jpg
END:VEVENT
BEGIN:VEVENT
DTSTART;TZID=America/Denver:20210710T180000
DTEND;TZID=America/Denver:20210710T223000
DTSTAMP:20260421T091713
CREATED:20210602T150429Z
LAST-MODIFIED:20210701T004720Z
UID:24182-1625940000-1625956200@devfac.coloradocollege.edu
SUMMARY:City as a Venue: EPIC Concert & The World of Us film screening
DESCRIPTION:Saturdays in the Park with the FAC\nA double feature of music and film screening of The World of Us for the whole family \nFREE – pre-registration recommended | Acacia Park Bandshell \nEPIC Concert\nJoin us in the park for an hour of non-stuffy chamber music (classical and new music) from EPIC (Educational Partnerships Immersive Concerts). EPIC is a non-profit music society of classical musicians dedicated to bringing a fresh approach to their craft\, combining classical music with other genres. EPIC performs in a relaxed atmosphere\, inviting questions and audience interaction. Top quality live chamber music performed by Colorado’s top professional musicians. Find out more \nThe World of Us film screening (brought to you by CC Mobile Arts)\nIn this award-winning coming of age tale\, two young friends\, Sun and Jia\, go through the ups and downs of youth. Sun is a transfer student who befriends Jia and forms a strong bond. However\, when Sun faces bullying from those around her\, she finds her friendship in a hard place. Watch film trailer \n Follow CC Mobile Arts Truck on Facebook.\nRegister for EPIC concert (6 p.m.)\nRegister for The World of Us film screening (8:30 p.m.)
URL:https://devfac.coloradocollege.edu/event/saturdays-in-the-park-with-the-fac-e-p-i-c-concert-film/
LOCATION:Colorado
CATEGORIES:Special Event
ATTACH;FMTTYPE=image/jpeg:https://devfac.coloradocollege.edu/wp-content/uploads/2021/05/City-as-a-venue_500.jpg
END:VEVENT
END:VCALENDAR