BEGIN:VCALENDAR
VERSION:2.0
PRODID:-//Fine Arts Center - ECPv6.13.0//NONSGML v1.0//EN
CALSCALE:GREGORIAN
METHOD:PUBLISH
X-WR-CALNAME:Fine Arts Center
X-ORIGINAL-URL:https://devfac.coloradocollege.edu
X-WR-CALDESC:Events for Fine Arts Center
REFRESH-INTERVAL;VALUE=DURATION:PT1H
X-Robots-Tag:noindex
X-PUBLISHED-TTL:PT1H
BEGIN:VTIMEZONE
TZID:America/Denver
BEGIN:DAYLIGHT
TZOFFSETFROM:-0700
TZOFFSETTO:-0600
TZNAME:MDT
DTSTART:20200308T090000
END:DAYLIGHT
BEGIN:STANDARD
TZOFFSETFROM:-0600
TZOFFSETTO:-0700
TZNAME:MST
DTSTART:20201101T080000
END:STANDARD
END:VTIMEZONE
BEGIN:VEVENT
DTSTART;VALUE=DATE:20200917
DTEND;VALUE=DATE:20200918
DTSTAMP:20260422T000231
CREATED:20200818T152447Z
LAST-MODIFIED:20200818T152528Z
UID:19303-1600300800-1600387199@devfac.coloradocollege.edu
SUMMARY:Of Spacious Skies: An Audio Play Anthology Series
DESCRIPTION:Using the Golden Age of Radio Plays as the jumping off point\, our intrepid team of artists\, has created 12 weekly episodes of a series which highlights the past\, present and future of Colorado Springs\, with Pikes Peak as our center point. While it is best to experience the series as released\, and recognized as a complete omnibus\, each 15-minute episode can be listened to individually and in any order.
URL:https://devfac.coloradocollege.edu/event/of-spacious-skies/
LOCATION:FAC Digital\, CO\, United States
CATEGORIES:Theatre
ATTACH;FMTTYPE=image/jpeg:https://devfac.coloradocollege.edu/wp-content/uploads/2020/04/of-Spacious-Skies-500.jpg
END:VEVENT
BEGIN:VEVENT
DTSTART;TZID=America/Denver:20201001T190000
DTEND;TZID=America/Denver:20201001T203000
DTSTAMP:20260422T000231
CREATED:20200909T161501Z
LAST-MODIFIED:20200909T161501Z
UID:19666-1601578800-1601584200@devfac.coloradocollege.edu
SUMMARY:Virtual FAC Play Club!
DESCRIPTION:First Thursday of the month\, Oct. 1–May 6 (8 sessions) 7–8:30 p.m. \nJoin FAC Theatre Company’s Producing Artistic Director\, Scott RC Levy\, for lively conversations about plays! It’s a book club for play lovers! Each month\, a new play will be dissected\, discussed and celebrated. 
URL:https://devfac.coloradocollege.edu/event/virtual-fac-play-club/
LOCATION:Virtual
CATEGORIES:Theatre
ATTACH;FMTTYPE=image/jpeg:https://devfac.coloradocollege.edu/wp-content/uploads/2019/03/stand-up-comedy-class_500.jpg
END:VEVENT
END:VCALENDAR