BEGIN:VCALENDAR
VERSION:2.0
PRODID:-//Fine Arts Center - ECPv6.13.0//NONSGML v1.0//EN
CALSCALE:GREGORIAN
METHOD:PUBLISH
X-WR-CALNAME:Fine Arts Center
X-ORIGINAL-URL:https://devfac.coloradocollege.edu
X-WR-CALDESC:Events for Fine Arts Center
REFRESH-INTERVAL;VALUE=DURATION:PT1H
X-Robots-Tag:noindex
X-PUBLISHED-TTL:PT1H
BEGIN:VTIMEZONE
TZID:America/Denver
BEGIN:DAYLIGHT
TZOFFSETFROM:-0700
TZOFFSETTO:-0600
TZNAME:MDT
DTSTART:20200308T090000
END:DAYLIGHT
BEGIN:STANDARD
TZOFFSETFROM:-0600
TZOFFSETTO:-0700
TZNAME:MST
DTSTART:20201101T080000
END:STANDARD
END:VTIMEZONE
BEGIN:VEVENT
DTSTART;VALUE=DATE:20201001
DTEND;VALUE=DATE:20201101
DTSTAMP:20260420T223107
CREATED:20200929T231015Z
LAST-MODIFIED:20201006T144128Z
UID:20373-1601510400-1604188799@devfac.coloradocollege.edu
SUMMARY:October is Arts Month
DESCRIPTION:Have at least one new cultural experience with family for friends this October.
URL:https://devfac.coloradocollege.edu/event/october-is-arts-month/
LOCATION:Virtual
CATEGORIES:Calendar
ATTACH;FMTTYPE=image/jpeg:https://devfac.coloradocollege.edu/wp-content/uploads/2020/09/ArtsMonth_image_general_TheatreFilm_1080x1080_text-e1601420739816.jpg
END:VEVENT
BEGIN:VEVENT
DTSTART;TZID=America/Denver:20200926T090000
DTEND;TZID=America/Denver:20200926T110000
DTSTAMP:20260420T223107
CREATED:20200909T175214Z
LAST-MODIFIED:20201008T144143Z
UID:19762-1601110800-1601118000@devfac.coloradocollege.edu
SUMMARY:Plein Air Painting: Fall Landscapes in Colorado
DESCRIPTION:Experience the thrill of painting outdoors in Colorado! Create compositions using thumbnail value sketches & learn to see and paint color harmony with a limited palette. Classes will be on location around Colorado Springs\, so reliable transportation is a must. Adults
URL:https://devfac.coloradocollege.edu/event/plein-air-painting-fall-landscapes-in-colorado/
LOCATION:Colorado
CATEGORIES:Art School
ATTACH;FMTTYPE=image/jpeg:https://devfac.coloradocollege.edu/wp-content/uploads/2020/09/Plein-Air-Painting.jpg
END:VEVENT
BEGIN:VEVENT
DTSTART;TZID=America/Denver:20200926T130000
DTEND;TZID=America/Denver:20200926T143000
DTSTAMP:20260420T223107
CREATED:20200909T175614Z
LAST-MODIFIED:20201001T194003Z
UID:19767-1601125200-1601130600@devfac.coloradocollege.edu
SUMMARY:Virtual: Beyond Reality
DESCRIPTION:Are you feeling a little tired of strict realism in your paintings\, but just don’t know how to break away? In this virtual course\, you will be lead through exercises designed to bring more abstraction\, excitement\, & passion to your work. This course includes live Zoom class sessions & pre-recorded content. Adults
URL:https://devfac.coloradocollege.edu/event/virtual-beyond-reality/
LOCATION:Virtual
CATEGORIES:Art School
ATTACH;FMTTYPE=image/jpeg:https://devfac.coloradocollege.edu/wp-content/uploads/2020/09/Beyond-Reality.jpg
END:VEVENT
END:VCALENDAR