BEGIN:VCALENDAR
VERSION:2.0
PRODID:-//Fine Arts Center - ECPv6.13.0//NONSGML v1.0//EN
CALSCALE:GREGORIAN
METHOD:PUBLISH
X-WR-CALNAME:Fine Arts Center
X-ORIGINAL-URL:https://devfac.coloradocollege.edu
X-WR-CALDESC:Events for Fine Arts Center
REFRESH-INTERVAL;VALUE=DURATION:PT1H
X-Robots-Tag:noindex
X-PUBLISHED-TTL:PT1H
BEGIN:VTIMEZONE
TZID:America/Denver
BEGIN:DAYLIGHT
TZOFFSETFROM:-0700
TZOFFSETTO:-0600
TZNAME:MDT
DTSTART:20200308T090000
END:DAYLIGHT
BEGIN:STANDARD
TZOFFSETFROM:-0600
TZOFFSETTO:-0700
TZNAME:MST
DTSTART:20201101T080000
END:STANDARD
END:VTIMEZONE
BEGIN:VEVENT
DTSTART;VALUE=DATE:20200916
DTEND;VALUE=DATE:20200917
DTSTAMP:20260420T223101
CREATED:20200915T201912Z
LAST-MODIFIED:20200915T203046Z
UID:19979-1600214400-1600300799@devfac.coloradocollege.edu
SUMMARY:Ask A Curator Day
DESCRIPTION:#AskaCurator is an international social media event that gives the public access to the passionate experts who work in museums\, galleries\, and heritage sites around the world. Queries from years past include: \n\nWhat’s the most interesting thing you’ve seen on the back of a painting/artwork?\nIf you could add any object to your collection\, what would it be?\nDo art curators secretly wish they had dinosaurs?\n\nBlair Huff\, Michael Lorusso\, and Katja Rivera will be representing the FAC. They’ll be taking over our Instagram for the day and doing a short Facebook/YouTube live during lunch. \nJOIN THE FUN \nTag the FAC and use the hashtag #AskaCurator to submit a question. Like and share your favorite questions!
URL:https://devfac.coloradocollege.edu/event/ask-a-curator-day/
LOCATION:Virtual
CATEGORIES:Museum
ATTACH;FMTTYPE=image/jpeg:https://devfac.coloradocollege.edu/wp-content/uploads/2020/09/Ask-a-curtator_500.jpg
END:VEVENT
END:VCALENDAR