BEGIN:VCALENDAR
VERSION:2.0
PRODID:-//Fine Arts Center - ECPv6.13.0//NONSGML v1.0//EN
CALSCALE:GREGORIAN
METHOD:PUBLISH
X-WR-CALNAME:Fine Arts Center
X-ORIGINAL-URL:https://devfac.coloradocollege.edu
X-WR-CALDESC:Events for Fine Arts Center
REFRESH-INTERVAL;VALUE=DURATION:PT1H
X-Robots-Tag:noindex
X-PUBLISHED-TTL:PT1H
BEGIN:VTIMEZONE
TZID:America/Denver
BEGIN:DAYLIGHT
TZOFFSETFROM:-0700
TZOFFSETTO:-0600
TZNAME:MDT
DTSTART:20200308T090000
END:DAYLIGHT
BEGIN:STANDARD
TZOFFSETFROM:-0600
TZOFFSETTO:-0700
TZNAME:MST
DTSTART:20201101T080000
END:STANDARD
END:VTIMEZONE
BEGIN:VEVENT
DTSTART;TZID=America/Denver:20200814T180000
DTEND;TZID=America/Denver:20200814T190000
DTSTAMP:20260420T205534
CREATED:20200814T152750Z
LAST-MODIFIED:20200814T152750Z
UID:19218-1597428000-1597431600@devfac.coloradocollege.edu
SUMMARY:FAC Theatre Live Stream
DESCRIPTION:Join us for a live stream conversation with the FAC Theatre Company\, featuring the writers for our upcoming audio play series\, Of Spacious Skies.
URL:https://devfac.coloradocollege.edu/event/fac-theatre-live-stream/
LOCATION:Virtual
CATEGORIES:Theatre
ATTACH;FMTTYPE=image/jpeg:https://devfac.coloradocollege.edu/wp-content/uploads/2020/08/of-Spacious-Skies-500.jpg
END:VEVENT
END:VCALENDAR