BEGIN:VCALENDAR
VERSION:2.0
PRODID:-//Fine Arts Center - ECPv6.13.0//NONSGML v1.0//EN
CALSCALE:GREGORIAN
METHOD:PUBLISH
X-WR-CALNAME:Fine Arts Center
X-ORIGINAL-URL:https://devfac.coloradocollege.edu
X-WR-CALDESC:Events for Fine Arts Center
REFRESH-INTERVAL;VALUE=DURATION:PT1H
X-Robots-Tag:noindex
X-PUBLISHED-TTL:PT1H
BEGIN:VTIMEZONE
TZID:America/Denver
BEGIN:DAYLIGHT
TZOFFSETFROM:-0700
TZOFFSETTO:-0600
TZNAME:MDT
DTSTART:20200308T090000
END:DAYLIGHT
BEGIN:STANDARD
TZOFFSETFROM:-0600
TZOFFSETTO:-0700
TZNAME:MST
DTSTART:20201101T080000
END:STANDARD
END:VTIMEZONE
BEGIN:VEVENT
DTSTART;TZID=America/Denver:20200305T170000
DTEND;TZID=America/Denver:20200305T190000
DTSTAMP:20260420T070954
CREATED:20200227T214825Z
LAST-MODIFIED:20200227T222629Z
UID:14614-1583427600-1583434800@devfac.coloradocollege.edu
SUMMARY:Community Gathering with Emanuel Martinez\, Lucha Martinez de Luna\, and Jerry Vigil
DESCRIPTION:Please join us for a community gathering honoring Emanuel Martinez (internationally renowned muralist\, painter and sculptor) and Lucha Martinez de Luna (Chicano Murals of Colorado Project) along with special guest\, local artist Jerry Vigil. Remarks from Dr. Nancy Ríos\, Department of Southwest Studies. \nFree Admission.\nRefreshments Provided. \nSponsored by Andrew W. Mellon Foundation Grant for Southwest Arts and Culture and Hulbert Center for Southwest Studies. \nImage: Emanuel Martinez\, Arte Mestiza (detail)\, 1986\, acrylic on concrete; located in the FAC parking lot
URL:https://devfac.coloradocollege.edu/event/community-gathering-honoring-emanuel-martinez-and-lucha-martinez-de-luna/
LOCATION:Fine Arts Center\, 30 W. Dale St.\, Colorado Springs\, CO\, 80903\, United States
CATEGORIES:Museum
ATTACH;FMTTYPE=image/jpeg:https://devfac.coloradocollege.edu/wp-content/uploads/2020/02/Emanuel-Martinez_Arte-Mestiza.jpg
END:VEVENT
END:VCALENDAR