BEGIN:VCALENDAR
VERSION:2.0
PRODID:-//Fine Arts Center - ECPv6.13.0//NONSGML v1.0//EN
CALSCALE:GREGORIAN
METHOD:PUBLISH
X-WR-CALNAME:Fine Arts Center
X-ORIGINAL-URL:https://devfac.coloradocollege.edu
X-WR-CALDESC:Events for Fine Arts Center
REFRESH-INTERVAL;VALUE=DURATION:PT1H
X-Robots-Tag:noindex
X-PUBLISHED-TTL:PT1H
BEGIN:VTIMEZONE
TZID:America/Denver
BEGIN:DAYLIGHT
TZOFFSETFROM:-0700
TZOFFSETTO:-0600
TZNAME:MDT
DTSTART:20200308T090000
END:DAYLIGHT
BEGIN:STANDARD
TZOFFSETFROM:-0600
TZOFFSETTO:-0700
TZNAME:MST
DTSTART:20201101T080000
END:STANDARD
END:VTIMEZONE
BEGIN:VEVENT
DTSTART;TZID=America/Denver:20200213T193000
DTEND;TZID=America/Denver:20200213T213000
DTSTAMP:20260420T001644
CREATED:20190402T184602Z
LAST-MODIFIED:20200131T182449Z
UID:10679-1581622200-1581629400@devfac.coloradocollege.edu
SUMMARY:The Bridges of Madison County
DESCRIPTION:The Tony Award-Winning New Musical on stage Feb. 13-March 1. Francesca Johnson\, a beautiful Italian woman who married an American soldier to flee war-ravaged Italy\, looks forward to a rare four days alone on her Iowa farm when her family heads to the 1965 State Fair. When ruggedly handsome\, National Geographic photographer\, Robert Kincaid\, pulls into her driveway seeking directions\, though\, what happens in those four days may very well alter the course of Francesca’s life.
URL:https://devfac.coloradocollege.edu/event/the-bridges-of-madison-county/
LOCATION:Fine Arts Center\, 30 W. Dale St.\, Colorado Springs\, CO\, 80903\, United States
CATEGORIES:Theatre
ATTACH;FMTTYPE=image/jpeg:https://devfac.coloradocollege.edu/wp-content/uploads/2019/04/bridges-of-madison-county_500.jpg
END:VEVENT
END:VCALENDAR