BEGIN:VCALENDAR
VERSION:2.0
PRODID:-//Fine Arts Center - ECPv6.13.0//NONSGML v1.0//EN
CALSCALE:GREGORIAN
METHOD:PUBLISH
X-WR-CALNAME:Fine Arts Center
X-ORIGINAL-URL:https://devfac.coloradocollege.edu
X-WR-CALDESC:Events for Fine Arts Center
REFRESH-INTERVAL;VALUE=DURATION:PT1H
X-Robots-Tag:noindex
X-PUBLISHED-TTL:PT1H
BEGIN:VTIMEZONE
TZID:America/Denver
BEGIN:DAYLIGHT
TZOFFSETFROM:-0700
TZOFFSETTO:-0600
TZNAME:MDT
DTSTART:20190310T090000
END:DAYLIGHT
BEGIN:STANDARD
TZOFFSETFROM:-0600
TZOFFSETTO:-0700
TZNAME:MST
DTSTART:20191103T080000
END:STANDARD
BEGIN:DAYLIGHT
TZOFFSETFROM:-0700
TZOFFSETTO:-0600
TZNAME:MDT
DTSTART:20200308T090000
END:DAYLIGHT
BEGIN:STANDARD
TZOFFSETFROM:-0600
TZOFFSETTO:-0700
TZNAME:MST
DTSTART:20201101T080000
END:STANDARD
END:VTIMEZONE
BEGIN:VEVENT
DTSTART;TZID=America/Denver:20191214T110000
DTEND;TZID=America/Denver:20191214T130000
DTSTAMP:20260419T171838
CREATED:20190729T135414Z
LAST-MODIFIED:20190729T135414Z
UID:12839-1576321200-1576328400@devfac.coloradocollege.edu
SUMMARY:Sound of Music Day Camps
DESCRIPTION:Delight your young emerging artist in a magical holiday experience they won’t soon forget. Our Day Camps offer kids 6-13 a fun\, educational adventure complete with a tour of the theatre\, hands-on experiences with the set\, a personal meet-and-greet with the cast members\, and more! Cost is $30 per child (please bring a sack lunch if you are staying for the show). Performance tickets to The Sound of Music are additional.
URL:https://devfac.coloradocollege.edu/event/sound-of-music-day-camps/
LOCATION:Fine Arts Center\, 30 W. Dale St.\, Colorado Springs\, CO\, 80903\, United States
CATEGORIES:Theatre
ATTACH;FMTTYPE=image/jpeg:https://devfac.coloradocollege.edu/wp-content/uploads/2019/04/day-camp_500.jpg
END:VEVENT
BEGIN:VEVENT
DTSTART;TZID=America/Denver:20200111T200000
DTEND;TZID=America/Denver:20200111T213000
DTSTAMP:20260419T171838
CREATED:20191217T235213Z
LAST-MODIFIED:20200106T224217Z
UID:13998-1578772800-1578778200@devfac.coloradocollege.edu
SUMMARY:A cabaret featuring the company of The Sound of Music
DESCRIPTION:Join the company of The Sound of Music for an extra special cabaret evening\, featuring songs NOT in The Sound of Music \nSaturday\, January 11\, 2020\n8 p.m.\nFine Arts Center’s Deco Lounge \nFeaturing Jerry McCauley on the Keys and Lauren Lukacek (Maria) and Trevor Martin (Captain von Trapp) as your Emcee’s \nSuggested Donation: $10 at the door all to benefit the FAC Theatre School \nCash Bar
URL:https://devfac.coloradocollege.edu/event/a-cabaret-featuring-the-company-of-the-sound-of-music/
LOCATION:Fine Arts Center\, 30 W. Dale St.\, Colorado Springs\, CO\, 80903\, United States
CATEGORIES:Special Event,Theatre
ATTACH;FMTTYPE=image/jpeg:https://devfac.coloradocollege.edu/wp-content/uploads/2019/12/1080x1080_sound-of-music-cabaret.jpg
END:VEVENT
END:VCALENDAR