BEGIN:VCALENDAR
VERSION:2.0
PRODID:-//Fine Arts Center - ECPv6.13.0//NONSGML v1.0//EN
CALSCALE:GREGORIAN
METHOD:PUBLISH
X-WR-CALNAME:Fine Arts Center
X-ORIGINAL-URL:https://devfac.coloradocollege.edu
X-WR-CALDESC:Events for Fine Arts Center
REFRESH-INTERVAL;VALUE=DURATION:PT1H
X-Robots-Tag:noindex
X-PUBLISHED-TTL:PT1H
BEGIN:VTIMEZONE
TZID:America/Denver
BEGIN:DAYLIGHT
TZOFFSETFROM:-0700
TZOFFSETTO:-0600
TZNAME:MDT
DTSTART:20190310T090000
END:DAYLIGHT
BEGIN:STANDARD
TZOFFSETFROM:-0600
TZOFFSETTO:-0700
TZNAME:MST
DTSTART:20191103T080000
END:STANDARD
END:VTIMEZONE
BEGIN:VEVENT
DTSTART;TZID=America/Denver:20191205T150000
DTEND;TZID=America/Denver:20191205T180000
DTSTAMP:20260419T125609
CREATED:20191114T221848Z
LAST-MODIFIED:20191114T221849Z
UID:13734-1575558000-1575568800@devfac.coloradocollege.edu
SUMMARY:FAC Member Shopping Event: Holiday Edition
DESCRIPTION:Get an early start on your holiday shopping and enjoy a festive afternoon in the Museum Shop! We have many unique finds to satisfy even the hardest to shop for on your list. 20% discount and 15% discount on consignment items. Enjoy hot cocoa\, hot apple cider\, and some yummy treats!
URL:https://devfac.coloradocollege.edu/event/fac-member-shopping-event-holiday-edition/
LOCATION:Fine Arts Center\, 30 W. Dale St.\, Colorado Springs\, CO\, 80903\, United States
CATEGORIES:Calendar
ATTACH;FMTTYPE=image/jpeg:https://devfac.coloradocollege.edu/wp-content/uploads/2019/11/mem_holiday-shopping-image_500.jpg
END:VEVENT
END:VCALENDAR