BEGIN:VCALENDAR
VERSION:2.0
PRODID:-//Fine Arts Center - ECPv6.13.0//NONSGML v1.0//EN
CALSCALE:GREGORIAN
METHOD:PUBLISH
X-WR-CALNAME:Fine Arts Center
X-ORIGINAL-URL:https://devfac.coloradocollege.edu
X-WR-CALDESC:Events for Fine Arts Center
REFRESH-INTERVAL;VALUE=DURATION:PT1H
X-Robots-Tag:noindex
X-PUBLISHED-TTL:PT1H
BEGIN:VTIMEZONE
TZID:America/Denver
BEGIN:DAYLIGHT
TZOFFSETFROM:-0700
TZOFFSETTO:-0600
TZNAME:MDT
DTSTART:20190310T090000
END:DAYLIGHT
BEGIN:STANDARD
TZOFFSETFROM:-0600
TZOFFSETTO:-0700
TZNAME:MST
DTSTART:20191103T080000
END:STANDARD
END:VTIMEZONE
BEGIN:VEVENT
DTSTART;TZID=America/Denver:20191025T173000
DTEND;TZID=America/Denver:20191025T190000
DTSTAMP:20260419T065820
CREATED:20191010T223359Z
LAST-MODIFIED:20191015T205733Z
UID:13461-1572024600-1572030000@devfac.coloradocollege.edu
SUMMARY:Natanya Ann Pulley Book Launch & Reading
DESCRIPTION:Join Natanya Ann Pulley for a reading from her new book\, WITH TEETH. Reception to follow. Free copy for the first 50 attendees. \nExperimenting with voice\, form\, and genre\, Pulley crafts a chorus of women voices who are in the process of reclaiming and telling their own stories as they slip through the cracks of our spatial and temporal reality. This collection explores how we tell stories\, personally and collectively as a society\, as we become stories ourselves. Through turns—haunting\, playful\, tragic\, and comedic—Pulley crafts a surreal fever-dream collection that will linger long after you finish reading. \nWITH TEETH is Natanya’s debut story collection and the winner of the 2018 Many Voices Project Prize through New Rivers Press. She is a Diné writer (Kinyaa’áani dóó Táchii’nii) from Utah residing in Colorado Springs. Natanya is the founding editor of Hairstreak Butterfly Review and teaches texts by Native American writers\, Fiction Writing\, and Experimental Forms at Colorado College. \nPresented by: The Colorado Springs Fine Arts Center at Colorado College\, The Andrew W. Mellon Foundation Grant for Southwest Arts and Culture\, and National Endowment for the Humanities Grant
URL:https://devfac.coloradocollege.edu/event/natanya-anne-pulley-book-launch-reading/
LOCATION:Fine Arts Center\, 30 W. Dale St.\, Colorado Springs\, CO\, 80903\, United States
CATEGORIES:Museum,Special Event
ATTACH;FMTTYPE=image/jpeg:https://devfac.coloradocollege.edu/wp-content/uploads/2019/10/Natanya-Pulley-Book-With-Teeth_Cover.jpg
END:VEVENT
BEGIN:VEVENT
DTSTART;TZID=America/Denver:20191025T193000
DTEND;TZID=America/Denver:20191025T213000
DTSTAMP:20260419T065820
CREATED:20190402T161728Z
LAST-MODIFIED:20191021T162106Z
UID:10556-1572031800-1572039000@devfac.coloradocollege.edu
SUMMARY:Carrie the Musical: A Staged Concert (SOLD OUT!)
DESCRIPTION:Carrie White is a misfit. At school\, she’s an outcast who’s bullied by the popular crowd\, and virtually invisible to everyone else. At home\, she’s at the mercy of her loving but cruelly over-protective mother. But Carrie’s just discovered she’s got a special power\, and if pushed too far\, she’s not afraid to use it…
URL:https://devfac.coloradocollege.edu/event/carrie-the-musical-a-staged-concert/
LOCATION:Fine Arts Center\, 30 W. Dale St.\, Colorado Springs\, CO\, 80903\, United States
CATEGORIES:Theatre
ATTACH;FMTTYPE=image/jpeg:https://devfac.coloradocollege.edu/wp-content/uploads/2019/03/Carrie_500.jpg
END:VEVENT
END:VCALENDAR