BEGIN:VCALENDAR
VERSION:2.0
PRODID:-//Fine Arts Center - ECPv6.13.0//NONSGML v1.0//EN
CALSCALE:GREGORIAN
METHOD:PUBLISH
X-WR-CALNAME:Fine Arts Center
X-ORIGINAL-URL:https://devfac.coloradocollege.edu
X-WR-CALDESC:Events for Fine Arts Center
REFRESH-INTERVAL;VALUE=DURATION:PT1H
X-Robots-Tag:noindex
X-PUBLISHED-TTL:PT1H
BEGIN:VTIMEZONE
TZID:America/Denver
BEGIN:DAYLIGHT
TZOFFSETFROM:-0700
TZOFFSETTO:-0600
TZNAME:MDT
DTSTART:20190310T090000
END:DAYLIGHT
BEGIN:STANDARD
TZOFFSETFROM:-0600
TZOFFSETTO:-0700
TZNAME:MST
DTSTART:20191103T080000
END:STANDARD
END:VTIMEZONE
BEGIN:VEVENT
DTSTART;TZID=America/Denver:20190929T140000
DTEND;TZID=America/Denver:20190929T160000
DTSTAMP:20260419T082819
CREATED:20240507T211218Z
LAST-MODIFIED:20240507T211218Z
UID:34872-1569765600-1569772800@devfac.coloradocollege.edu
SUMMARY:The Curious Incident of the Dog in the Night-Time
DESCRIPTION:Fifteen-year-old Christopher has an extraordinary brain. He is exceptional at mathematics but ill-equipped to interpret everyday life. He has never ventured alone beyond the end of his road\, he detests being touched\, and he distrusts strangers. It’s seven minutes after midnight and Christopher stands beside his neighbor’s dead dog\, Wellington\, who has been speared with a garden fork. Finding himself under suspicion\, Christopher is determined to solve the mystery of who murdered Wellington\, and he carefully records each fact of the crime. His detective work\, forbidden by his father\, takes him on a thrilling journey that upturns his world.
URL:https://devfac.coloradocollege.edu/event/the-curious-incident-of-the-dog-in-the-night-time/
LOCATION:Fine Arts Center\, 30 W. Dale St.\, Colorado Springs\, CO\, 80903\, United States
CATEGORIES:Theatre
ATTACH;FMTTYPE=image/jpeg:https://devfac.coloradocollege.edu/wp-content/uploads/2019/03/The-Curious-Incident-of-the-Dog-in-the-Night-Time_500.jpg
END:VEVENT
BEGIN:VEVENT
DTSTART;TZID=America/Denver:20191020T163000
DTEND;TZID=America/Denver:20191020T173000
DTSTAMP:20260419T082819
CREATED:20190402T145305Z
LAST-MODIFIED:20190405T185126Z
UID:10429-1571589000-1571592600@devfac.coloradocollege.edu
SUMMARY:The Curious Incident of the Dog in the Night-Time: Talkback
DESCRIPTION:Join us for a FREE talkback session following the final Sunday performance.
URL:https://devfac.coloradocollege.edu/event/the-curious-incident-of-the-dog-in-the-night-time-talkback/
LOCATION:Fine Arts Center\, 30 W. Dale St.\, Colorado Springs\, CO\, 80903\, United States
CATEGORIES:Theatre
ATTACH;FMTTYPE=image/jpeg:https://devfac.coloradocollege.edu/wp-content/uploads/2019/03/The-Curious-Incident-of-the-Dog-in-the-Night-Time_500.jpg
END:VEVENT
END:VCALENDAR